BEGIN:VCALENDAR
VERSION:2.0
PRODID:-// - ECPv6.15.20//NONSGML v1.0//EN
CALSCALE:GREGORIAN
METHOD:PUBLISH
X-ORIGINAL-URL:https://aprresources.com
X-WR-CALDESC:Events for 
REFRESH-INTERVAL;VALUE=DURATION:PT1H
X-Robots-Tag:noindex
X-PUBLISHED-TTL:PT1H
BEGIN:VTIMEZONE
TZID:America/New_York
BEGIN:DAYLIGHT
TZOFFSETFROM:-0500
TZOFFSETTO:-0400
TZNAME:EDT
DTSTART:20230312T070000
END:DAYLIGHT
BEGIN:STANDARD
TZOFFSETFROM:-0400
TZOFFSETTO:-0500
TZNAME:EST
DTSTART:20231105T060000
END:STANDARD
BEGIN:DAYLIGHT
TZOFFSETFROM:-0500
TZOFFSETTO:-0400
TZNAME:EDT
DTSTART:20240310T070000
END:DAYLIGHT
BEGIN:STANDARD
TZOFFSETFROM:-0400
TZOFFSETTO:-0500
TZNAME:EST
DTSTART:20241103T060000
END:STANDARD
BEGIN:DAYLIGHT
TZOFFSETFROM:-0500
TZOFFSETTO:-0400
TZNAME:EDT
DTSTART:20250309T070000
END:DAYLIGHT
BEGIN:STANDARD
TZOFFSETFROM:-0400
TZOFFSETTO:-0500
TZNAME:EST
DTSTART:20251102T060000
END:STANDARD
BEGIN:DAYLIGHT
TZOFFSETFROM:-0500
TZOFFSETTO:-0400
TZNAME:EDT
DTSTART:20260308T070000
END:DAYLIGHT
BEGIN:STANDARD
TZOFFSETFROM:-0400
TZOFFSETTO:-0500
TZNAME:EST
DTSTART:20261101T060000
END:STANDARD
END:VTIMEZONE
BEGIN:VEVENT
DTSTART;TZID=America/New_York:20250129T100000
DTEND;TZID=America/New_York:20250129T123000
DTSTAMP:20260424T075606
CREATED:20250103T202046Z
LAST-MODIFIED:20250103T202046Z
UID:10001019-1738144800-1738153800@aprresources.com
SUMMARY:Fujitsu Live Web Training—RGLX Products\, Application\, Installation
DESCRIPTION:This is a 2.5-hour class providing product and application training for the RGLX H-Series Inverter systems. RGLX medium static ducted units\, large cassettes\, and new accessories are discussed. Application and airflow will be highlighted. \nClick here to register. 
URL:https://aprresources.com/event/fujitsu-live-web-training-rglx-products-application-installation/
LOCATION:Virtual
CATEGORIES:Training
ATTACH;FMTTYPE=image/png:https://aprresources.com/wp-content/uploads/2024/01/Fujitsu-Featured-Pic-.png
ORGANIZER;CN="Fujitsu General America%2C Inc.":MAILTO:bmcintyre@fujitsugeneral.com
END:VEVENT
BEGIN:VEVENT
DTSTART;TZID=America/New_York:20250128T090000
DTEND;TZID=America/New_York:20250128T120000
DTSTAMP:20260424T075606
CREATED:20250103T205847Z
LAST-MODIFIED:20250103T205847Z
UID:10001025-1738054800-1738065600@aprresources.com
SUMMARY:Fujitsu Live Web Training—MPAH Auxiliary Heater Install\, Setup\, and Function Settings
DESCRIPTION:This 2.5 to 3 hour training is intended to provide an experienced installer the ability to understand the setup and startup of a “standard” installation in a cold climate. It is based on the use of a factory accessory electric auxiliary heat kit. It includes function settings and custom setup to match your applications and the needs of your customers\, as well as how to set function settings with 3 styles of controls and a quick startup section. \nClick here to register. 
URL:https://aprresources.com/event/fujitsu-live-web-training-mpah-auxiliary-heater-install-setup-and-function-settings-2/
LOCATION:Virtual
CATEGORIES:Training
ATTACH;FMTTYPE=image/png:https://aprresources.com/wp-content/uploads/2024/01/Fujitsu-Featured-Pic-.png
ORGANIZER;CN="Fujitsu General America%2C Inc.":MAILTO:bmcintyre@fujitsugeneral.com
END:VEVENT
BEGIN:VEVENT
DTSTART;TZID=America/New_York:20250127T090000
DTEND;TZID=America/New_York:20250127T120000
DTSTAMP:20260424T075606
CREATED:20250103T205111Z
LAST-MODIFIED:20250103T205159Z
UID:10001023-1737968400-1737979200@aprresources.com
SUMMARY:Fujitsu Live Web Training—MPAH Product Overview & Installation
DESCRIPTION:This 3-hour course includes goes over model nomenclature\, specifications\, efficiency ratings and comparisons\, features of the design and accessories as well as installation techniques such as: horizontal conversion\, job application\, piping\, drain installation\, electrical wiring of equipment and basic components. \nClick here to register. 
URL:https://aprresources.com/event/fujitsu-live-web-training-mpah-product-overview-installation-2/
LOCATION:Virtual
CATEGORIES:Training
ATTACH;FMTTYPE=image/png:https://aprresources.com/wp-content/uploads/2024/01/Fujitsu-Featured-Pic-.png
ORGANIZER;CN="Fujitsu General America%2C Inc.":MAILTO:bmcintyre@fujitsugeneral.com
END:VEVENT
BEGIN:VEVENT
DTSTART;TZID=America/New_York:20250124T100000
DTEND;TZID=America/New_York:20250124T120000
DTSTAMP:20260424T075606
CREATED:20250103T202332Z
LAST-MODIFIED:20250103T202332Z
UID:10001020-1737712800-1737720000@aprresources.com
SUMMARY:Fujitsu Live Web Training—Top 10 Installation Issues
DESCRIPTION:This 2 hour course covers the H-Series Mini-Split Top 10 Installation and Maintenance issues seen in the field\, either at startup or after installation. \nClick here to register. 
URL:https://aprresources.com/event/fujitsu-live-web-training-top-10-installation-issues/
LOCATION:Virtual
CATEGORIES:Training
ATTACH;FMTTYPE=image/png:https://aprresources.com/wp-content/uploads/2024/01/Fujitsu-Featured-Pic-.png
ORGANIZER;CN="Fujitsu General America%2C Inc.":MAILTO:bmcintyre@fujitsugeneral.com
END:VEVENT
BEGIN:VEVENT
DTSTART;TZID=America/New_York:20250123T090000
DTEND;TZID=America/New_York:20250123T120000
DTSTAMP:20260424T075606
CREATED:20250103T193653Z
LAST-MODIFIED:20250103T193653Z
UID:10001014-1737622800-1737633600@aprresources.com
SUMMARY:Fujitsu Live Web Training—VU-V Heat Pump
DESCRIPTION:This 3 hour training will equip the installer with the knowledge to rough-in\, install\, pipe and wire a Fujitsu V-Series heat pump system. It includes: selecting proper equipment location and will teach how to read and utilize the “Design Simulator Report” for proper pipe size and routing. Key examples provide knowledge for use of separation tubes or pipe headers. Communication wiring\, address setting\, how to address indoor units and how to combine multiple OD units in one refrigerant circuit are included. The class will cover how to check the system setup to be ready for a system commissioning. \nClick here to register. 
URL:https://aprresources.com/event/fujitsu-live-web-training-vu-v-heat-pump/
LOCATION:Virtual
CATEGORIES:Training
ATTACH;FMTTYPE=image/png:https://aprresources.com/wp-content/uploads/2024/01/Fujitsu-Featured-Pic-.png
ORGANIZER;CN="International Comfort Products":MAILTO:ecommunications@e.icpusa.com
END:VEVENT
BEGIN:VEVENT
DTSTART;TZID=America/New_York:20250121T090000
DTEND;TZID=America/New_York:20250121T120000
DTSTAMP:20260424T075606
CREATED:20250103T193028Z
LAST-MODIFIED:20250103T193028Z
UID:10001013-1737450000-1737460800@aprresources.com
SUMMARY:Fujitsu AIRSTAGE J-Series Installation Training
DESCRIPTION:This 3 hour training will equip the installer with the knowledge to rough-in\, install\, pipe and wire a Fujitsu J-Series system. It includes: selecting proper equipment location and will teach how to read and utilize the “Design Simulator Report” for proper pipe size and routing. Key examples provide knowledge for use of separation tubes or pipe headers. Communication wiring\, address setting and how to address indoor units is also included. The class will cover basic function codes after installation to qualify the systems set-up for startup. \nClick here to register. 
URL:https://aprresources.com/event/fujitsu-airstage-j-series-installation-training/
LOCATION:Virtual
CATEGORIES:Training
ATTACH;FMTTYPE=image/png:https://aprresources.com/wp-content/uploads/2024/01/Fujitsu-Airstage.png
ORGANIZER;CN="Fujitsu General America%2C Inc.":MAILTO:bmcintyre@fujitsugeneral.com
END:VEVENT
BEGIN:VEVENT
DTSTART;TZID=America/New_York:20250116T100000
DTEND;TZID=America/New_York:20250116T113000
DTSTAMP:20260424T075606
CREATED:20250103T201647Z
LAST-MODIFIED:20250103T201647Z
UID:10001018-1737021600-1737027000@aprresources.com
SUMMARY:Fujitsu Next Tech Module 4 (System Components & Troubleshooting)
DESCRIPTION:FUJITSU NEXT TECH SYSTEM COMPONENTS & TROUBLESHOOTING (1.5 hours) of both indoor and outdoor components are discussed. Circuit boards\, electronic expansion valves\, compressor\, 4-way reversing valve\, thermistors\, fan motors\, active filter modules\, inverter power module\, diffuser drive motor and other components are identified and demystified. We discuss various technical manuals and how to use them to troubleshoot systems. Step-by-step troubleshooting of these components will be highlighted. The training describes their roles in the everyday operation of the systems and the importance of their functions. We will highlight how to identify error codes and use technical documents in the field to properly diagnose these components. \nClick here to register. 
URL:https://aprresources.com/event/fujitsu-next-tech-module-4-system-components-troubleshooting-2/
LOCATION:Virtual
CATEGORIES:Training
ATTACH;FMTTYPE=image/png:https://aprresources.com/wp-content/uploads/2024/01/Fujitsu-Featured-Pic-.png
ORGANIZER;CN="Fujitsu General America%2C Inc.":MAILTO:bmcintyre@fujitsugeneral.com
END:VEVENT
BEGIN:VEVENT
DTSTART;TZID=America/New_York:20250115T100000
DTEND;TZID=America/New_York:20250115T120000
DTSTAMP:20260424T075606
CREATED:20250103T201044Z
LAST-MODIFIED:20250103T201044Z
UID:10001017-1736935200-1736942400@aprresources.com
SUMMARY:Fujitsu Next Tech Module 3 (System Service)
DESCRIPTION:FUJITSU NEXT TECH SERVICE (2-hours) shows attendees how to use Fujitsu Tech Support menu on our website. We discuss how use Service Manuals\, Service Instruction manuals\, Design and Technical Manuals and Mobile Technician App for step-by-step diagnosis in the field. Training will demonstrate how to disassemble outdoor components and sub-assembly modules. We will show you how to identify electrical DC grounds for proper testing. You will be instructed on how to identify various field service issues. You will learn how to read error codes on indoor and outdoor units. \nClick here to register. 
URL:https://aprresources.com/event/fujitsu-next-tech-module-3-system-service-2/
LOCATION:Virtual
CATEGORIES:Training
ATTACH;FMTTYPE=image/png:https://aprresources.com/wp-content/uploads/2024/01/Fujitsu-Featured-Pic-.png
ORGANIZER;CN="Fujitsu General America%2C Inc.":MAILTO:bmcintyre@fujitsugeneral.com
END:VEVENT
BEGIN:VEVENT
DTSTART;TZID=America/New_York:20250114T100000
DTEND;TZID=America/New_York:20250114T120000
DTSTAMP:20260424T075606
CREATED:20250103T200409Z
LAST-MODIFIED:20250103T200509Z
UID:10001016-1736848800-1736856000@aprresources.com
SUMMARY:Fujitsu Next Tech Module 2 (Installation & Function Settings)
DESCRIPTION:FUJITSU NEXT TECH INSTALLATION & FUNCTION SETTINGS (2-hours) module details the proper way to install indoor and outdoor units. It stresses the importance of reading and following the installation manuals\, selecting the correct and most effective locations\, for optimal airflow and comfort. The training engages you with question and answer\, hands on labs and paper labs to work out installation situations you will encounter. Start up\, check run and test run will be discussed in detail. We explain how and when to use various function settings to properly setup a mini split system. \nClick here to register. 
URL:https://aprresources.com/event/fujitsu-next-tech-module-2-installation-function-settings-2/
LOCATION:Virtual
CATEGORIES:Training
ATTACH;FMTTYPE=image/png:https://aprresources.com/wp-content/uploads/2024/01/Fujitsu-Featured-Pic-.png
ORGANIZER;CN="Fujitsu General America%2C Inc.":MAILTO:bmcintyre@fujitsugeneral.com
END:VEVENT
BEGIN:VEVENT
DTSTART;TZID=America/New_York:20250113T100000
DTEND;TZID=America/New_York:20250113T113000
DTSTAMP:20260424T075606
CREATED:20250103T195741Z
LAST-MODIFIED:20250103T195741Z
UID:10001015-1736762400-1736767800@aprresources.com
SUMMARY:Fujitsu Next Tech Module 1 (Systems & Application)
DESCRIPTION:FUJITSU NEXT TECH SYSTEMS & APPLICATIONS (1.5 hours) is an interactive question and answer training for every contractor\, technician\, installer and salespersons. In depth discussion on the available products and how to apply them to a specific type of installation. We highlight the proper selection and application of the products and how they can solve customers’ comfort problems. We discuss how to read and use capacity rating charts. The use of various types of controls is highlighted. \nClick here to register. 
URL:https://aprresources.com/event/fujitsu-next-tech-module-1-systems-application/
LOCATION:Virtual
ATTACH;FMTTYPE=image/png:https://aprresources.com/wp-content/uploads/2024/01/Fujitsu-Featured-Pic-.png
ORGANIZER;CN="Fujitsu General America%2C Inc.":MAILTO:bmcintyre@fujitsugeneral.com
END:VEVENT
BEGIN:VEVENT
DTSTART;TZID=America/New_York:20250110T100000
DTEND;TZID=America/New_York:20250110T113000
DTSTAMP:20260424T075606
CREATED:20250103T202845Z
LAST-MODIFIED:20250103T202845Z
UID:10001021-1736503200-1736508600@aprresources.com
SUMMARY:Fujitsu Navigating the Refrigerant Transition (A2L Lite) Webinar
DESCRIPTION:This webinar aims to assist our contractors as they navigate the road ahead with new refrigerants and the changes to our lives and businesses in the years ahead. Topics covered will include environmental considerations\, value of R32 and R454b\, flammability\, safety\, transportation and storage\, and working with A2L refrigerants. \nClick here to register. 
URL:https://aprresources.com/event/fujitsu-navigating-the-refrigerant-transition-a2l-lite-webinar/
LOCATION:Virtual
CATEGORIES:Training
ATTACH;FMTTYPE=image/png:https://aprresources.com/wp-content/uploads/2024/01/Fujitsu-Featured-Pic-.png
ORGANIZER;CN="Fujitsu General America%2C Inc.":MAILTO:bmcintyre@fujitsugeneral.com
END:VEVENT
BEGIN:VEVENT
DTSTART;TZID=America/New_York:20250108T090000
DTEND;TZID=America/New_York:20250108T120000
DTSTAMP:20260424T075606
CREATED:20250103T205815Z
LAST-MODIFIED:20250103T205815Z
UID:10001024-1736326800-1736337600@aprresources.com
SUMMARY:Fujitsu Live Web Training—MPAH Auxiliary Heater Install\, Setup\, and Function Settings
DESCRIPTION:This 2.5 to 3 hour training is intended to provide an experienced installer the ability to understand the setup and startup of a “standard” installation in a cold climate. It is based on the use of a factory accessory electric auxiliary heat kit. It includes function settings and custom setup to match your applications and the needs of your customers\, as well as how to set function settings with 3 styles of controls and a quick startup section. \nClick here to register. 
URL:https://aprresources.com/event/fujitsu-live-web-training-mpah-auxiliary-heater-install-setup-and-function-settings/
LOCATION:Virtual
CATEGORIES:Training
ATTACH;FMTTYPE=image/png:https://aprresources.com/wp-content/uploads/2024/01/Fujitsu-Featured-Pic-.png
ORGANIZER;CN="Fujitsu General America%2C Inc.":MAILTO:bmcintyre@fujitsugeneral.com
END:VEVENT
BEGIN:VEVENT
DTSTART;TZID=America/New_York:20250107T090000
DTEND;TZID=America/New_York:20250107T120000
DTSTAMP:20260424T075606
CREATED:20250103T204447Z
LAST-MODIFIED:20250103T204447Z
UID:10001022-1736240400-1736251200@aprresources.com
SUMMARY:Fujitsu Live Web Training—MPAH Product Overview & Installation
DESCRIPTION:This 3-hour course includes goes over model nomenclature\, specifications\, efficiency ratings and comparisons\, features of the design and accessories as well as installation techniques such as: horizontal conversion\, job application\, piping\, drain installation\, electrical wiring of equipment and basic components. \nClick here to register. 
URL:https://aprresources.com/event/fujitsu-live-web-training-mpah-product-overview-installation/
LOCATION:Virtual
CATEGORIES:Training
ATTACH;FMTTYPE=image/png:https://aprresources.com/wp-content/uploads/2024/01/Fujitsu-Featured-Pic-.png
ORGANIZER;CN="Fujitsu General America%2C Inc.":MAILTO:bmcintyre@fujitsugeneral.com
END:VEVENT
BEGIN:VEVENT
DTSTART;TZID=America/New_York:20241210T090000
DTEND;TZID=America/New_York:20241210T120000
DTSTAMP:20260424T075606
CREATED:20241119T150520Z
LAST-MODIFIED:20241209T190320Z
UID:10000973-1733821200-1733832000@aprresources.com
SUMMARY:POSTPONED: Honeywell Generators Training for Contractors: Power For Profits 1.0 Residential Standby—Virtual Training
DESCRIPTION:In this introductory webinar you will learn how to size\, sell and install generators for your customers. If you’ve been asked by one of your homeowners to sell and install a home standby\, this is the first class you’ll want to attend. \nAgenda of Topics:  \n\nResidential Market Overview\nSite Preparation\nFuel Considerations\nBack Up Options\nTransfer Switch Connections\nGenerator Connections\nOperational Tests & Final Steps\nSizing the Generator: NEC 220\, Part IV\n\nTrainer: Ronald Milazzo\, Regional Development Manager\, Generac Power Systems
URL:https://aprresources.com/event/postponed-honeywell-generators-training-for-contractors-power-for-profits-1-0-residential-standby-virtual/
LOCATION:Virtual
CATEGORIES:Training
ATTACH;FMTTYPE=image/jpeg:https://aprresources.com/wp-content/uploads/2020/08/honeywell-genSPOTLIGHT-PHOTO.jpg
ORGANIZER;CN="APR Marketing Department":MAILTO:marketing@aprsupply.com
END:VEVENT
BEGIN:VEVENT
DTSTART;TZID=America/New_York:20240918T080000
DTEND;TZID=America/New_York:20240918T090000
DTSTAMP:20260424T075606
CREATED:20240618T194119Z
LAST-MODIFIED:20240618T195255Z
UID:10000868-1726646400-1726650000@aprresources.com
SUMMARY:Airex Training Webinar
DESCRIPTION:Revolutionize your sales calls with Airex TRS retrofit! Learn how your company can profit from installing the Airex Titan retrofit outlet and line set protection. Sealing wall penetrations and insulation protection is a must for your service and maintenance calls. The Airex Sealing system protects from costly air leakage and water penetration\, rodent intrusion\, vibration\, and noise reduction\, protects energy saving while protecting your equipment’s optimum performance. \n*Each attendee will be entered for a chance to win a $500 APR credit sponsored by Airex! \n*Drawing will occur at end of webinar and credit will be applied to winner’s business account. Must be present to win. \nClick here to join the webinar on 9/18 at 8 a.m. EST!
URL:https://aprresources.com/event/airex-training-webinar/
LOCATION:Virtual
CATEGORIES:Training
ATTACH;FMTTYPE=image/png:https://aprresources.com/wp-content/uploads/2024/06/Airex-Featured-Pic-.png
ORGANIZER;CN="APR Marketing Department":MAILTO:marketing@aprsupply.com
END:VEVENT
END:VCALENDAR