BEGIN:VCALENDAR
VERSION:2.0
PRODID:-// - ECPv6.15.20//NONSGML v1.0//EN
CALSCALE:GREGORIAN
METHOD:PUBLISH
X-ORIGINAL-URL:https://aprresources.com
X-WR-CALDESC:Events for 
REFRESH-INTERVAL;VALUE=DURATION:PT1H
X-Robots-Tag:noindex
X-PUBLISHED-TTL:PT1H
BEGIN:VTIMEZONE
TZID:America/New_York
BEGIN:DAYLIGHT
TZOFFSETFROM:-0500
TZOFFSETTO:-0400
TZNAME:EDT
DTSTART:20230312T070000
END:DAYLIGHT
BEGIN:STANDARD
TZOFFSETFROM:-0400
TZOFFSETTO:-0500
TZNAME:EST
DTSTART:20231105T060000
END:STANDARD
BEGIN:DAYLIGHT
TZOFFSETFROM:-0500
TZOFFSETTO:-0400
TZNAME:EDT
DTSTART:20240310T070000
END:DAYLIGHT
BEGIN:STANDARD
TZOFFSETFROM:-0400
TZOFFSETTO:-0500
TZNAME:EST
DTSTART:20241103T060000
END:STANDARD
BEGIN:DAYLIGHT
TZOFFSETFROM:-0500
TZOFFSETTO:-0400
TZNAME:EDT
DTSTART:20250309T070000
END:DAYLIGHT
BEGIN:STANDARD
TZOFFSETFROM:-0400
TZOFFSETTO:-0500
TZNAME:EST
DTSTART:20251102T060000
END:STANDARD
END:VTIMEZONE
BEGIN:VEVENT
DTSTART;TZID=America/New_York:20240227T120000
DTEND;TZID=America/New_York:20240227T160000
DTSTAMP:20260424T113626
CREATED:20240122T153108Z
LAST-MODIFIED:20240220T212727Z
UID:10000738-1709035200-1709049600@aprresources.com
SUMMARY:Low Voltage Controls & Wiring Training - Williamsport
DESCRIPTION:This is electrical theory put to practical use. The class covers conventional 24V controls and wiring\, dual fuel controls\, and Wi-Fi and Internet connectivity. There will also be a section that covers communicating controls. \n***CLASS IS FULL. REGISTRATION CLOSED***
URL:https://aprresources.com/event/low-voltage-controls-wiring-training-williamsport/
LOCATION:VFW Duboistown\, 150 Shaffer Street\, Duboistown\, PA\, 17702\, United States
CATEGORIES:Training
ATTACH;FMTTYPE=image/png:https://aprresources.com/wp-content/uploads/2024/01/Low-Voltage-Featured-Image.png
ORGANIZER;CN="APR Marketing Department":MAILTO:marketing@aprsupply.com
END:VEVENT
BEGIN:VEVENT
DTSTART;TZID=America/New_York:20240227T080000
DTEND;TZID=America/New_York:20240227T120000
DTSTAMP:20260424T113626
CREATED:20240122T152533Z
LAST-MODIFIED:20240220T212918Z
UID:10000737-1709020800-1709035200@aprresources.com
SUMMARY:Heat Pump AC Service & Troubleshooting Training - Williamsport
DESCRIPTION:This program is designed to provide an understanding of residential heat pump technology. It will provide learners with the essential skills necessary to install\, diagnose\, and maintain residential heat pump systems. It covers basic principles of operation\, system components\, airflow\, defrost methods\, balance point\, auxiliary electric heat\, electrical control wiring\, refrigerant piping\, installation\, refrigerant charging\, troubleshooting\, dual fuel systems\, and an introduction to geothermal systems. \n***CLASS IS FULL. REGISTRATION CLOSED***
URL:https://aprresources.com/event/heat-pump-ac-service-troubleshooting-training-williamsport/
LOCATION:VFW Duboistown\, 150 Shaffer Street\, Duboistown\, PA\, 17702\, United States
CATEGORIES:Training
ATTACH;FMTTYPE=image/png:https://aprresources.com/wp-content/uploads/2024/01/Heat-Pump-Featured-Image-1-1.png
ORGANIZER;CN="APR Marketing Department":MAILTO:marketing@aprsupply.com
END:VEVENT
END:VCALENDAR