BEGIN:VCALENDAR
VERSION:2.0
PRODID:-// - ECPv6.15.20//NONSGML v1.0//EN
CALSCALE:GREGORIAN
METHOD:PUBLISH
X-ORIGINAL-URL:https://aprresources.com
X-WR-CALDESC:Events for 
REFRESH-INTERVAL;VALUE=DURATION:PT1H
X-Robots-Tag:noindex
X-PUBLISHED-TTL:PT1H
BEGIN:VTIMEZONE
TZID:America/New_York
BEGIN:DAYLIGHT
TZOFFSETFROM:-0500
TZOFFSETTO:-0400
TZNAME:EDT
DTSTART:20210314T070000
END:DAYLIGHT
BEGIN:STANDARD
TZOFFSETFROM:-0400
TZOFFSETTO:-0500
TZNAME:EST
DTSTART:20211107T060000
END:STANDARD
BEGIN:DAYLIGHT
TZOFFSETFROM:-0500
TZOFFSETTO:-0400
TZNAME:EDT
DTSTART:20220313T070000
END:DAYLIGHT
BEGIN:STANDARD
TZOFFSETFROM:-0400
TZOFFSETTO:-0500
TZNAME:EST
DTSTART:20221106T060000
END:STANDARD
BEGIN:DAYLIGHT
TZOFFSETFROM:-0500
TZOFFSETTO:-0400
TZNAME:EDT
DTSTART:20230312T070000
END:DAYLIGHT
BEGIN:STANDARD
TZOFFSETFROM:-0400
TZOFFSETTO:-0500
TZNAME:EST
DTSTART:20231105T060000
END:STANDARD
BEGIN:DAYLIGHT
TZOFFSETFROM:-0500
TZOFFSETTO:-0400
TZNAME:EDT
DTSTART:20240310T070000
END:DAYLIGHT
BEGIN:STANDARD
TZOFFSETFROM:-0400
TZOFFSETTO:-0500
TZNAME:EST
DTSTART:20241103T060000
END:STANDARD
END:VTIMEZONE
BEGIN:VEVENT
DTSTART;TZID=America/New_York:20230307T080000
DTEND;TZID=America/New_York:20230307T163000
DTSTAMP:20260424T095649
CREATED:20221227T205658Z
LAST-MODIFIED:20221227T205658Z
UID:10000397-1678176000-1678206600@aprresources.com
SUMMARY:Basic Refrigeration With A Heat Pump - Schaedler Yesco Training Facility - York
DESCRIPTION:From the basic refrigeration cycle\, pressure-temperature relationships are used to demonstrate the concepts of superheating and sub-cooling. This class explains the temperatures and pressures of a normally operating system to build a base for troubleshooting. This class is limited to 15 participants. \nClick the button below to register. \n\n	\n	\n	\n	\n    \n\n	    \n    \n        Registration is closed for this event.
URL:https://aprresources.com/event/basic-refrigeration-with-a-heat-pump-schaedler-yesco-training-facility-york/
LOCATION:Schaedler Yesco Training Facility\, 850 Smile Way\, York\, PA\, 17404\, United States
CATEGORIES:Training
ATTACH;FMTTYPE=image/png:https://aprresources.com/wp-content/uploads/2021/12/Heat-Pump.png
END:VEVENT
BEGIN:VEVENT
DTSTART;TZID=America/New_York:20230124T080000
DTEND;TZID=America/New_York:20230124T160000
DTSTAMP:20260424T095649
CREATED:20221214T181937Z
LAST-MODIFIED:20230123T153438Z
UID:10000379-1674547200-1674576000@aprresources.com
SUMMARY:*Canceled* A2L Refrigerant Training &  Certification - Schaedler Yesco Training Facility - York
DESCRIPTION:The HVACR industry is transitioning away from equipment that uses R-410A in favor of new equipment with Low GWP Refrigerants such as R-32 and R-454B. Our trainers will teach you to properly handle\, store and transport Low GWP Refrigerants. Please note\, APR Supply Co. will provide the training\, course materials and test. Test results are mailed to ESCO Institute and graded solely by ESCO. \nDid you know? \n·These are classified as A2L refrigerants\, or mildly flammable by ASHRAE? \n·That most systems will have refrigerant detection systems on board that can shut a system down in the event of a leak? \n·How you store and transport refrigerant cylinders will change? \nClick the button below to register. \n\n	\n	\n	\n	\n    \n\n	    \n    \n        Registration is closed for this event.
URL:https://aprresources.com/event/a2l-refrigerant-training-certification-altoona-education-center-4/
LOCATION:Schaedler Yesco Training Facility\, 850 Smile Way\, York\, PA\, 17404\, United States
CATEGORIES:Training
ATTACH;FMTTYPE=image/png:https://aprresources.com/wp-content/uploads/2022/07/Low-GWP-Refrigrant-Safety.png
END:VEVENT
BEGIN:VEVENT
DTSTART;TZID=America/New_York:20230110T080000
DTEND;TZID=America/New_York:20230110T160000
DTSTAMP:20260424T095650
CREATED:20221209T184807Z
LAST-MODIFIED:20230106T172351Z
UID:10000376-1673337600-1673366400@aprresources.com
SUMMARY:Basic Duct Design and Sizing - Schaedler Yesco Training Facility - York
DESCRIPTION:Beginning with the completed heat loss calculation the class covers equipment selection. (ACCA Manual S) to meet the load. Then using ACCA manual D principals to calculate equivalent length. Finding the correct friction rate. How to use the duct calculator to properly size duct work. Methods of duct construction to decrease duct resistance.  Understanding duct pressure losses. \n\n\n\n\n\n\n	\n	\n	\n	\n    \n\n	    \n    \n        Registration is closed for this event.
URL:https://aprresources.com/event/basic-duct-design-and-sizing-schaedler-yesco-training-facility-york/
LOCATION:Schaedler Yesco Training Facility\, 850 Smile Way\, York\, PA\, 17404\, United States
CATEGORIES:Training
ATTACH;FMTTYPE=image/png:https://aprresources.com/wp-content/uploads/2022/09/Duct-Design.png
END:VEVENT
BEGIN:VEVENT
DTSTART;TZID=America/New_York:20221208T080000
DTEND;TZID=America/New_York:20221208T093000
DTSTAMP:20260424T095650
CREATED:20221018T135953Z
LAST-MODIFIED:20221128T222033Z
UID:10000356-1670486400-1670491800@aprresources.com
SUMMARY:2023 New Tax Credits and Federal Regulations Training
DESCRIPTION:Join us for a review of the new regulatory and tax changes for 2023. \nTopics to be covered: \n\n2023 Regulatory efficiency change including new M1 testing\nAIM ACT\n2025 Refrigerant changes\nAdditional future regulatory changes:\n\n-Electrification / decarbonization \n-Non-condensing gas furnaces \n-Disposable refrigerant cylinders \n\nInflation Reduction Act\n\nClick the button below to register. \n\n	\n	\n	\n	\n    \n\n	    \n    \n        Registration is closed for this event.
URL:https://aprresources.com/event/2023-new-tax-credits-and-federal-regulations-training-6/
LOCATION:Schaedler Yesco Training Facility\, 850 Smile Way\, York\, PA\, 17404\, United States
CATEGORIES:Training
ATTACH;FMTTYPE=image/png:https://aprresources.com/wp-content/uploads/2021/12/Heat-Pump.png
END:VEVENT
BEGIN:VEVENT
DTSTART;TZID=America/New_York:20221122T080000
DTEND;TZID=America/New_York:20221122T100000
DTSTAMP:20260424T095650
CREATED:20221007T203444Z
LAST-MODIFIED:20221102T182655Z
UID:10000343-1669104000-1669111200@aprresources.com
SUMMARY:TracPipe Certification & Gas Pipe Risers/ Gas Piping Training
DESCRIPTION:Learn how to properly size and install TracPipe flexible gas piping and fittings.  Attendees will also take TracPipe’s certification exam\, which is required to purchase TracPipe. We will also review gas pipe risers and gas piping during this training. \nLight refreshments will be provided. \nClick the button below to register. \n\n	\n	\n	\n	\n    \n\n	    \n    \n        Registration is closed for this event.
URL:https://aprresources.com/event/tracpipe-certification-gas-pipe-risers-gas-piping-training/
LOCATION:Schaedler Yesco Training Facility\, 850 Smile Way\, York\, PA\, 17404\, United States
CATEGORIES:Training
ATTACH;FMTTYPE=image/png:https://aprresources.com/wp-content/uploads/2021/06/TracPipe-Training.png
END:VEVENT
END:VCALENDAR