BEGIN:VCALENDAR
VERSION:2.0
PRODID:-// - ECPv6.15.20//NONSGML v1.0//EN
CALSCALE:GREGORIAN
METHOD:PUBLISH
X-ORIGINAL-URL:https://aprresources.com
X-WR-CALDESC:Events for 
REFRESH-INTERVAL;VALUE=DURATION:PT1H
X-Robots-Tag:noindex
X-PUBLISHED-TTL:PT1H
BEGIN:VTIMEZONE
TZID:America/New_York
BEGIN:DAYLIGHT
TZOFFSETFROM:-0500
TZOFFSETTO:-0400
TZNAME:EDT
DTSTART:20230312T070000
END:DAYLIGHT
BEGIN:STANDARD
TZOFFSETFROM:-0400
TZOFFSETTO:-0500
TZNAME:EST
DTSTART:20231105T060000
END:STANDARD
BEGIN:DAYLIGHT
TZOFFSETFROM:-0500
TZOFFSETTO:-0400
TZNAME:EDT
DTSTART:20240310T070000
END:DAYLIGHT
BEGIN:STANDARD
TZOFFSETFROM:-0400
TZOFFSETTO:-0500
TZNAME:EST
DTSTART:20241103T060000
END:STANDARD
BEGIN:DAYLIGHT
TZOFFSETFROM:-0500
TZOFFSETTO:-0400
TZNAME:EDT
DTSTART:20250309T070000
END:DAYLIGHT
BEGIN:STANDARD
TZOFFSETFROM:-0400
TZOFFSETTO:-0500
TZNAME:EST
DTSTART:20251102T060000
END:STANDARD
END:VTIMEZONE
BEGIN:VEVENT
DTSTART;TZID=America/New_York:20240515T080000
DTEND;TZID=America/New_York:20240516T153000
DTSTAMP:20260424T121308
CREATED:20240216T190753Z
LAST-MODIFIED:20240424T152920Z
UID:10000780-1715760000-1715873400@aprresources.com
SUMMARY:POSTPONED: Strategic Financial Mastery: Unleashing the Power of Planning for Success (Western Region)
DESCRIPTION:Join us for an exciting session on “Strategic Financial Mastery: Unleashing the Power of Planning for Success.” Discover the secrets to strategic planning and financial prowess that will propel your business forward. Learn how to assess your current situation\, set goals\, develop winning strategies\, and make informed financial decisions. \nWho should attend? \nBusiness Owners\, Managers\, Key Stakeholders \nAgenda \nDay One (8 a.m. – 4:30 p.m.) \n\nSession One: Understanding Strategy and Adopting a Strategic Mindset\nSession Two: Examining Your Environment\nSession Three: Setting Your Direction\nSession Four: Defining & Measuring Success\nSession Five: Executing the Plan\n\nDay Two (7 a.m. – 3:30 p.m.) \n\nSession One: Understanding Your Finances\nSession Two: Developing Financial Organization\nSession Three: Strategic Financial Management\n\nCost \n$750 per attendee.* Cost includes training\, training materials\, breakfast\, lunch and snacks. (Class invoiced upon registration. Co-op and Award Points eligible.) \n*Overnight accommodation not included in the price. \nNeed A Room?  \nClass attendees can reserve a room at the Residence Inn by Marriott Pittsburgh Monroeville/ Wilkens Township at a rate of $149/night on the nights of 5/14 and 5/15. Reservations can be made by calling (412) 816-1300 and stating that you are with the APR Supply Co. group.  \nOr\, click here to go to the booking link.  \nDon’t miss this opportunity to gain the knowledge and skills needed to drive your organization’s success.
URL:https://aprresources.com/event/strategic-financial-mastery-unleashing-the-power-of-planning-for-success/
LOCATION:Residence Inn by Marriott Pittsburgh Monroeville/ Wilkens Township\, 3455 William Penn Highway\, Pittsburgh\, PA\, 15235\, United States
CATEGORIES:Training
ATTACH;FMTTYPE=image/png:https://aprresources.com/wp-content/uploads/2024/02/QSC-Featured-Image.png
ORGANIZER;CN="APR Marketing Department":MAILTO:marketing@aprsupply.com
END:VEVENT
END:VCALENDAR