BEGIN:VCALENDAR
VERSION:2.0
PRODID:-// - ECPv6.15.20//NONSGML v1.0//EN
CALSCALE:GREGORIAN
METHOD:PUBLISH
X-ORIGINAL-URL:https://aprresources.com
X-WR-CALDESC:Events for 
REFRESH-INTERVAL;VALUE=DURATION:PT1H
X-Robots-Tag:noindex
X-PUBLISHED-TTL:PT1H
BEGIN:VTIMEZONE
TZID:America/New_York
BEGIN:DAYLIGHT
TZOFFSETFROM:-0500
TZOFFSETTO:-0400
TZNAME:EDT
DTSTART:20230312T070000
END:DAYLIGHT
BEGIN:STANDARD
TZOFFSETFROM:-0400
TZOFFSETTO:-0500
TZNAME:EST
DTSTART:20231105T060000
END:STANDARD
BEGIN:DAYLIGHT
TZOFFSETFROM:-0500
TZOFFSETTO:-0400
TZNAME:EDT
DTSTART:20240310T070000
END:DAYLIGHT
BEGIN:STANDARD
TZOFFSETFROM:-0400
TZOFFSETTO:-0500
TZNAME:EST
DTSTART:20241103T060000
END:STANDARD
BEGIN:DAYLIGHT
TZOFFSETFROM:-0500
TZOFFSETTO:-0400
TZNAME:EDT
DTSTART:20250309T070000
END:DAYLIGHT
BEGIN:STANDARD
TZOFFSETFROM:-0400
TZOFFSETTO:-0500
TZNAME:EST
DTSTART:20251102T060000
END:STANDARD
BEGIN:DAYLIGHT
TZOFFSETFROM:-0500
TZOFFSETTO:-0400
TZNAME:EDT
DTSTART:20260308T070000
END:DAYLIGHT
BEGIN:STANDARD
TZOFFSETFROM:-0400
TZOFFSETTO:-0500
TZNAME:EST
DTSTART:20261101T060000
END:STANDARD
END:VTIMEZONE
BEGIN:VEVENT
DTSTART;TZID=America/New_York:20250109T090000
DTEND;TZID=America/New_York:20250109T150000
DTSTAMP:20260424T120213
CREATED:20241120T143959Z
LAST-MODIFIED:20241120T143959Z
UID:10000974-1736413200-1736434800@aprresources.com
SUMMARY:A2L Refrigerant Training & Certification—Philadelphia/Aston
DESCRIPTION:The HVACR industry is transitioning away from equipment that uses R-410A in favor of new equipment with Low GWP Refrigerants such as R-32 and R-454B. Our trainers will teach you to properly handle\, store and transport Low GWP Refrigerants.  Please note\, APR Supply Co. will provide the training\, course materials and test. Test results are mailed to ESCO Institute and graded solely by ESCO. ​ \nDid you know? \n·These are classified as A2L refrigerants\, or mildly flammable by ASHRAE? \n·That most systems will have refrigerant detection systems on board that can shut a system down in the event of a leak? \n·How you store and transport refrigerant cylinders will change? \nTrainer: Mark Elmer  \nPlease note: Beginning fall 2024\, APR Supply Co. will be implementing a new payment and cancellation policy. Please click here to view these new stipulations.  \n*Includes light breakfast\, full lunch\, and all class materials
URL:https://aprresources.com/event/a2l-refrigerant-training-certification-philadelphia-aston/
LOCATION:PSA PHCC Training Center\, 4072 Mount Road\, Aston\, Pennsylvania\, 19014\, United States
CATEGORIES:Training
ATTACH;FMTTYPE=image/png:https://aprresources.com/wp-content/uploads/2024/03/A2L-Featured-Pic-.png
ORGANIZER;CN="APR Marketing Department":MAILTO:marketing@aprsupply.com
END:VEVENT
BEGIN:VEVENT
DTSTART;TZID=America/New_York:20240930T093000
DTEND;TZID=America/New_York:20240930T123000
DTSTAMP:20260424T120213
CREATED:20240920T170943Z
LAST-MODIFIED:20240920T170943Z
UID:10000952-1727688600-1727699400@aprresources.com
SUMMARY:PHCC Navien NPF Training
DESCRIPTION:This training will be a high level technical training on the New Navien NPF furnace. \nAll are welcome to attend. The training is being held at the PHCC training room in Aston on 9/30 @ 9:30am. \nClick here to view event flyer: NPF Training Blitz Announcement \nRSVP to psaphcc@gmail.com
URL:https://aprresources.com/event/phcc-navien-npf-training/
LOCATION:PSA PHCC Training Center\, 4072 Mount Road\, Aston\, Pennsylvania\, 19014\, United States
CATEGORIES:Training
ATTACH;FMTTYPE=image/png:https://aprresources.com/wp-content/uploads/2024/01/Navien-Featured-Image.png
ORGANIZER;CN="PHCC":MAILTO:psaphcc@gmail.com
END:VEVENT
END:VCALENDAR