BEGIN:VCALENDAR
VERSION:2.0
PRODID:-// - ECPv6.15.20//NONSGML v1.0//EN
CALSCALE:GREGORIAN
METHOD:PUBLISH
X-ORIGINAL-URL:https://aprresources.com
X-WR-CALDESC:Events for 
REFRESH-INTERVAL;VALUE=DURATION:PT1H
X-Robots-Tag:noindex
X-PUBLISHED-TTL:PT1H
BEGIN:VTIMEZONE
TZID:America/New_York
BEGIN:DAYLIGHT
TZOFFSETFROM:-0500
TZOFFSETTO:-0400
TZNAME:EDT
DTSTART:20230312T070000
END:DAYLIGHT
BEGIN:STANDARD
TZOFFSETFROM:-0400
TZOFFSETTO:-0500
TZNAME:EST
DTSTART:20231105T060000
END:STANDARD
BEGIN:DAYLIGHT
TZOFFSETFROM:-0500
TZOFFSETTO:-0400
TZNAME:EDT
DTSTART:20240310T070000
END:DAYLIGHT
BEGIN:STANDARD
TZOFFSETFROM:-0400
TZOFFSETTO:-0500
TZNAME:EST
DTSTART:20241103T060000
END:STANDARD
BEGIN:DAYLIGHT
TZOFFSETFROM:-0500
TZOFFSETTO:-0400
TZNAME:EDT
DTSTART:20250309T070000
END:DAYLIGHT
BEGIN:STANDARD
TZOFFSETFROM:-0400
TZOFFSETTO:-0500
TZNAME:EST
DTSTART:20251102T060000
END:STANDARD
BEGIN:DAYLIGHT
TZOFFSETFROM:-0500
TZOFFSETTO:-0400
TZNAME:EDT
DTSTART:20260308T070000
END:DAYLIGHT
BEGIN:STANDARD
TZOFFSETFROM:-0400
TZOFFSETTO:-0500
TZNAME:EST
DTSTART:20261101T060000
END:STANDARD
END:VTIMEZONE
BEGIN:VEVENT
DTSTART;TZID=America/New_York:20251209T080000
DTEND;TZID=America/New_York:20251209T160000
DTSTAMP:20260424T095648
CREATED:20250616T174848Z
LAST-MODIFIED:20251204T201057Z
UID:10001212-1765267200-1765296000@aprresources.com
SUMMARY:Airflow & System Performance Training—Aston\, PA
DESCRIPTION:Course Details:  \nJoin us for a course on basic airflow and system performance. \nTopics include:\n• Measuring airflow\n• What airflow is necessary\n• Calculating operating system BTU performance\n• Using static pressure to set system airflow\n• Calculating system delivered BTU vs. equipment BTU \nTrainer: Mark Elmer  \nPlease note: APR Supply Co. has implemented a payment and cancellation policy. Please click here to view these new stipulations.  \n*Includes light breakfast refreshments\, lunch\, and all class materials.  
URL:https://aprresources.com/event/airflow-system-performance-training-aston-pa/
LOCATION:PSA PHCC Training Center\, 4072 Mount Road\, Aston\, Pennsylvania\, 19014\, United States
CATEGORIES:Training
ATTACH;FMTTYPE=image/png:https://aprresources.com/wp-content/uploads/2024/01/Airflow-Featured-Image-.png
ORGANIZER;CN="APR Marketing Department":MAILTO:marketing@aprsupply.com
END:VEVENT
BEGIN:VEVENT
DTSTART;TZID=America/New_York:20251120T080000
DTEND;TZID=America/New_York:20251120T160000
DTSTAMP:20260424T095648
CREATED:20250616T183150Z
LAST-MODIFIED:20250616T185222Z
UID:10001213-1763625600-1763654400@aprresources.com
SUMMARY:Gas Furnace Installation & Troubleshooting—Aston\, PA
DESCRIPTION:This is an overview of gas furnace technology. The class includes proper gas pipe and vent sizing\, combustion air code issues\, furnace set up and start up. This introductory training also covers troubleshooting of individual parts and problems. \n*Includes light breakfast refreshments\, lunch & all class materials \nTrainer: Mark Elmer  \nPlease note: APR Supply Co. has implemented a new payment and cancellation policy. Please click here to view these new stipulations. 
URL:https://aprresources.com/event/gas-furnace-installation-troubleshooting-aston-pa/
LOCATION:PSA PHCC Training Center\, 4072 Mount Road\, Aston\, Pennsylvania\, 19014\, United States
CATEGORIES:Training
ATTACH;FMTTYPE=image/jpeg:https://aprresources.com/wp-content/uploads/2024/06/qtq80-PVk5mS.jpeg
ORGANIZER;CN="APR Marketing Department":MAILTO:marketing@aprsupply.com
END:VEVENT
BEGIN:VEVENT
DTSTART;TZID=America/New_York:20251118T080000
DTEND;TZID=America/New_York:20251118T160000
DTSTAMP:20260424T095648
CREATED:20250624T144002Z
LAST-MODIFIED:20251117T184405Z
UID:10001228-1763452800-1763481600@aprresources.com
SUMMARY:Hydronics Troubleshooting and Service—Aston
DESCRIPTION:Course Overview  \nThis comprehensive course provides students with the essential knowledge and hands-on skills needed to diagnose\, troubleshoot\, and service hydronic heating systems. Students will learn systematic approaches to identifying problems in boilers\, pumps\, piping networks\, and control systems while developing practical repair and maintenance techniques used in residential applications.  \nCourse Objectives  \nUpon successful completion of this course\, students will be able to:  \n\nAnalyze hydronic system components and understand their operational principles \n\n\nPerform systematic troubleshooting procedures using proper diagnostic tools and techniques \n\n\nIdentify and resolve common problems in boilers\, pumps\, expansion tanks\, and distribution systems \n\n\nInterpret system pressures\, temperatures\, and flow rates to diagnose performance issues \n\nCourse Content  \nModule 1: Hydronic System Fundamentals  \n\nHeat transfer principles and fluid dynamics \n\n\nSystem types: one-pipe\, two-pipe\, and primary-secondary systems \n\n\nBoiler types and operation (gas\, oil\, electric\, condensing) \n\n\nOverview of Pump selection and operation principles \n\n\nExpansion tanks and pressure relief systems \n\nModule 2: Diagnostic Tools and Techniques  \n\nDigital multimeters and combustion analyzers \n\n\nPressure gauges and manometers \n\nModule 3: Boiler Troubleshooting and Service  \n\nCombustion problems and efficiency issues \n\n\nBurner adjustment and flame analysis \n\n\nVenting system problems and solutions \n\n\nSafety control testing and replacement \n\nModule 5: Circulation System Diagnosis  \n\nPump performance evaluation and repair \n\n\nAir elimination and bleeding procedures \n\n\nPipe sizing and flow distribution problems \n\n\nZone control valve operation and service \n\nPrerequisites  \n\nBasic understanding of heating systems \n\n\nFundamental electrical knowledge \n\n\nAbility to use hand tools and measuring instruments \n\nAssessment Methods  \n\nPractical demonstrations of diagnostic techniques \n\n\nLaboratory exercises on actual hydronic equipment \n\nRequired Materials  \n\nBasic hand tools and electrical testing equipment \n\n\nSafety equipment (safety glasses\, gloves\, appropriate clothing) \n\nTrainer: Mark Elmer  \nPlease note: Beginning fall 2024\, APR Supply Co. will be implementing a new payment and cancellation policy. Please click here to view these new stipulations.  \n*Includes light breakfast refreshments\, lunch & all class materials
URL:https://aprresources.com/event/hydronics-troubleshooting-and-service-aston/
LOCATION:PSA PHCC Training Center\, 4072 Mount Road\, Aston\, Pennsylvania\, 19014\, United States
CATEGORIES:Training
ATTACH;FMTTYPE=image/jpeg:https://aprresources.com/wp-content/uploads/2024/06/iStock-1599309789.jpg
ORGANIZER;CN="APR Marketing Department":MAILTO:marketing@aprsupply.com
END:VEVENT
BEGIN:VEVENT
DTSTART;TZID=America/New_York:20251030T120000
DTEND;TZID=America/New_York:20251030T160000
DTSTAMP:20260424T095648
CREATED:20250619T193921Z
LAST-MODIFIED:20251027T232400Z
UID:10001225-1761825600-1761840000@aprresources.com
SUMMARY:Basic Refrigeration Cycle with Heat Pumps—Aston
DESCRIPTION:Course Overview:  \nThis course includes an overview of the basic refrigeration cycle. Pressure temperature relationships are used to demonstrate the concepts of superheat and sub-cooling. The instructor will cover an explanation of temperatures and pressures of a normally operating system to build a base for troubleshooting. \nTrainer:  \nMark Elmer\, APR Supply Co. \nPlease note: APR Supply Co. has implemented a new payment and cancellation policy. Please click here to view these new stipulations.  \n*Includes light lunch and all class materials
URL:https://aprresources.com/event/basic-refrigeration-cycle-with-heat-pumps-aston/
LOCATION:PSA PHCC Training Center\, 4072 Mount Road\, Aston\, Pennsylvania\, 19014\, United States
CATEGORIES:Training
ATTACH;FMTTYPE=image/jpeg:https://aprresources.com/wp-content/uploads/2024/05/iStock-1511329752.jpg
ORGANIZER;CN="APR Marketing Department":MAILTO:marketing@aprsupply.com
END:VEVENT
BEGIN:VEVENT
DTSTART;TZID=America/New_York:20251030T080000
DTEND;TZID=America/New_York:20251030T113000
DTSTAMP:20260424T095648
CREATED:20250717T152238Z
LAST-MODIFIED:20251027T232432Z
UID:10001238-1761811200-1761823800@aprresources.com
SUMMARY:Ditch the Manifold NAVAC Training—Aston\, PA
DESCRIPTION:NAVAC’s “Ditch the Manifold” training combines both their “Evacuation” and “Recovery” classes. \nEvacuation Explained \nDo you have a pump or a paperweight? Make sure your tools are working for you\, and develop a firm grasp on the best practices for the evacuation of HVAC/R equipment. \n\n\n\nMicrons: what are they\, and what story does measuring them tell?\nWhat a proper evacuation setup looks like\, and why it works\nThe gas ballast—don’t just take our word for it.\n\n\n\nRecovery Demystified  \nHave your cake and eat it too – achieve true and complete recovery of ALL liquid and vapor faster and more efﬁcient than ever before. \n\n\n\nSafety & Terminology\nCritical tools and proper setup\nThe process itself—tips\, tricks and insights. We promise you will learn something new!\n\n\n\n*Light breakfast refreshments provided.  \nPlease note: APR Supply Co. has implemented a payment and cancellation policy. Please click here to view these stipulations. 
URL:https://aprresources.com/event/ditch-the-manifold-navac-training-aston-pa/
LOCATION:PSA PHCC Training Center\, 4072 Mount Road\, Aston\, Pennsylvania\, 19014\, United States
CATEGORIES:Training
ATTACH;FMTTYPE=image/jpeg:https://aprresources.com/wp-content/uploads/2025/07/NAVAC-Featured-Pic-.jpg
ORGANIZER;CN="APR Marketing Department":MAILTO:marketing@aprsupply.com
END:VEVENT
BEGIN:VEVENT
DTSTART;TZID=America/New_York:20250506T080000
DTEND;TZID=America/New_York:20250506T160000
DTSTAMP:20260424T095648
CREATED:20250204T162126Z
LAST-MODIFIED:20250422T173624Z
UID:10001098-1746518400-1746547200@aprresources.com
SUMMARY:POSTPONED: Fujitsu Next Tech—Philadelphia/Aston
DESCRIPTION:This entry-level class’s goal is to assist technicians and installers who work with mini-split systems to be more familiar with installation and application differences from traditional unitary systems\, without boring them to death with sales jargon and promotion. \nThis course provides a great technical overview of Fujitsu’s Halcyon products. It provides a more technical perspective than the FAST class\, while complementing it with application ideas\, pictures\, installation hints\, tips and requirements. Troubleshooting sections offer excellent guidance for system and component troubleshooting. This full-day course helps ensure all participants receive the basics skills and knowledge to apply and support Fujitsu mini-split products. \n* includes light breakfast\, lunch and all class materials \n**Click here to view APR’s new registration and cancellation policies. \n 
URL:https://aprresources.com/event/fujitsu-next-tech-philadelphia-aston/
LOCATION:PSA PHCC Training Center\, 4072 Mount Road\, Aston\, Pennsylvania\, 19014\, United States
CATEGORIES:Training
ATTACH;FMTTYPE=image/png:https://aprresources.com/wp-content/uploads/2024/01/Fujitsu-Featured-Pic-.png
ORGANIZER;CN="APR Marketing Department":MAILTO:marketing@aprsupply.com
END:VEVENT
BEGIN:VEVENT
DTSTART;TZID=America/New_York:20250422T123000
DTEND;TZID=America/New_York:20250422T163000
DTSTAMP:20260424T095648
CREATED:20250127T204820Z
LAST-MODIFIED:20250403T194144Z
UID:10001093-1745325000-1745339400@aprresources.com
SUMMARY:Postponed: Allied A2L Changes in Installation Practices—Philadelphia/Aston
DESCRIPTION:This class will cover the steps that Allied is implementing to meet the requirements of the EPA’s technology transition rule. It will cover Allied’s refrigerant detection systems\, and any specific items that will need to be installed to comply with the new rules. \n* includes light lunch and all class materials \n**Click here to view APR’s new registration and cancellation policies. \n 
URL:https://aprresources.com/event/allied-a2l-transition-overview-philadelphia-aston/
LOCATION:PSA PHCC Training Center\, 4072 Mount Road\, Aston\, Pennsylvania\, 19014\, United States
CATEGORIES:Training
ATTACH;FMTTYPE=image/jpeg:https://aprresources.com/wp-content/uploads/2024/07/Allied-Featured-Pic-.jpg
ORGANIZER;CN="APR Marketing Department":MAILTO:marketing@aprsupply.com
END:VEVENT
BEGIN:VEVENT
DTSTART;TZID=America/New_York:20250422T080000
DTEND;TZID=America/New_York:20250422T120000
DTSTAMP:20260424T095648
CREATED:20250127T194812Z
LAST-MODIFIED:20250403T192755Z
UID:10001092-1745308800-1745323200@aprresources.com
SUMMARY:POSTPONED: Heil A2L Changes in Installation Practices—Philadelphia/Aston
DESCRIPTION:This class will cover the steps that Heil is implementing to meet the requirements of the EPA’s technology transition rule. It will cover Heil’s refrigerant detection systems\, and any specific items that will need to be installed to comply with the new rules. \n* includes light breakfast and all class materials \n**Click here to view APR’s new registration and cancellation policies. \n 
URL:https://aprresources.com/event/heil-a2l-transition-overview-philadelphia-aston/
LOCATION:PSA PHCC Training Center\, 4072 Mount Road\, Aston\, Pennsylvania\, 19014\, United States
CATEGORIES:Training
ATTACH;FMTTYPE=image/png:https://aprresources.com/wp-content/uploads/2024/09/Heil-Featured-Pic.png
ORGANIZER;CN="APR Marketing Department":MAILTO:marketing@aprsupply.com
END:VEVENT
BEGIN:VEVENT
DTSTART;TZID=America/New_York:20250410T123000
DTEND;TZID=America/New_York:20250410T163000
DTSTAMP:20260424T095648
CREATED:20250127T175837Z
LAST-MODIFIED:20250403T190348Z
UID:10001091-1744288200-1744302600@aprresources.com
SUMMARY:POSTPONED: Bosch A2L Changes in Installation Practices—Philadelphia/Aston
DESCRIPTION:This class will cover the steps that Bosch is implementing to meet the requirements of the EPA’s technology transition rule. It will cover Bosch’s refrigerant detection systems\, and any specific items that will need to be installed to comply with the new rules. \n* includes light lunch refreshments and all class materials \n**Click here to view APR’s new registration and cancellation policies. \n 
URL:https://aprresources.com/event/bosch-a2l-transition-overview-philadelphia-aston/
LOCATION:PSA PHCC Training Center\, 4072 Mount Road\, Aston\, Pennsylvania\, 19014\, United States
CATEGORIES:Training
ATTACH;FMTTYPE=image/png:https://aprresources.com/wp-content/uploads/2024/02/Bosch-Featured-Pic.png
ORGANIZER;CN="APR Marketing Department":MAILTO:marketing@aprsupply.com
END:VEVENT
BEGIN:VEVENT
DTSTART;TZID=America/New_York:20250410T080000
DTEND;TZID=America/New_York:20250410T120000
DTSTAMP:20260424T095648
CREATED:20250127T170445Z
LAST-MODIFIED:20250403T185444Z
UID:10001090-1744272000-1744286400@aprresources.com
SUMMARY:POSTPONED: MagicPak A2L Changes in Installation Practices—Philadelphia/Aston
DESCRIPTION:This class will cover the steps that MagicPak is implementing to meet the requirements of the EPA’s technology transition rule. It will cover MagicPak’s refrigerant detection systems\, and any specific items that will need to be installed to comply with the new rules. \n* includes light breakfast and all class materials \n**Click here to view APR’s new registration and cancellation policies.
URL:https://aprresources.com/event/magicpak-a2l-transition-overview-philadelphia-aston/
LOCATION:PSA PHCC Training Center\, 4072 Mount Road\, Aston\, Pennsylvania\, 19014\, United States
CATEGORIES:Training
ATTACH;FMTTYPE=image/png:https://aprresources.com/wp-content/uploads/2025/01/MagicPak-Featured-Pic-.png
ORGANIZER;CN="APR Marketing Department":MAILTO:marketing@aprsupply.com
END:VEVENT
BEGIN:VEVENT
DTSTART;TZID=America/New_York:20250109T090000
DTEND;TZID=America/New_York:20250109T150000
DTSTAMP:20260424T095648
CREATED:20241120T143959Z
LAST-MODIFIED:20241120T143959Z
UID:10000974-1736413200-1736434800@aprresources.com
SUMMARY:A2L Refrigerant Training & Certification—Philadelphia/Aston
DESCRIPTION:The HVACR industry is transitioning away from equipment that uses R-410A in favor of new equipment with Low GWP Refrigerants such as R-32 and R-454B. Our trainers will teach you to properly handle\, store and transport Low GWP Refrigerants.  Please note\, APR Supply Co. will provide the training\, course materials and test. Test results are mailed to ESCO Institute and graded solely by ESCO. ​ \nDid you know? \n·These are classified as A2L refrigerants\, or mildly flammable by ASHRAE? \n·That most systems will have refrigerant detection systems on board that can shut a system down in the event of a leak? \n·How you store and transport refrigerant cylinders will change? \nTrainer: Mark Elmer  \nPlease note: Beginning fall 2024\, APR Supply Co. will be implementing a new payment and cancellation policy. Please click here to view these new stipulations.  \n*Includes light breakfast\, full lunch\, and all class materials
URL:https://aprresources.com/event/a2l-refrigerant-training-certification-philadelphia-aston/
LOCATION:PSA PHCC Training Center\, 4072 Mount Road\, Aston\, Pennsylvania\, 19014\, United States
CATEGORIES:Training
ATTACH;FMTTYPE=image/png:https://aprresources.com/wp-content/uploads/2024/03/A2L-Featured-Pic-.png
ORGANIZER;CN="APR Marketing Department":MAILTO:marketing@aprsupply.com
END:VEVENT
BEGIN:VEVENT
DTSTART;TZID=America/New_York:20240930T093000
DTEND;TZID=America/New_York:20240930T123000
DTSTAMP:20260424T095648
CREATED:20240920T170943Z
LAST-MODIFIED:20240920T170943Z
UID:10000952-1727688600-1727699400@aprresources.com
SUMMARY:PHCC Navien NPF Training
DESCRIPTION:This training will be a high level technical training on the New Navien NPF furnace. \nAll are welcome to attend. The training is being held at the PHCC training room in Aston on 9/30 @ 9:30am. \nClick here to view event flyer: NPF Training Blitz Announcement \nRSVP to psaphcc@gmail.com
URL:https://aprresources.com/event/phcc-navien-npf-training/
LOCATION:PSA PHCC Training Center\, 4072 Mount Road\, Aston\, Pennsylvania\, 19014\, United States
CATEGORIES:Training
ATTACH;FMTTYPE=image/png:https://aprresources.com/wp-content/uploads/2024/01/Navien-Featured-Image.png
ORGANIZER;CN="PHCC":MAILTO:psaphcc@gmail.com
END:VEVENT
END:VCALENDAR