BEGIN:VCALENDAR
VERSION:2.0
PRODID:-// - ECPv6.15.20//NONSGML v1.0//EN
CALSCALE:GREGORIAN
METHOD:PUBLISH
X-ORIGINAL-URL:https://aprresources.com
X-WR-CALDESC:Events for 
REFRESH-INTERVAL;VALUE=DURATION:PT1H
X-Robots-Tag:noindex
X-PUBLISHED-TTL:PT1H
BEGIN:VTIMEZONE
TZID:America/New_York
BEGIN:DAYLIGHT
TZOFFSETFROM:-0500
TZOFFSETTO:-0400
TZNAME:EDT
DTSTART:20240310T070000
END:DAYLIGHT
BEGIN:STANDARD
TZOFFSETFROM:-0400
TZOFFSETTO:-0500
TZNAME:EST
DTSTART:20241103T060000
END:STANDARD
BEGIN:DAYLIGHT
TZOFFSETFROM:-0500
TZOFFSETTO:-0400
TZNAME:EDT
DTSTART:20250309T070000
END:DAYLIGHT
BEGIN:STANDARD
TZOFFSETFROM:-0400
TZOFFSETTO:-0500
TZNAME:EST
DTSTART:20251102T060000
END:STANDARD
BEGIN:DAYLIGHT
TZOFFSETFROM:-0500
TZOFFSETTO:-0400
TZNAME:EDT
DTSTART:20260308T070000
END:DAYLIGHT
BEGIN:STANDARD
TZOFFSETFROM:-0400
TZOFFSETTO:-0500
TZNAME:EST
DTSTART:20261101T060000
END:STANDARD
END:VTIMEZONE
BEGIN:VEVENT
DTSTART;TZID=America/New_York:20250929T090000
DTEND;TZID=America/New_York:20251010T160000
DTSTAMP:20260424T093048
CREATED:20250722T132654Z
LAST-MODIFIED:20250722T135207Z
UID:10001284-1759136400-1760112000@aprresources.com
SUMMARY:PPA TEC NORA Bronze - Two Week Basic Oil Heat Program
DESCRIPTION:After 10 days of concentrated fundamental classroom theory\, coupled with practical laboratory work\, including hands-on experience on a variety of live-fire equipment\, you will acquire a solid foundation of knowledge. This training\, along with field experience\, will help build careers as installation and service technicians that will become an asset to you and your customers. \nThe final day of training is a test day. Standard test times range from 30 minutes – 3 hours depending on the individual student. In nearly all cases\, students start testing at 12:30 PM. \nBronze Certificate of Training will be awarded to each student who completes the course and passes the examination. The test is based on the NORA Oil Heat Technician’s Manual\, which is used for Silver Certification. \nRequirements: There are some study assignments required to be done by the students in the evening during the course. Therefore\, students should consider this in fulfillment of the program. \nRegistration includes lunch and the following tools: \n\nBeckett Module w/Keychain Pro-7652A\nBeckett Flash Drives\nCarlin Electrode Gauge Red & Yellow\nEnergy Kinetics 6-Way Screwdriver & Thermostat Screwdriver\n6-pack Oil Burner Electrode Gauges\nCoupling Popper\nT28 Bleeder Wrench\nElectric Meter\n\nOur Instructors: \nMike Elmer has been in the HVAC and plumbing industry since 2002 and has worked for leading contractors in the South Central PA region. His background includes service HVAC\, plumbing\, and electric. Mike currently works in the field as a lead troubleshooting service technician. \nDoug Zerbe has been in the HVAC industry since 2003.  On the contractor side of the industry\, he has worked as an installer and service technician before he moved into installation and service management.  Doug also had the opportunity to work in technical support for an HVAC distributor and in sales for an HVAC manufacturer. \n\nHotel Accommodations \nPPATEC is pleased to partner with local hotels that are in close proximity to our primary training venues. Our hotel partners offer student discounted rates on overnight accommodations. Please see the link below to visit our hotel partners page. \nClick Here for Hotel Partners \n\n\n  \n\n\n\n\n\n\n\n\n\n\n\n\n\nEvent Item Name\nExpires\nPricing\n\n\n\n\nMember Ticket – Discounted price is for PPA members\, PPATEC members\, or petroleum marketers who deliver fuel oil in the state of Pennsylvania.\nSep 26\, 2025\n\n\n$2\,200.00\n\n\n\nNon-Member Ticket – Full ticket price is for companies/individuals who are not currently PPA members\, PPATEC members\, or petroleum marketers who do not deliver fuel oil in the state of Pennsylvania.\nSep 26\, 2025\n\n\n$2\,750.00
URL:https://aprresources.com/event/ppa-tec-nora-bronze-two-week-basic-oil-heat-program-4/
LOCATION:PPATEC Tullytown\, 113 Main Street\, Tullytown\, 19007\, United States
CATEGORIES:Training
ATTACH;FMTTYPE=image/png:https://aprresources.com/wp-content/uploads/2024/01/PPATEC-Featured-Pic-2.png
ORGANIZER;CN="PPA TEC":MAILTO:training@papetroleum.org
END:VEVENT
BEGIN:VEVENT
DTSTART;TZID=America/New_York:20250916T090000
DTEND;TZID=America/New_York:20250918T160000
DTSTAMP:20260424T093048
CREATED:20250722T142412Z
LAST-MODIFIED:20250722T142412Z
UID:10001303-1758013200-1758211200@aprresources.com
SUMMARY:PPA TEC Three Day Basic Oil Heat Class
DESCRIPTION:This class includes all the primary fundamentals of oil heat training for technicians in a three-day training program. Technicians who have experience servicing HVAC equipment\, but have limited background working on oil equipment\, are ideal candidates for this class. This training also serves as a great resource for oil heat technicians who completed the NORA Bronze Two Week Basic Oil Heat Program in the past\, but could use a refresher training. \n\n\n\nThree Day Basic Oil Heat will cover: \n• Introduction to Oil Burners \n• Oil Tanks\, Piping\, Fuel Units\, and Oil Valves \n• Nozzles and Combustion Chambers \n• Draft and Venting \n• Combustion \n• Ignition Systems \n• Motors \n• Primary Controls and Limit Controls \n• Hands-On Troubleshooting in Lab\n\n\n\n\nRegistration includes lunch and the following tools: \n\nBeckett Module w/Keychain Pro-7652A\nBeckett Flash Drives\nCarlin Electrode Gauge Red & Yellow\nEnergy Kinetics 6-Way Screwdriver & Thermostat Screwdriver\n6-pack Oil Burner Electrode Gauges\nCoupling Popper\n\nOur Instructors: \nMike Elmer has been in the HVAC and plumbing industry since 2002 and has worked for leading contractors in the South Central PA region. His background includes service HVAC\, plumbing\, and electric. Mike currently works in the field as a lead troubleshooting service technician. \nDoug Zerbe has been in the HVAC industry since 2003.  On the contractor side of the industry\, he has worked as an installer and service technician before he moved into installation and service management.  Doug also had the opportunity to work in technical support for an HVAC distributor and in sales for an HVAC manufacturer. \nHotel Accommodations \nPPATEC is pleased to partner with local hotels that are in close proximity to our primary training venues. Our hotel partners offer student discounted rates on overnight accommodations. Please see the link below to visit our hotel partners page. \nClick Here for Hotel Partners \n  \n\n\n\n\n\n\n\n\n\n\n\n\nEvent Item Name\nExpires\nPricing\n\n\n\n\nMember Price – Discounted price is for PPA members\, PPATEC members\, or petroleum marketers who deliver fuel oil in the state of Pennsylvania.\nSep 15\, 2025\n\n\n$1\,000.00\n\n\n\nNon-Member Price – Full ticket price is for companies/individuals who are not currently PPA members\, PPATEC members\, or petroleum marketers who do not deliver fuel oil in the state of Pennsylvania.\nSep 15\, 2025\n\n\n$1\,250.00
URL:https://aprresources.com/event/ppa-tec-three-day-basic-oil-heat-class-5/
LOCATION:PPATEC Tullytown\, 113 Main Street\, Tullytown\, 19007\, United States
CATEGORIES:Training
ATTACH;FMTTYPE=image/png:https://aprresources.com/wp-content/uploads/2024/01/PPATEC-Featured-Pic-2.png
ORGANIZER;CN="PPA TEC":MAILTO:training@papetroleum.org
END:VEVENT
BEGIN:VEVENT
DTSTART;TZID=America/New_York:20250505T080000
DTEND;TZID=America/New_York:20250516T160000
DTSTAMP:20260424T093048
CREATED:20250107T201615Z
LAST-MODIFIED:20250107T205714Z
UID:10001056-1746432000-1747411200@aprresources.com
SUMMARY:PPATEC NORA Bronze—Two Week Basic Oil Heat Program
DESCRIPTION:After 10 days of concentrated fundamental classroom theory\, coupled with practical laboratory work\, including hands-on experience on a variety of live-fire equipment\, you will acquire a solid foundation of knowledge. This training\, along with field experience\, will help build careers as installation and service technicians that will become an asset to you and your customers. \nThe final day of training is a test day. The test takes place in the morning. Standard test times range from 30 minutes – 3 hours depending on the individual student. In nearly all cases\, students are completed prior to 12:00 PM. \nBronze Certificate of Training will be awarded to each student who completes the course and passes the examination. The test is based on the NORA Oil Heat Technician’s Manual\, which is used for Silver Certification. \nRequirements: There are some study assignments required to be done by the students in the evening during the course. Therefore\, students should consider this in fulfillment of the program. \n***Registration includes FREE bleeder wrench\, multimeter\, and coupler popper*** \nInstructor \nMike Elmer\, a PPATEC instructor\, has been in the HVAC and plumbing industry since 2002 and has worked for leading contractors in the South Central PA region. His background includes service HVAC\, plumbing\, and electric. \n\nHotel Accommodations \nPPATEC is pleased to partner with local hotels that are in close proximity to our primary training venues. Our hotel partners offer student discounted rates on overnight accommodations. Please see the link below to visit our hotel partners page. \nClick Here for Hotel Partners \n\n\n\n\n\n\n\n\n\n\n\n\n\nEvent Item Name\nExpires\nPricing\n\n\n\n\nMember Ticket – Discounted price is for PPA members\, PPATEC members\, or petroleum marketers who deliver fuel oil in the state of Pennsylvania.\nMay 02\, 2025\n\n\n$2\,200.00\n\n\n\nNon-Member Ticket – Full ticket price is for companies/individuals who are not currently PPA members\, PPATEC members\, or petroleum marketers who do not deliver fuel oil in the state of Pennsylvania.\nMay 02\, 2025\n\n\n$2\,750.00
URL:https://aprresources.com/event/ppatec-nora-bronze-two-week-basic-oil-heat-program-4/
LOCATION:PPATEC Tullytown\, 113 Main Street\, Tullytown\, 19007\, United States
CATEGORIES:Training
ATTACH;FMTTYPE=image/png:https://aprresources.com/wp-content/uploads/2024/01/PPATEC-Featured-Pic-2.png
END:VEVENT
BEGIN:VEVENT
DTSTART;TZID=America/New_York:20250415T090000
DTEND;TZID=America/New_York:20250417T160000
DTSTAMP:20260424T093048
CREATED:20250107T194342Z
LAST-MODIFIED:20250107T205200Z
UID:10001046-1744707600-1744905600@aprresources.com
SUMMARY:PPATEC Three Day Basic Oil Heat Class
DESCRIPTION:This class includes all the primary fundamentals of oil heat training for technicians in a three-day training program. Technicians who have experience servicing HVAC equipment\, but have limited background working on oil equipment\, are ideal candidates for this class. This training also serves as a great resource for oil heat technicians who completed the NORA Bronze Two Week Basic Oil Heat Program in the past\, but could use a refresher training. \n\n\n\nThree Day Basic Oil Heat will cover: \n• Introduction to Oil Burners \n• Oil Tanks\, Piping\, Fuel Units\, and Oil Valves \n• Nozzles and Combustion Chambers \n• Draft and Venting \n• Combustion \n• Ignition Systems \n• Motors \n• Primary Controls and Limited Controls \n• Hands-On Troubleshooting in Lab\n\n\n\n\nRegistration fees include: Lunch is provided each day \nOur Instructor: \nAlan Mercurio\, a technical trainer with the PPA\, has over 30 years of industry experience in various roles including service technician\, equipment sales\, and service manager. Alan is an industry author\, consultant\, educator\, and proctor. He holds certificates as a Master Technician in the State of Pennsylvania\, Silver certificate from the PPA\, is NORA Gold Certified\, and is EPA Certified by the VGI Training center as a type I and type II Air Conditioning Technician. He is the past president and founder of the Susquehanna Valley Chapter of OESP (Formerly NAOHSM)\, is on OESP’S Education committee\, and is a liaison to NORA. \n\nHotel Accommodations \nPPATEC is pleased to partner with local hotels that are in close proximity to our primary training venues. Our hotel partners offer student discounted rates on overnight accommodations. Please see the link below to visit our hotel partners page. \nClick Here for Hotel Partners \n\n\n\n\n\n\n\n\n\n\n\n\n\nEvent Item Name\nExpires\nPricing\n\n\n\n\nMember Price – Discounted price is for PPA members\, PPATEC members\, or petroleum marketers who deliver fuel oil in the state of Pennsylvania.\nApr 14\, 2025\n\n\n$1\,000.00\n\n\n\nNon-Member Price – Full ticket price is for companies/individuals who are not currently PPA members\, PPATEC members\, or petroleum marketers who do not deliver fuel oil in the state of Pennsylvania.\nApr 14\, 2025\n\n\n$1\,250.00
URL:https://aprresources.com/event/ppatec-three-day-basic-oil-heat-class-4/
LOCATION:PPATEC Tullytown\, 113 Main Street\, Tullytown\, 19007\, United States
CATEGORIES:Training
ATTACH;FMTTYPE=image/png:https://aprresources.com/wp-content/uploads/2024/01/PPATEC-Featured-Pic-2.png
END:VEVENT
END:VCALENDAR