BEGIN:VCALENDAR
VERSION:2.0
PRODID:-// - ECPv6.15.20//NONSGML v1.0//EN
CALSCALE:GREGORIAN
METHOD:PUBLISH
X-ORIGINAL-URL:https://aprresources.com
X-WR-CALDESC:Events for 
REFRESH-INTERVAL;VALUE=DURATION:PT1H
X-Robots-Tag:noindex
X-PUBLISHED-TTL:PT1H
BEGIN:VTIMEZONE
TZID:America/New_York
BEGIN:DAYLIGHT
TZOFFSETFROM:-0500
TZOFFSETTO:-0400
TZNAME:EDT
DTSTART:20230312T070000
END:DAYLIGHT
BEGIN:STANDARD
TZOFFSETFROM:-0400
TZOFFSETTO:-0500
TZNAME:EST
DTSTART:20231105T060000
END:STANDARD
BEGIN:DAYLIGHT
TZOFFSETFROM:-0500
TZOFFSETTO:-0400
TZNAME:EDT
DTSTART:20240310T070000
END:DAYLIGHT
BEGIN:STANDARD
TZOFFSETFROM:-0400
TZOFFSETTO:-0500
TZNAME:EST
DTSTART:20241103T060000
END:STANDARD
BEGIN:DAYLIGHT
TZOFFSETFROM:-0500
TZOFFSETTO:-0400
TZNAME:EDT
DTSTART:20250309T070000
END:DAYLIGHT
BEGIN:STANDARD
TZOFFSETFROM:-0400
TZOFFSETTO:-0500
TZNAME:EST
DTSTART:20251102T060000
END:STANDARD
BEGIN:DAYLIGHT
TZOFFSETFROM:-0500
TZOFFSETTO:-0400
TZNAME:EDT
DTSTART:20260308T070000
END:DAYLIGHT
BEGIN:STANDARD
TZOFFSETFROM:-0400
TZOFFSETTO:-0500
TZNAME:EST
DTSTART:20261101T060000
END:STANDARD
END:VTIMEZONE
BEGIN:VEVENT
DTSTART;TZID=America/New_York:20250522T133000
DTEND;TZID=America/New_York:20250522T173000
DTSTAMP:20260424T092317
CREATED:20250210T201522Z
LAST-MODIFIED:20250516T151356Z
UID:10001109-1747920600-1747935000@aprresources.com
SUMMARY:POSTPONED: Allied A2L Changes in Installation Practices—Ocean City
DESCRIPTION:This class will cover the steps that Allied is implementing to meet the requirements of the EPA’s technology transition rule. It will cover Allied’s refrigerant detection systems\, and any specific items that will need to be installed to comply with the new rules. \n* includes light lunch and all class materials  \n**Click here to view APR’s new registration and cancellation policies. \n 
URL:https://aprresources.com/event/allied-a2l-transition-overview-ocean-city/
LOCATION:Ocean City Free Public Library\, 1735 Simpson Ave.\, Ocean City\, NJ\, 08226\, United States
CATEGORIES:Training
ATTACH;FMTTYPE=image/jpeg:https://aprresources.com/wp-content/uploads/2024/07/Allied-Featured-Pic-.jpg
ORGANIZER;CN="APR Marketing Department":MAILTO:marketing@aprsupply.com
END:VEVENT
BEGIN:VEVENT
DTSTART;TZID=America/New_York:20250522T090000
DTEND;TZID=America/New_York:20250522T130000
DTSTAMP:20260424T092317
CREATED:20250210T194228Z
LAST-MODIFIED:20250516T151235Z
UID:10001108-1747904400-1747918800@aprresources.com
SUMMARY:POSTPONED: Heil A2L Changes in Installation Practices—Ocean City
DESCRIPTION:This class will cover the steps that Heil is implementing to meet the requirements of the EPA’s technology transition rule. It will cover Heil’s refrigerant detection systems\, and any specific items that will need to be installed to comply with the new rules. \n* includes light breakfast and all class materials \n**Click here to view APR’s new registration and cancellation policies. \n 
URL:https://aprresources.com/event/heil-a2l-transition-overview-ocean-city/
LOCATION:Ocean City Free Public Library\, 1735 Simpson Ave.\, Ocean City\, NJ\, 08226\, United States
CATEGORIES:Training
ATTACH;FMTTYPE=image/png:https://aprresources.com/wp-content/uploads/2024/09/Heil-Featured-Pic.png
ORGANIZER;CN="APR Marketing Department":MAILTO:marketing@aprsupply.com
END:VEVENT
BEGIN:VEVENT
DTSTART;TZID=America/New_York:20250515T090000
DTEND;TZID=America/New_York:20250515T170000
DTSTAMP:20260424T092317
CREATED:20250213T193714Z
LAST-MODIFIED:20250213T195642Z
UID:10001110-1747299600-1747328400@aprresources.com
SUMMARY:Fujitsu Next Tech—Ocean City
DESCRIPTION:This entry-level class’s goal is to assist technicians and installers who work with mini-split systems to be more familiar with installation and application differences from traditional unitary systems\, without boring them to death with sales jargon and promotion. \nThis course provides a great technical overview of Fujitsu’s Halcyon products\, as well as the newest products released by Fujitsu including their new A2L compliant models. It provides a more technical perspective than the FAST class\, while complementing it with application ideas\, pictures\, installation hints\, tips and requirements. Troubleshooting sections offer excellent guidance for system and component troubleshooting. This full-day course helps ensure all participants receive the basics skills and knowledge to apply and support Fujitsu mini-split products. \n* includes light breakfast\, lunch and all class materials \n**Click here to view APR’s new registration and cancellation policies.
URL:https://aprresources.com/event/fujitsu-next-tech-ocean-city-2/
LOCATION:Ocean City Free Public Library\, 1735 Simpson Ave.\, Ocean City\, NJ\, 08226\, United States
CATEGORIES:Training
ATTACH;FMTTYPE=image/png:https://aprresources.com/wp-content/uploads/2024/01/Fujitsu-Featured-Pic-.png
ORGANIZER;CN="APR Marketing Department":MAILTO:marketing@aprsupply.com
END:VEVENT
BEGIN:VEVENT
DTSTART;TZID=America/New_York:20241002T090000
DTEND;TZID=America/New_York:20241002T120000
DTSTAMP:20260424T092317
CREATED:20240612T152015Z
LAST-MODIFIED:20241001T155436Z
UID:10000857-1727859600-1727870400@aprresources.com
SUMMARY:Navien Training—Ocean City
DESCRIPTION:Subjects covered include\, but are not limited to… \nProduct Applications:\n– Unit Selection \nInstallation:\n-Complete Installation\n-Gas Line Sizing Overview\n-Venting\n-Power Requirements\n-Domestic Water Piping\n-Maintenance \nPlease note: Beginning fall 2024\, APR Supply Co. will be implementing a new payment and cancellation policy. Please click here to view these new stipulations.  \n*Light breakfast refreshments provided by Navien
URL:https://aprresources.com/event/navien-training-oc/
LOCATION:Ocean City Free Public Library\, 1735 Simpson Ave.\, Ocean City\, NJ\, 08226\, United States
CATEGORIES:Training
ATTACH;FMTTYPE=image/png:https://aprresources.com/wp-content/uploads/2024/01/Navien-Featured-Image.png
ORGANIZER;CN="APR Marketing Department":MAILTO:marketing@aprsupply.com
END:VEVENT
BEGIN:VEVENT
DTSTART;TZID=America/New_York:20240905T090000
DTEND;TZID=America/New_York:20240905T120000
DTSTAMP:20260424T092317
CREATED:20240611T153851Z
LAST-MODIFIED:20240828T195538Z
UID:10000854-1725526800-1725537600@aprresources.com
SUMMARY:POSTPONED: Weil-McLain Training
DESCRIPTION:Training Topics Covered Include: \n\nKey differences between HE and standard efficiency\nBoiler size as it relates to the existing element in the home\nTurndown ratio and what to consider when potentially using an oversized combi to have the increased DHW production\nSequence of operations for a DHW call vs. a space heating call\nImportance of correct piping\nHE troubleshooting and HE maintenance\nEco Tec control review\n\nPlease note: Beginning fall 2024\, APR Supply Co. will be implementing a new payment and cancellation policy. Please click here to view these new stipulations.  \n*Light breakfast refreshments provided by Weil-McLain
URL:https://aprresources.com/event/weil-mclain-training/
LOCATION:Ocean City Free Public Library\, 1735 Simpson Ave.\, Ocean City\, NJ\, 08226\, United States
CATEGORIES:Training
ATTACH;FMTTYPE=image/jpeg:https://aprresources.com/wp-content/uploads/2024/06/qtq80-3Rb26T.jpeg
ORGANIZER;CN="APR Marketing Department":MAILTO:marketing@aprsupply.com
END:VEVENT
BEGIN:VEVENT
DTSTART;TZID=America/New_York:20240522T093000
DTEND;TZID=America/New_York:20240522T173000
DTSTAMP:20260424T092317
CREATED:20240503T180617Z
LAST-MODIFIED:20240514T184215Z
UID:10000821-1716370200-1716399000@aprresources.com
SUMMARY:POSTPONED: Fujitsu ETSD - Ocean City
DESCRIPTION:COURSE OVERVIEW: \nThis is a one-day regional class providing in-depth troubleshooting for Inverter systems. The class is an instructor-led\, hands-on course offering classroom style training on multi-meters\, DC controls and circuits with diagnosis and testing of Fujitsu outdoor unit circuit boards. \nContractor gift of Fine Point Test Leads included. (Valued at $30) \n*includes light breakfast\, full lunch\, and all\nclass materials 
URL:https://aprresources.com/event/ocean-city-2/
LOCATION:Ocean City Free Public Library\, 1735 Simpson Ave.\, Ocean City\, NJ\, 08226\, United States
CATEGORIES:Training
ATTACH;FMTTYPE=image/jpeg:https://aprresources.com/wp-content/uploads/2024/04/iStock-1437896577-scaled.jpg
ORGANIZER;CN="APR Marketing Department":MAILTO:marketing@aprsupply.com
END:VEVENT
BEGIN:VEVENT
DTSTART;TZID=America/New_York:20240522T093000
DTEND;TZID=America/New_York:20240522T173000
DTSTAMP:20260424T092317
CREATED:20240116T184152Z
LAST-MODIFIED:20240503T185232Z
UID:10000728-1716370200-1716399000@aprresources.com
SUMMARY:POSTPONED: A2L Refrigerant Training & Certification - Ocean City
DESCRIPTION:The HVACR industry is transitioning away from equipment that uses R-410A in favor of new equipment with Low GWP Refrigerants such as R-32 and R-454B. Our trainers will teach you to properly handle\, store and transport Low GWP Refrigerants.  Please note\, APR Supply Co. will provide the training\, course materials and test. Test results are mailed to ESCO Institute and graded solely by ESCO. ​ \nDid you know? \n·These are classified as A2L refrigerants\, or mildly flammable by ASHRAE? \n·That most systems will have refrigerant detection systems on board that can shut a system down in the event of a leak? \n·How you store and transport refrigerant cylinders will change? \n*Light Refreshments & Lunch Provided 
URL:https://aprresources.com/event/a2l-refrigerant-training-certification-ocean-city/
LOCATION:Ocean City Free Public Library\, 1735 Simpson Ave.\, Ocean City\, NJ\, 08226\, United States
CATEGORIES:Training
ATTACH;FMTTYPE=image/png:https://aprresources.com/wp-content/uploads/2024/01/Low-GWP-Refrigrant-Safety.png
ORGANIZER;CN="APR Marketing Department":MAILTO:marketing@aprsupply.com
END:VEVENT
END:VCALENDAR