BEGIN:VCALENDAR
VERSION:2.0
PRODID:-// - ECPv6.15.20//NONSGML v1.0//EN
CALSCALE:GREGORIAN
METHOD:PUBLISH
X-ORIGINAL-URL:https://aprresources.com
X-WR-CALDESC:Events for 
REFRESH-INTERVAL;VALUE=DURATION:PT1H
X-Robots-Tag:noindex
X-PUBLISHED-TTL:PT1H
BEGIN:VTIMEZONE
TZID:America/New_York
BEGIN:DAYLIGHT
TZOFFSETFROM:-0500
TZOFFSETTO:-0400
TZNAME:EDT
DTSTART:20240310T070000
END:DAYLIGHT
BEGIN:STANDARD
TZOFFSETFROM:-0400
TZOFFSETTO:-0500
TZNAME:EST
DTSTART:20241103T060000
END:STANDARD
BEGIN:DAYLIGHT
TZOFFSETFROM:-0500
TZOFFSETTO:-0400
TZNAME:EDT
DTSTART:20250309T070000
END:DAYLIGHT
BEGIN:STANDARD
TZOFFSETFROM:-0400
TZOFFSETTO:-0500
TZNAME:EST
DTSTART:20251102T060000
END:STANDARD
BEGIN:DAYLIGHT
TZOFFSETFROM:-0500
TZOFFSETTO:-0400
TZNAME:EDT
DTSTART:20260308T070000
END:DAYLIGHT
BEGIN:STANDARD
TZOFFSETFROM:-0400
TZOFFSETTO:-0500
TZNAME:EST
DTSTART:20261101T060000
END:STANDARD
END:VTIMEZONE
BEGIN:VEVENT
DTSTART;TZID=America/New_York:20251010T073000
DTEND;TZID=America/New_York:20251010T100000
DTSTAMP:20260424T105322
CREATED:20250926T165934Z
LAST-MODIFIED:20250926T165934Z
UID:10001343-1760081400-1760090400@aprresources.com
SUMMARY:Pump and Panel Training with LMP Sales
DESCRIPTION:SIZE AND SELECT CORRECT PUMPS FOR APPLICATIONS\nUNDERSTAND PUMP CURVES AND EFFICIENCY\nKNOW WHAT YOU NEED FOR SUCCESSFUL INSTALLATIONS\nSELECT BASINS AND CONTROL OPTIONS\n\nEMAIL UPDATES@LMPSALES.COM TO RESERVE YOUR SPOT BY OCTOBER 3RD
URL:https://aprresources.com/event/pump-and-panel-training-with-lmp-sales/
LOCATION:LMP Sales – Malvern\, 166 Pennsylvania Ave\, Malvern\, PA\, 19355\, United States
CATEGORIES:Training
ATTACH;FMTTYPE=image/png:https://aprresources.com/wp-content/uploads/2020/07/LMP-Logo.png
END:VEVENT
END:VCALENDAR