BEGIN:VCALENDAR
VERSION:2.0
PRODID:-// - ECPv6.15.20//NONSGML v1.0//EN
CALSCALE:GREGORIAN
METHOD:PUBLISH
X-ORIGINAL-URL:https://aprresources.com
X-WR-CALDESC:Events for 
REFRESH-INTERVAL;VALUE=DURATION:PT1H
X-Robots-Tag:noindex
X-PUBLISHED-TTL:PT1H
BEGIN:VTIMEZONE
TZID:America/New_York
BEGIN:DAYLIGHT
TZOFFSETFROM:-0500
TZOFFSETTO:-0400
TZNAME:EDT
DTSTART:20230312T070000
END:DAYLIGHT
BEGIN:STANDARD
TZOFFSETFROM:-0400
TZOFFSETTO:-0500
TZNAME:EST
DTSTART:20231105T060000
END:STANDARD
BEGIN:DAYLIGHT
TZOFFSETFROM:-0500
TZOFFSETTO:-0400
TZNAME:EDT
DTSTART:20240310T070000
END:DAYLIGHT
BEGIN:STANDARD
TZOFFSETFROM:-0400
TZOFFSETTO:-0500
TZNAME:EST
DTSTART:20241103T060000
END:STANDARD
BEGIN:DAYLIGHT
TZOFFSETFROM:-0500
TZOFFSETTO:-0400
TZNAME:EDT
DTSTART:20250309T070000
END:DAYLIGHT
BEGIN:STANDARD
TZOFFSETFROM:-0400
TZOFFSETTO:-0500
TZNAME:EST
DTSTART:20251102T060000
END:STANDARD
BEGIN:DAYLIGHT
TZOFFSETFROM:-0500
TZOFFSETTO:-0400
TZNAME:EDT
DTSTART:20260308T070000
END:DAYLIGHT
BEGIN:STANDARD
TZOFFSETFROM:-0400
TZOFFSETTO:-0500
TZNAME:EST
DTSTART:20261101T060000
END:STANDARD
END:VTIMEZONE
BEGIN:VEVENT
DTSTART;TZID=America/New_York:20250313T080000
DTEND;TZID=America/New_York:20250313T100000
DTSTAMP:20260424T095736
CREATED:20250217T190746Z
LAST-MODIFIED:20250306T182631Z
UID:10001112-1741852800-1741860000@aprresources.com
SUMMARY:POSTPONED: Healthy Home Devices and How to Sell Them—Lancaster/Lebanon
DESCRIPTION:Couse Overview: \n\nWhy focus on IAQ (Indoor Air Quality)?\nWhy PremierOne?\nWhat’s the opportunity for contractors?\nKey Products Review\nMarketing Materials\n\nTrainer: Tom Cowell\, PremierOne \nPlease note: Beginning fall 2024\, APR Supply Co. will be implementing a new payment and cancellation policy. Please click here to view these new stipulations.  \n*Includes breakfast refreshments and all class materials \n 
URL:https://aprresources.com/event/healthy-home-devices-and-how-to-sell-them-lancaster-lebanon/
LOCATION:Listrak\, 100 W Millport Rd\, Lititz\, PA\, 17543\, United States
CATEGORIES:Training
ATTACH;FMTTYPE=image/png:https://aprresources.com/wp-content/uploads/2024/08/PremierOne-Featured-Pic-.png
ORGANIZER;CN="APR Marketing Department":MAILTO:marketing@aprsupply.com
END:VEVENT
BEGIN:VEVENT
DTSTART;TZID=America/New_York:20241211T080000
DTEND;TZID=America/New_York:20241211T120000
DTSTAMP:20260424T095736
CREATED:20240723T193853Z
LAST-MODIFIED:20241206T135551Z
UID:10000917-1733904000-1733918400@aprresources.com
SUMMARY:POSTPONED: Gruvlok PVF Training 101—Lititz
DESCRIPTION:Join us for a Gruvlok 101 hands-on training experience! \nTopics covered include the following: \n\nIntroduction to Gruvlok grooving system\nReview of product offerings\nWhere Gruvlok is used\nHow to sell\nWho the competition is\nHands-on roll grooving demonstration\n\n*Light breakfast refreshments provided by Gruvlok. 
URL:https://aprresources.com/event/gruvlok-pvf-training-101-lititz/
LOCATION:Listrak\, 100 W Millport Rd\, Lititz\, PA\, 17543\, United States
CATEGORIES:Training
ATTACH;FMTTYPE=image/png:https://aprresources.com/wp-content/uploads/2024/07/Gruvlok-Featured-Pic-.png
ORGANIZER;CN="APR Marketing Department":MAILTO:marketing@aprsupply.com
END:VEVENT
BEGIN:VEVENT
DTSTART;TZID=America/New_York:20241030T080000
DTEND;TZID=America/New_York:20241031T163000
DTSTAMP:20260424T095736
CREATED:20240430T190718Z
LAST-MODIFIED:20241023T141321Z
UID:10000819-1730275200-1730392200@aprresources.com
SUMMARY:Strategic Financial Mastery: Unleashing the Power of Planning for Success (Central PA Region)
DESCRIPTION:Join us for an exciting session on “Strategic Financial Mastery: Unleashing the Power of Planning for Success.” Discover the secrets to strategic planning and financial prowess that will propel your business forward. Learn how to assess your current situation\, set goals\, develop winning strategies\, and make informed financial decisions. \nWho should attend? \nBusiness Owners\, Managers\, Key Stakeholders \nAgenda \nDay One (8 a.m. – 4:30 p.m.) \n\nSession One: Understanding Strategy and Adopting a Strategic Mindset\nSession Two: Examining Your Environment\nSession Three: Setting Your Direction\nSession Four: Defining & Measuring Success\nSession Five: Executing the Plan\n\nDay Two (8 a.m. – 4:30 p.m.) \n\nSession One: Understanding Your Finances\nSession Two: Developing Financial Organization\nSession Three: Strategic Financial Management\n\nCost \n$750 per attendee.* Cost includes training\, training materials\, breakfast\, lunch and snacks. (Class invoiced upon registration. Co-op and Award Points eligible.) \n*Overnight accommodation not included in the price. \nNeed A Room?  \nPlease find a list of hotels near to Listrak below. Each has been linked to the hotel’s website. If you have any questions about hotel recommendations or locations\, please email Suzy at sbiever@aprsupply.com.  \nThe Wilbur Lititz  \nHoliday Inn Express & Suites Lancaster-Lititz \nHotel Rock Lititz \nHilton Garden Inn Lancaster \nFairfield Inn & Suites Lancaster \nHampton Inn Lancaster \nCourtyard Lancaster \nResidence Inn Lancaster \nHome2 Suites by Hilton Lancaster\, PA Hotel \nDon’t miss this opportunity to gain the knowledge and skills needed to drive your organization’s success.
URL:https://aprresources.com/event/strategic-financial-mastery-unleashing-the-power-of-planning-for-success-central-region/
LOCATION:Listrak\, 100 W Millport Rd\, Lititz\, PA\, 17543\, United States
CATEGORIES:Training
ATTACH;FMTTYPE=image/png:https://aprresources.com/wp-content/uploads/2024/02/QSC-Featured-Image.png
ORGANIZER;CN="APR Marketing Department":MAILTO:marketing@aprsupply.com
END:VEVENT
BEGIN:VEVENT
DTSTART;TZID=America/New_York:20241001T080000
DTEND;TZID=America/New_York:20241001T160000
DTSTAMP:20260424T095736
CREATED:20240626T202314Z
LAST-MODIFIED:20240930T123322Z
UID:10000900-1727769600-1727798400@aprresources.com
SUMMARY:Gas Furnace Installation & Troubleshooting—Lititz
DESCRIPTION:This is an overview of gas furnace technology. The class includes proper gas pipe and vent sizing\, combustion air code issues\, furnace set up and start up. This introductory training also covers troubleshooting of individual parts and problems. \n*Includes light breakfast refreshments\, lunch & all class materials \nTrainer: Mark Elmer  \nPlease note: Beginning fall 2024\, APR Supply Co. will be implementing a new payment and cancellation policy. Please click here to view these new stipulations. 
URL:https://aprresources.com/event/gas-furnace-installation-troubleshooting-lititz/
LOCATION:Listrak\, 100 W Millport Rd\, Lititz\, PA\, 17543\, United States
CATEGORIES:Training
ATTACH;FMTTYPE=image/jpeg:https://aprresources.com/wp-content/uploads/2024/06/qtq80-PVk5mS.jpeg
ORGANIZER;CN="APR Marketing Department":MAILTO:marketing@aprsupply.com
END:VEVENT
BEGIN:VEVENT
DTSTART;TZID=America/New_York:20240627T080000
DTEND;TZID=America/New_York:20240627T160000
DTSTAMP:20260424T095736
CREATED:20240122T170342Z
LAST-MODIFIED:20240416T142401Z
UID:10000739-1719475200-1719504000@aprresources.com
SUMMARY:Basic HVAC Training - Lancaster
DESCRIPTION:The subject of modern HVAC systems is complex. Because we rely on these systems to heat\, cool\, humidify\, dehumidify\, ventilate and condition the air in our homes\, these systems have become very important to our lives. This class will include an introduction to these areas of the field: Controls\, Forced Air Heating\, Air Conditioning and Heat Pumps\, Ventilation and IAQ.
URL:https://aprresources.com/event/basic-hvac-training-lancaster/
LOCATION:Listrak\, 100 W Millport Rd\, Lititz\, PA\, 17543\, United States
CATEGORIES:Training
ATTACH;FMTTYPE=image/jpeg:https://aprresources.com/wp-content/uploads/2024/01/iStock-1328050223-scaled.jpg
ORGANIZER;CN="APR Marketing Department":MAILTO:marketing@aprsupply.com
END:VEVENT
BEGIN:VEVENT
DTSTART;TZID=America/New_York:20240425T080000
DTEND;TZID=America/New_York:20240425T163000
DTSTAMP:20260424T095736
CREATED:20240112T194826Z
LAST-MODIFIED:20240415T192826Z
UID:10000709-1714032000-1714062600@aprresources.com
SUMMARY:POSTPONED: Fujitsu ETSD - Lancaster
DESCRIPTION:COURSE OVERVIEW: \nThis is a one-day regional class providing in-depth troubleshooting for Inverter systems. The class is an instructor-led\, hands-on course offering classroom style training on multi-meters\, DC controls and circuits with diagnosis and testing of Fujitsu outdoor unit circuit boards. \nContractor gift of Fine Point Test Leads included. (Valued at $30) \n 
URL:https://aprresources.com/event/fujitsu-etsd-lancaster/
LOCATION:Listrak\, 100 W Millport Rd\, Lititz\, PA\, 17543\, United States
CATEGORIES:Training
ATTACH;FMTTYPE=image/png:https://aprresources.com/wp-content/uploads/2021/02/Fujitsu-ETSD.png
ORGANIZER;CN="APR Marketing Department":MAILTO:marketing@aprsupply.com
END:VEVENT
BEGIN:VEVENT
DTSTART;TZID=America/New_York:20240417T080000
DTEND;TZID=America/New_York:20240417T160000
DTSTAMP:20260424T095736
CREATED:20240404T182029Z
LAST-MODIFIED:20240405T201416Z
UID:10000807-1713340800-1713369600@aprresources.com
SUMMARY:A2L Refrigerant Training & Certification - Listrak
DESCRIPTION:The HVACR industry is transitioning away from equipment that uses R-410A in favor of new equipment with Low GWP Refrigerants such as R-32 and R-454B. Our trainers will teach you to properly handle\, store and transport Low GWP Refrigerants.  Please note\, APR Supply Co. will provide the training\, course materials and test. Test results are mailed to ESCO Institute and graded solely by ESCO. ​ \nDid you know? \n·These are classified as A2L refrigerants\, or mildly flammable by ASHRAE? \n·That most systems will have refrigerant detection systems on board that can shut a system down in the event of a leak? \n·How you store and transport refrigerant cylinders will change?
URL:https://aprresources.com/event/a2l-refrigerant-training-certification-listrak/
LOCATION:Listrak\, 100 W Millport Rd\, Lititz\, PA\, 17543\, United States
CATEGORIES:Training
ATTACH;FMTTYPE=image/png:https://aprresources.com/wp-content/uploads/2024/03/A2L-Featured-Pic-.png
ORGANIZER;CN="APR Marketing Department":MAILTO:marketing@aprsupply.com
END:VEVENT
BEGIN:VEVENT
DTSTART;TZID=America/New_York:20240201T080000
DTEND;TZID=America/New_York:20240201T160000
DTSTAMP:20260424T095736
CREATED:20231221T211044Z
LAST-MODIFIED:20240130T135455Z
UID:10000680-1706774400-1706803200@aprresources.com
SUMMARY:Bosch IDS Training_Lancaster (Postponed)
DESCRIPTION:This event has been postponed. \nJoin Us. \nFrom a product line overview to installation and troubleshooting\, learn the ins and outs of the Bosch IDS 2.0 system. \n$90 includes light breakfast & lunch.
URL:https://aprresources.com/event/bosch-ids-training_lancaster/
LOCATION:Listrak\, 100 W Millport Rd\, Lititz\, PA\, 17543\, United States
CATEGORIES:Training
ATTACH;FMTTYPE=image/png:https://aprresources.com/wp-content/uploads/2020/09/Bosch-System.png
ORGANIZER;CN="APR Marketing Department":MAILTO:marketing@aprsupply.com
END:VEVENT
BEGIN:VEVENT
DTSTART;TZID=America/New_York:20240130T080000
DTEND;TZID=America/New_York:20240130T160000
DTSTAMP:20260424T095736
CREATED:20231221T203951Z
LAST-MODIFIED:20240110T210404Z
UID:10000679-1706601600-1706630400@aprresources.com
SUMMARY:Fujitsu Next Tech - Lancaster
DESCRIPTION:This entry-level class’s goal is to assist technicians and installers who work with mini-split systems to be more familiar with installation and application differences from traditional unitary systems\, without boring them to death with sales jargon and promotion. \n\n\n\nThis course provides a great technical overview of Fujitsu’s Halcyon products. It provides a more technical perspective than the FAST class\, while complimenting it with application ideas\, pictures\, installation hints\, tips and requirements. Troubleshooting sections offer excellent guidance for system and component troubleshooting. This full-day course helps ensure all participants receive the basics skills and knowledge to apply and support Fujitsu mini-split products. \nRegistration for Dealers:  \n• Go to connect.fujitsugeneral.com• Click on “Login to Connect”• Login to your Fujitsu Connect Account or “Register” to Create Account• Click on “Courses” and Select Fujitsu Next Tech• Click “Classes” and find the class you’d like to register for \nRegistration for Non-Dealers:  \n• Please use registration button below. 
URL:https://aprresources.com/event/fujitsu-next-tech-lancaster/
LOCATION:Listrak\, 100 W Millport Rd\, Lititz\, PA\, 17543\, United States
CATEGORIES:Training
ATTACH;FMTTYPE=image/jpeg:https://aprresources.com/wp-content/uploads/2023/01/Next-Tech.jpg
ORGANIZER;CN="APR Marketing Department":MAILTO:marketing@aprsupply.com
END:VEVENT
END:VCALENDAR