BEGIN:VCALENDAR
VERSION:2.0
PRODID:-// - ECPv6.15.20//NONSGML v1.0//EN
CALSCALE:GREGORIAN
METHOD:PUBLISH
X-ORIGINAL-URL:https://aprresources.com
X-WR-CALDESC:Events for 
REFRESH-INTERVAL;VALUE=DURATION:PT1H
X-Robots-Tag:noindex
X-PUBLISHED-TTL:PT1H
BEGIN:VTIMEZONE
TZID:America/New_York
BEGIN:DAYLIGHT
TZOFFSETFROM:-0500
TZOFFSETTO:-0400
TZNAME:EDT
DTSTART:20220313T070000
END:DAYLIGHT
BEGIN:STANDARD
TZOFFSETFROM:-0400
TZOFFSETTO:-0500
TZNAME:EST
DTSTART:20221106T060000
END:STANDARD
BEGIN:DAYLIGHT
TZOFFSETFROM:-0500
TZOFFSETTO:-0400
TZNAME:EDT
DTSTART:20230312T070000
END:DAYLIGHT
BEGIN:STANDARD
TZOFFSETFROM:-0400
TZOFFSETTO:-0500
TZNAME:EST
DTSTART:20231105T060000
END:STANDARD
BEGIN:DAYLIGHT
TZOFFSETFROM:-0500
TZOFFSETTO:-0400
TZNAME:EDT
DTSTART:20240310T070000
END:DAYLIGHT
BEGIN:STANDARD
TZOFFSETFROM:-0400
TZOFFSETTO:-0500
TZNAME:EST
DTSTART:20241103T060000
END:STANDARD
BEGIN:DAYLIGHT
TZOFFSETFROM:-0500
TZOFFSETTO:-0400
TZNAME:EDT
DTSTART:20250309T070000
END:DAYLIGHT
BEGIN:STANDARD
TZOFFSETFROM:-0400
TZOFFSETTO:-0500
TZNAME:EST
DTSTART:20251102T060000
END:STANDARD
BEGIN:DAYLIGHT
TZOFFSETFROM:-0500
TZOFFSETTO:-0400
TZNAME:EDT
DTSTART:20260308T070000
END:DAYLIGHT
BEGIN:STANDARD
TZOFFSETFROM:-0400
TZOFFSETTO:-0500
TZNAME:EST
DTSTART:20261101T060000
END:STANDARD
END:VTIMEZONE
BEGIN:VEVENT
DTSTART;TZID=America/New_York:20250923T083000
DTEND;TZID=America/New_York:20250923T120000
DTSTAMP:20260424T130649
CREATED:20250722T140443Z
LAST-MODIFIED:20250722T140555Z
UID:10001296-1758616200-1758628800@aprresources.com
SUMMARY:PPA TEC Mandatory HazMat Training 172.704 (previously HM-126F)
DESCRIPTION:Note: This class was previously labeled HM-126F Certification & HazMat CSA Training \nThe Department of Transportation (DOT) requires hazardous material training under 49 CFR 172.704. This requirement applies to any company who transports gasoline\, diesel\, heating oil\, and and/or propane. ALL PERSONNEL handling these hazardous materials\, including those preparing shipping papers\, marking\, labeling\, and packaging.  Commercial vehicle drivers and mechanics who work on hazardous material packages must also receive training. Training includes general awareness\, function-specific training\, safety\, security awareness\, and in-depth security training. Certification of the training is essential for all employees who handle hazardous materials in order to avoid potential civil and criminal violations for non-compliance. \nCLICK HERE to view U.S. Department of Transportation frequently asked questions. \nFrequency of HazMat Training 172.704  \nInitial training of new hazmat employees\, or an employee who changes job functions\, must be completed within 90 days of employment or change in job function. Recurrent training is required at least once every three years. The three-year period begins on the actual date of training. \nMandatory HazMat Training will follow the requirements as outlined in 172.704 which includes: \n\nPhase I: General Awareness\nPhase II: Function Specific\nPhase III: Safety\nPhase IV: Security Awareness\n\nWho Must Be Trained \nA “HazMat Employee” is defined as a person who is employed on a temporary\, part-time or full-time basis by a HazMat Employer\, or is self-employed and in the course of employment\, directly affects the safe transportation of hazardous materials. It includes someone who loads\, unloads or handles hazardous materials; fabricates\, inspects\, marks\, maintains\, reconditions\, repairs or tests or otherwise represents containers\, drums or packaging as qualified for use in transportation of hazardous materials; prepares hazardous materials for shipment; is responsible for the safety of transporting hazardous materials; or operates a vehicle used to transport hazardous materials. \nRegistration fees include the following complimentary items: \n\nLunch will be provided at conclusion of class.\nCertificates will be provided by email after confirmation of class attendance.\n\nOur Instructor: Norm Anger spent over three decades as a State Trooper including 25 years as a Sergeant assigned to the Commercial Vehicle Enforcement Unit. His primary areas of focus included directing officers engaged in roadside inspections\, commercial vehicle accidents\, and HazMat incident investigations. Norm also served as an Associate Staff Lead Instructor for the National Training Center in Washington\, DC\, for 25 years. The National Training Center is the education branch of the Federal Motor Carrier Safety Administration responsible for training both state and federal roadside inspectors throughout the United States. \n\n\n\n\n\n\n\n\n\n\n\n\nEvent Item Name\nExpires\nPricing\n\n\n\n\nMember Ticket – Discounted price is for PPA members\, PPATEC members\, or petroleum marketers who deliver fuel oil in the state of Pennsylvania.\nSep 22\, 2025\n\n\n$200.00\n\n\n\nNon-Member Ticket – Full ticket price is for companies/individuals who are not currently PPA members\, PPATEC members\, or petroleum marketers who do not deliver fuel oil in the state of Pennsylvania.\nSep 22\, 2025\n\n\n$250.00
URL:https://aprresources.com/event/ppa-tec-mandatory-hazmat-training-172-704-previously-hm-126f-3/
LOCATION:Courtyard by Marriott – Altoona\, 2 Convention Center Drive\, Altoona\, PA\, 16602\, United States
CATEGORIES:Training
ATTACH;FMTTYPE=image/png:https://aprresources.com/wp-content/uploads/2024/01/PPATEC-Featured-Pic-2.png
ORGANIZER;CN="PPA TEC":MAILTO:training@papetroleum.org
END:VEVENT
BEGIN:VEVENT
DTSTART;TZID=America/New_York:20230508T083000
DTEND;TZID=America/New_York:20230508T120000
DTSTAMP:20260424T130649
CREATED:20230330T183058Z
LAST-MODIFIED:20230330T210629Z
UID:10000491-1683534600-1683547200@aprresources.com
SUMMARY:PPATEC: HM-126F Certification & HazMat CSA Training
DESCRIPTION:Description \nIncludes 49 CFR Parts 172 and 177 & CSA (Compliance\, Safety and Accountability) Training \n49 CFR Parts 172.704 states a HazMat employee shall receive certified training required by these subparts at least once every three years. All intrastate and interstate motor carriers transporting hazardous materials\, in quantities requiring the display of placards\, are required to obtain and display a US DOT number beginning May 1\, 2010. These carriers are also subject to the Compliance\, Safety\, and Accountability (CSA) program. \nThe HM-126F Certification will follow the requirements as outlined in 172.704 which includes: \n\nPhase I: General Awareness\nPhase II: Function Specific\nPhase III: Safety\nPhase IV: Security Awareness\n\nInstructor: Norm Anger \n\n\n\n\n\n\nEvent Item Name\nExpires\nPricing\n\n\nMember Ticket – Discounted price is for PPA members\, PPATEC members\, or petroleum marketers who deliver fuel oil in the state of Pennsylvania.\nMay 05\, 2023\n\n\n$180.00\n\n\n\nNon-Member Ticket – Full ticket price is for companies/individuals who are not currently PPA members\, PPATEC members\, or petroleum marketers who do not deliver fuel oil in the state of Pennsylvania.\nMay 05\, 2023\n$225.00\n\n\n\nClick here to register.
URL:https://aprresources.com/event/ppatec-hm-126f-certification-hazmat-csa-training/
LOCATION:Courtyard by Marriott – Altoona\, 2 Convention Center Drive\, Altoona\, PA\, 16602\, United States
CATEGORIES:Training
ATTACH;FMTTYPE=image/webp:https://aprresources.com/wp-content/uploads/2023/02/PPATEC-HVAC-Training.webp
END:VEVENT
END:VCALENDAR