BEGIN:VCALENDAR
VERSION:2.0
PRODID:-// - ECPv6.15.20//NONSGML v1.0//EN
CALSCALE:GREGORIAN
METHOD:PUBLISH
X-ORIGINAL-URL:https://aprresources.com
X-WR-CALDESC:Events for 
REFRESH-INTERVAL;VALUE=DURATION:PT1H
X-Robots-Tag:noindex
X-PUBLISHED-TTL:PT1H
BEGIN:VTIMEZONE
TZID:America/New_York
BEGIN:DAYLIGHT
TZOFFSETFROM:-0500
TZOFFSETTO:-0400
TZNAME:EDT
DTSTART:20230312T070000
END:DAYLIGHT
BEGIN:STANDARD
TZOFFSETFROM:-0400
TZOFFSETTO:-0500
TZNAME:EST
DTSTART:20231105T060000
END:STANDARD
BEGIN:DAYLIGHT
TZOFFSETFROM:-0500
TZOFFSETTO:-0400
TZNAME:EDT
DTSTART:20240310T070000
END:DAYLIGHT
BEGIN:STANDARD
TZOFFSETFROM:-0400
TZOFFSETTO:-0500
TZNAME:EST
DTSTART:20241103T060000
END:STANDARD
BEGIN:DAYLIGHT
TZOFFSETFROM:-0500
TZOFFSETTO:-0400
TZNAME:EDT
DTSTART:20250309T070000
END:DAYLIGHT
BEGIN:STANDARD
TZOFFSETFROM:-0400
TZOFFSETTO:-0500
TZNAME:EST
DTSTART:20251102T060000
END:STANDARD
END:VTIMEZONE
BEGIN:VEVENT
DTSTART;TZID=America/New_York:20240507T080000
DTEND;TZID=America/New_York:20240507T110000
DTSTAMP:20260424T080718
CREATED:20240329T192009Z
LAST-MODIFIED:20240410T195807Z
UID:10000803-1715068800-1715079600@aprresources.com
SUMMARY:Allied Air Dealer Meeting
DESCRIPTION:You are invited to join us for an exclusive dealer only event to learn about the latest Allied Air products from Mid-Atlantic Sales Manager Tim Wallace. Our very own Jeff Thompson will be on site to talk through the 2024 regulatory updates as well.
URL:https://aprresources.com/event/allied-air-dealer-meeting-3/
LOCATION:Blue Bell Country Club\, 1800 Tournament Dr.\, Blue Bell\, Pennsylvania\, 19422\, United States
CATEGORIES:Dealer Meeting
ORGANIZER;CN="Katelynne Reese":MAILTO:kreese@aprsupply.com
END:VEVENT
END:VCALENDAR