BEGIN:VCALENDAR
VERSION:2.0
PRODID:-// - ECPv6.15.20//NONSGML v1.0//EN
CALSCALE:GREGORIAN
METHOD:PUBLISH
X-ORIGINAL-URL:https://aprresources.com
X-WR-CALDESC:Events for 
REFRESH-INTERVAL;VALUE=DURATION:PT1H
X-Robots-Tag:noindex
X-PUBLISHED-TTL:PT1H
BEGIN:VTIMEZONE
TZID:America/New_York
BEGIN:DAYLIGHT
TZOFFSETFROM:-0500
TZOFFSETTO:-0400
TZNAME:EDT
DTSTART:20230312T070000
END:DAYLIGHT
BEGIN:STANDARD
TZOFFSETFROM:-0400
TZOFFSETTO:-0500
TZNAME:EST
DTSTART:20231105T060000
END:STANDARD
BEGIN:DAYLIGHT
TZOFFSETFROM:-0500
TZOFFSETTO:-0400
TZNAME:EDT
DTSTART:20240310T070000
END:DAYLIGHT
BEGIN:STANDARD
TZOFFSETFROM:-0400
TZOFFSETTO:-0500
TZNAME:EST
DTSTART:20241103T060000
END:STANDARD
BEGIN:DAYLIGHT
TZOFFSETFROM:-0500
TZOFFSETTO:-0400
TZNAME:EDT
DTSTART:20250309T070000
END:DAYLIGHT
BEGIN:STANDARD
TZOFFSETFROM:-0400
TZOFFSETTO:-0500
TZNAME:EST
DTSTART:20251102T060000
END:STANDARD
END:VTIMEZONE
BEGIN:VEVENT
DTSTART;TZID=America/New_York:20241025T080000
DTEND;TZID=America/New_York:20241025T170000
DTSTAMP:20260424T134451
CREATED:20240522T195034Z
LAST-MODIFIED:20240522T195034Z
UID:10000831-1729843200-1729875600@aprresources.com
SUMMARY:Arzel Comfort College
DESCRIPTION:What is Comfort College?\n\n\n\n\nArzel’s Comfort College® training is is our regular one-day Comfort College training course and designed as a lecture/lab training session. \nThis course covers key zoning topics that are crucial to delivering superior comfort to your customers. \nIn addition to classroom discussions\, trainees receive hands-on experience in Arzel’s Zoning Installation Lab. Let our instructors provide you with simple and easy techniques to increase revenue AND save time on installation. Receive 10 NATE & 10 OCILB credit hours. \nCOVERED TOPICS: \n\nRecognizing Zoning Opportunities\nProduct Familiarization\nSystem Design\nProper Installation Techniques\nSales & Marketing Tips\n\nINCLUDES BREAKFAST\, LUNCH\, LICENSING FEES\, AND OTHER TRAINING AND SUPPORT MATERIALS. \nClasses are held from 8:00am to 5:00pm.
URL:https://aprresources.com/event/arzel-comfort-college-2/
LOCATION:Arzel Zoning Installation Lab\, 4801 Commerce Parkway\, Celveland\, OH\, 44128\, United States
CATEGORIES:Training
ATTACH;FMTTYPE=image/png:https://aprresources.com/wp-content/uploads/2024/05/Arzel-Zoning-Comfort-College-.png
ORGANIZER;CN="Arzel":MAILTO:techsupport@arzelzoning.com
END:VEVENT
BEGIN:VEVENT
DTSTART;TZID=America/New_York:20240906T080000
DTEND;TZID=America/New_York:20240906T170000
DTSTAMP:20260424T134451
CREATED:20240522T193510Z
LAST-MODIFIED:20240522T194733Z
UID:10000830-1725609600-1725642000@aprresources.com
SUMMARY:Arzel Comfort College
DESCRIPTION:What is Comfort College?\n\n\n\n\nArzel’s Comfort College® training is is our regular one-day Comfort College training course and designed as a lecture/lab training session. \nThis course covers key zoning topics that are crucial to delivering superior comfort to your customers. \nIn addition to classroom discussions\, trainees receive hands-on experience in Arzel’s Zoning Installation Lab. Let our instructors provide you with simple and easy techniques to increase revenue AND save time on installation. Receive 10 NATE & 10 OCILB credit hours. \nCOVERED TOPICS: \n\nRecognizing Zoning Opportunities\nProduct Familiarization\nSystem Design\nProper Installation Techniques\nSales & Marketing Tips\n\nINCLUDES BREAKFAST\, LUNCH\, LICENSING FEES\, AND OTHER TRAINING AND SUPPORT MATERIALS. \nClasses are held from 8:00am to 5:00pm.
URL:https://aprresources.com/event/arzel-comfort-college/
LOCATION:Arzel Zoning Installation Lab\, 4801 Commerce Parkway\, Celveland\, OH\, 44128\, United States
CATEGORIES:Training
ATTACH;FMTTYPE=image/png:https://aprresources.com/wp-content/uploads/2024/05/Arzel-Zoning-Comfort-College-.png
ORGANIZER;CN="Arzel":MAILTO:techsupport@arzelzoning.com
END:VEVENT
END:VCALENDAR