BEGIN:VCALENDAR
VERSION:2.0
PRODID:-// - ECPv6.15.20//NONSGML v1.0//EN
CALSCALE:GREGORIAN
METHOD:PUBLISH
X-ORIGINAL-URL:https://aprresources.com
X-WR-CALDESC:Events for 
REFRESH-INTERVAL;VALUE=DURATION:PT1H
X-Robots-Tag:noindex
X-PUBLISHED-TTL:PT1H
BEGIN:VTIMEZONE
TZID:America/New_York
BEGIN:DAYLIGHT
TZOFFSETFROM:-0500
TZOFFSETTO:-0400
TZNAME:EDT
DTSTART:20200308T070000
END:DAYLIGHT
BEGIN:STANDARD
TZOFFSETFROM:-0400
TZOFFSETTO:-0500
TZNAME:EST
DTSTART:20201101T060000
END:STANDARD
BEGIN:DAYLIGHT
TZOFFSETFROM:-0500
TZOFFSETTO:-0400
TZNAME:EDT
DTSTART:20210314T070000
END:DAYLIGHT
BEGIN:STANDARD
TZOFFSETFROM:-0400
TZOFFSETTO:-0500
TZNAME:EST
DTSTART:20211107T060000
END:STANDARD
BEGIN:DAYLIGHT
TZOFFSETFROM:-0500
TZOFFSETTO:-0400
TZNAME:EDT
DTSTART:20220313T070000
END:DAYLIGHT
BEGIN:STANDARD
TZOFFSETFROM:-0400
TZOFFSETTO:-0500
TZNAME:EST
DTSTART:20221106T060000
END:STANDARD
BEGIN:DAYLIGHT
TZOFFSETFROM:-0500
TZOFFSETTO:-0400
TZNAME:EDT
DTSTART:20230312T070000
END:DAYLIGHT
BEGIN:STANDARD
TZOFFSETFROM:-0400
TZOFFSETTO:-0500
TZNAME:EST
DTSTART:20231105T060000
END:STANDARD
BEGIN:DAYLIGHT
TZOFFSETFROM:-0500
TZOFFSETTO:-0400
TZNAME:EDT
DTSTART:20240310T070000
END:DAYLIGHT
BEGIN:STANDARD
TZOFFSETFROM:-0400
TZOFFSETTO:-0500
TZNAME:EST
DTSTART:20241103T060000
END:STANDARD
BEGIN:DAYLIGHT
TZOFFSETFROM:-0500
TZOFFSETTO:-0400
TZNAME:EDT
DTSTART:20250309T070000
END:DAYLIGHT
BEGIN:STANDARD
TZOFFSETFROM:-0400
TZOFFSETTO:-0500
TZNAME:EST
DTSTART:20251102T060000
END:STANDARD
BEGIN:DAYLIGHT
TZOFFSETFROM:-0500
TZOFFSETTO:-0400
TZNAME:EDT
DTSTART:20260308T070000
END:DAYLIGHT
BEGIN:STANDARD
TZOFFSETFROM:-0400
TZOFFSETTO:-0500
TZNAME:EST
DTSTART:20261101T060000
END:STANDARD
END:VTIMEZONE
BEGIN:VEVENT
DTSTART;TZID=America/New_York:20250520T110000
DTEND;TZID=America/New_York:20250520T130000
DTSTAMP:20260424T094348
CREATED:20250319T155257Z
LAST-MODIFIED:20250319T155621Z
UID:10001132-1747738800-1747746000@aprresources.com
SUMMARY:Pro Charge Counter Day—York
DESCRIPTION:Join us for a Pro Charge Counter Day! Meet the rep\, check out the products\, and enjoy light refreshments. \n 
URL:https://aprresources.com/event/pro-charge-counter-day-york/
LOCATION:APR Supply Co – York\, 418 N. Pershing Avenue\, York\, PA\, 17404\, United States
CATEGORIES:Counter Day
ATTACH;FMTTYPE=image/png:https://aprresources.com/wp-content/uploads/2025/03/Pro-Charge.png
ORGANIZER;CN="APR Marketing Department":MAILTO:marketing@aprsupply.com
END:VEVENT
BEGIN:VEVENT
DTSTART;TZID=America/New_York:20250430T100000
DTEND;TZID=America/New_York:20250430T140000
DTSTAMP:20260424T094348
CREATED:20250303T212746Z
LAST-MODIFIED:20250303T213508Z
UID:10001124-1746007200-1746021600@aprresources.com
SUMMARY:Milwaukee Counter Day—York
DESCRIPTION:Join us for a Milwaukee Tool Counter Day! Meet the rep\, check out the products\, enjoy light refreshments and 10% off purchases 4/30 only.
URL:https://aprresources.com/event/milwaukee-counter-day-york/
LOCATION:APR Supply Co – York\, 418 N. Pershing Avenue\, York\, PA\, 17404\, United States
CATEGORIES:Counter Day
ATTACH;FMTTYPE=image/png:https://aprresources.com/wp-content/uploads/2025/03/Milwaukee-Featured-Pic.png
ORGANIZER;CN="APR Marketing Department":MAILTO:marketing@aprsupply.com
END:VEVENT
BEGIN:VEVENT
DTSTART;TZID=America/New_York:20240509T073000
DTEND;TZID=America/New_York:20240509T150000
DTSTAMP:20260424T094348
CREATED:20240304T154710Z
LAST-MODIFIED:20240304T154720Z
UID:10000789-1715239800-1715266800@aprresources.com
SUMMARY:Milwaukee Tool Counter Day - York
DESCRIPTION:Join us for a Milwaukee Tool Counter Day! \nMeet the rep\, check out the products\, enjoy light refreshments and more. \nCheck out the Milwaukee Van\, and enjoy 10% off* Milwaukee Tool products! \n*Discount valid 5/9 from 7 AM to 5 PM
URL:https://aprresources.com/event/milwaukee-tool-counter-day/
LOCATION:APR Supply Co – York\, 418 N. Pershing Avenue\, York\, PA\, 17404\, United States
CATEGORIES:Counter Day
ATTACH;FMTTYPE=image/png:https://aprresources.com/wp-content/uploads/2024/03/Milwaukee-Tool-Featured-Pic-.png
ORGANIZER;CN="APR Marketing Department":MAILTO:marketing@aprsupply.com
END:VEVENT
BEGIN:VEVENT
DTSTART;TZID=America/New_York:20211118T080000
DTEND;TZID=America/New_York:20211118T090000
DTSTAMP:20260424T094348
CREATED:20211103T192514Z
LAST-MODIFIED:20211103T192524Z
UID:10000065-1637222400-1637226000@aprresources.com
SUMMARY:TracPipe Certification Training - York Branch
DESCRIPTION:Learn how to properly size and install TracPipe flexible gas piping and fittings. Attendees will also take TracPipe’s certification exam\, which is required to purchase TracPipe. \n\n\n\nClick the button below to register. \n\n\n\n	\n	\n	\n	\n    \n\n	    \n    \n        Registration is closed for this event.
URL:https://aprresources.com/event/tracpipe-certification-training-york-branch/
LOCATION:APR Supply Co – York\, 418 N. Pershing Avenue\, York\, PA\, 17404\, United States
CATEGORIES:Training
ATTACH;FMTTYPE=image/png:https://aprresources.com/wp-content/uploads/2021/06/TracPipe-Training.png
END:VEVENT
BEGIN:VEVENT
DTSTART;TZID=America/New_York:20211102T110000
DTEND;TZID=America/New_York:20211102T130000
DTSTAMP:20260424T094348
CREATED:20211019T203342Z
LAST-MODIFIED:20211019T203343Z
UID:10000195-1635850800-1635858000@aprresources.com
SUMMARY:Friedrich Counter Day - York Branch
DESCRIPTION:Stop in to the branch and check out the latest products from Friedrich. Matt Hopper from United Components will be on site to answer all your product questions including installation\, troubleshooting\, new products and more.
URL:https://aprresources.com/event/friedrich-counter-day-york-branch/
LOCATION:APR Supply Co – York\, 418 N. Pershing Avenue\, York\, PA\, 17404\, United States
CATEGORIES:Counter Day
ATTACH;FMTTYPE=image/png:https://aprresources.com/wp-content/uploads/2021/03/Friedrich.png
END:VEVENT
END:VCALENDAR