BEGIN:VCALENDAR
VERSION:2.0
PRODID:-// - ECPv6.15.20//NONSGML v1.0//EN
CALSCALE:GREGORIAN
METHOD:PUBLISH
X-ORIGINAL-URL:https://aprresources.com
X-WR-CALDESC:Events for 
REFRESH-INTERVAL;VALUE=DURATION:PT1H
X-Robots-Tag:noindex
X-PUBLISHED-TTL:PT1H
BEGIN:VTIMEZONE
TZID:America/New_York
BEGIN:DAYLIGHT
TZOFFSETFROM:-0500
TZOFFSETTO:-0400
TZNAME:EDT
DTSTART:20210314T070000
END:DAYLIGHT
BEGIN:STANDARD
TZOFFSETFROM:-0400
TZOFFSETTO:-0500
TZNAME:EST
DTSTART:20211107T060000
END:STANDARD
BEGIN:DAYLIGHT
TZOFFSETFROM:-0500
TZOFFSETTO:-0400
TZNAME:EDT
DTSTART:20220313T070000
END:DAYLIGHT
BEGIN:STANDARD
TZOFFSETFROM:-0400
TZOFFSETTO:-0500
TZNAME:EST
DTSTART:20221106T060000
END:STANDARD
BEGIN:DAYLIGHT
TZOFFSETFROM:-0500
TZOFFSETTO:-0400
TZNAME:EDT
DTSTART:20230312T070000
END:DAYLIGHT
BEGIN:STANDARD
TZOFFSETFROM:-0400
TZOFFSETTO:-0500
TZNAME:EST
DTSTART:20231105T060000
END:STANDARD
BEGIN:DAYLIGHT
TZOFFSETFROM:-0500
TZOFFSETTO:-0400
TZNAME:EDT
DTSTART:20240310T070000
END:DAYLIGHT
BEGIN:STANDARD
TZOFFSETFROM:-0400
TZOFFSETTO:-0500
TZNAME:EST
DTSTART:20241103T060000
END:STANDARD
BEGIN:DAYLIGHT
TZOFFSETFROM:-0500
TZOFFSETTO:-0400
TZNAME:EDT
DTSTART:20250309T070000
END:DAYLIGHT
BEGIN:STANDARD
TZOFFSETFROM:-0400
TZOFFSETTO:-0500
TZNAME:EST
DTSTART:20251102T060000
END:STANDARD
BEGIN:DAYLIGHT
TZOFFSETFROM:-0500
TZOFFSETTO:-0400
TZNAME:EDT
DTSTART:20260308T070000
END:DAYLIGHT
BEGIN:STANDARD
TZOFFSETFROM:-0400
TZOFFSETTO:-0500
TZNAME:EST
DTSTART:20261101T060000
END:STANDARD
END:VTIMEZONE
BEGIN:VEVENT
DTSTART;TZID=America/New_York:20250910T110000
DTEND;TZID=America/New_York:20250910T130000
DTSTAMP:20260424T095659
CREATED:20250724T145934Z
LAST-MODIFIED:20250724T152654Z
UID:10001321-1757502000-1757509200@aprresources.com
SUMMARY:Panasonic/TOTO Lunch & Learn—W. York
DESCRIPTION:Please join us to review new products from TOTO including upgraded features from our entry level toilets that hit a perfect 1\,000 MAP score\, all the way up to our new high end Neorest and Washlet bidet seats. We will also learn about Panasonic ventilation products. We will show the new WhisperGreen architectural grilles as well an introduction to ERV’s with newly appointed Panasonic product specialist and Northeast Area Sales Manager Paul Cook. \n\n\n\nPlease note: APR Supply Co. has implemented a payment and cancellation policy. Please click here to view these stipulations.  \n*Includes lunch provided by Panasonic/TOTO
URL:https://aprresources.com/event/panasonic-toto-lunch-learn-w-york/
LOCATION:APR Supply Co – West York\, 120 S. Adams Street\, York\, PA\, 17404\, United States
CATEGORIES:Training
ATTACH;FMTTYPE=image/jpeg:https://aprresources.com/wp-content/uploads/2020/04/toto_usa_libella_ecopower_faucet_series_180216_114424_1.jpg
ORGANIZER;CN="APR Marketing Department":MAILTO:marketing@aprsupply.com
END:VEVENT
BEGIN:VEVENT
DTSTART;TZID=America/New_York:20250529T070000
DTEND;TZID=America/New_York:20250529T100000
DTSTAMP:20260424T095659
CREATED:20250325T151457Z
LAST-MODIFIED:20250325T151536Z
UID:10001150-1748502000-1748512800@aprresources.com
SUMMARY:Fieldpiece Counter Day—West York
DESCRIPTION:Join us for a Fieldpiece Counter Day! Meet the rep\, check out the products\, enjoy light refreshments and more. \n 
URL:https://aprresources.com/event/fieldpiece-counter-day-west-york/
LOCATION:APR Supply Co – West York\, 120 S. Adams Street\, York\, PA\, 17404\, United States
CATEGORIES:Counter Day
ATTACH;FMTTYPE=image/png:https://aprresources.com/wp-content/uploads/2024/01/Fieldpiece-Logo.png
ORGANIZER;CN="APR Marketing Department":MAILTO:marketing@aprsupply.com
END:VEVENT
BEGIN:VEVENT
DTSTART;TZID=America/New_York:20250521T110000
DTEND;TZID=America/New_York:20250521T130000
DTSTAMP:20260424T095659
CREATED:20250320T131448Z
LAST-MODIFIED:20250320T131911Z
UID:10001141-1747825200-1747832400@aprresources.com
SUMMARY:Pro Charge Counter Day—West York
DESCRIPTION:Join us for a Pro Charge Counter Day! Meet the rep\, check out the products\, and enjoy light refreshments. \n 
URL:https://aprresources.com/event/pro-charge-counter-day-west-york/
LOCATION:APR Supply Co – West York\, 120 S. Adams Street\, York\, PA\, 17404\, United States
CATEGORIES:Counter Day
ATTACH;FMTTYPE=image/png:https://aprresources.com/wp-content/uploads/2025/03/Pro-Charge.png
ORGANIZER;CN="APR Marketing Department":MAILTO:marketing@aprsupply.com
END:VEVENT
BEGIN:VEVENT
DTSTART;TZID=America/New_York:20240314T080000
DTEND;TZID=America/New_York:20240314T160000
DTSTAMP:20260424T095659
CREATED:20240227T171232Z
LAST-MODIFIED:20240228T200356Z
UID:10000787-1710403200-1710432000@aprresources.com
SUMMARY:EPA Section 608 Technician Certification - West York
DESCRIPTION:Section 608 of the Federal Clean Air Act requires that all persons who maintain\, service\, repair or dispose of appliances that contain regulated refrigerants be certified in proper refrigerant handling techniques. The EPA has also placed a sales restriction on refrigerants\, limiting the sale of regulated refrigerants to certified technicians only. This course will give you the resources you need to study and pass the universal exam. You will review the material in the morning and take the test in the afternoon with time to study in between. \n*Light refreshments and lunch provided.  \n**Class cost includes class materials\, certification test\, and food. 
URL:https://aprresources.com/event/epa-section-608-technician-certification-west-york/
LOCATION:APR Supply Co – West York\, 120 S. Adams Street\, York\, PA\, 17404\, United States
CATEGORIES:Training
ATTACH;FMTTYPE=image/png:https://aprresources.com/wp-content/uploads/2024/02/HVAC-Tech-EPA-Featured-image.png
ORGANIZER;CN="APR Marketing Department":MAILTO:marketing@aprsupply.com
END:VEVENT
BEGIN:VEVENT
DTSTART;TZID=America/New_York:20240116T080000
DTEND;TZID=America/New_York:20240116T160000
DTSTAMP:20260424T095659
CREATED:20231221T202627Z
LAST-MODIFIED:20231221T202645Z
UID:10000677-1705392000-1705420800@aprresources.com
SUMMARY:Hydronics Training - West York
DESCRIPTION:Join us for a course on basic hydronics. We will be focusing on equipment overviews\, installation best practices\, troubleshooting tips and tricks\, and notable updates in the industry.
URL:https://aprresources.com/event/hydronics-training-west-york/
LOCATION:APR Supply Co – West York\, 120 S. Adams Street\, York\, PA\, 17404\, United States
CATEGORIES:Training
ATTACH;FMTTYPE=image/png:https://aprresources.com/wp-content/uploads/2022/07/Hydronics.png
ORGANIZER;CN="APR Marketing Department":MAILTO:marketing@aprsupply.com
END:VEVENT
BEGIN:VEVENT
DTSTART;TZID=America/New_York:20231010T080000
DTEND;TZID=America/New_York:20231010T160000
DTSTAMP:20260424T095659
CREATED:20230926T130125Z
LAST-MODIFIED:20230927T152001Z
UID:10000645-1696924800-1696953600@aprresources.com
SUMMARY:A2L Refrigerant Training &  Certification - West York
DESCRIPTION:The HVACR industry is transitioning away from equipment that uses R-410A in favor of new equipment with Low GWP Refrigerants such as R-32 and R-454B. Our trainers will teach you to properly handle\, store and transport Low GWP Refrigerants.  Please note\, APR Supply Co. will provide the training\, course materials and test. Test results are mailed to ESCO Institute and graded solely by ESCO. ​ \nDid you know? \n·These are classified as A2L refrigerants\, or mildly flammable by ASHRAE? \n·That most systems will have refrigerant detection systems on board that can shut a system down in the event of a leak? \n·How you store and transport refrigerant cylinders will change? \nClick the button below to register. \n\n	\n	\n	\n	\n    \n\n	    \n    \n        Registration is closed for this event.
URL:https://aprresources.com/event/a2l-refrigerant-training-certification-west-york/
LOCATION:APR Supply Co – West York\, 120 S. Adams Street\, York\, PA\, 17404\, United States
CATEGORIES:Training
ATTACH;FMTTYPE=image/png:https://aprresources.com/wp-content/uploads/2022/07/Low-GWP-Refrigrant-Safety.png
END:VEVENT
BEGIN:VEVENT
DTSTART;TZID=America/New_York:20220503T080000
DTEND;TZID=America/New_York:20220503T120000
DTSTAMP:20260424T095700
CREATED:20220415T133022Z
LAST-MODIFIED:20220415T133028Z
UID:10000252-1651564800-1651579200@aprresources.com
SUMMARY:Allied Lynx Training – West York Branch
DESCRIPTION:Please join us for an overview of the latest product from Allied Air. The Allied Lynx Featuring improved dehumidification\, lower noise levels and greater efficiency over conventional single-stage and two-stage heat pumps\, the LYNX 18 delivers class-leading performance and installation speed\, with comfort features that continue to work hard long after installation. Learn the details of installation and troubleshooting these units utilizing our newly built live fire cart. Light refreshments will be provided. \n\n\n\nThis training will take place in the training room inside the York Corrugating facility that is attached to our APR Supply Co Branch. \n\n\n\nClick the button below to register. \n\n\n\n	\n	\n	\n	\n    \n\n	    \n    \n        Registration is closed for this event.
URL:https://aprresources.com/event/allied-lynx-training-west-york-branch-2/
LOCATION:APR Supply Co – West York\, 120 S. Adams Street\, York\, PA\, 17404\, United States
CATEGORIES:Training
ATTACH;FMTTYPE=image/png:https://aprresources.com/wp-content/uploads/2022/02/Allied-Lynx-18.png
END:VEVENT
BEGIN:VEVENT
DTSTART;TZID=America/New_York:20220317T080000
DTEND;TZID=America/New_York:20220317T120000
DTSTAMP:20260424T095700
CREATED:20220228T195326Z
LAST-MODIFIED:20220228T195332Z
UID:10000232-1647504000-1647518400@aprresources.com
SUMMARY:Allied Lynx Training - West York Branch
DESCRIPTION:Please join us for an overview of the latest product from Allied Air. The Allied Lynx Featuring improved dehumidification\, lower noise levels and greater efficiency over conventional single-stage and two-stage heat pumps\, the LYNX 18 delivers class-leading performance and installation speed\, with comfort features that continue to work hard long after installation. Learn the details of installation and troubleshooting these units utilizing our newly built live fire cart. Light refreshments will be provided. \n\n\n\nThis training will take place in the training room inside the York Corrugating facility that is attached to our APR Supply Co Branch.  \n\n\n\nClick the button below to register. \n\n\n\n	\n	\n	\n	\n    \n\n	    \n    \n        Registration is closed for this event.
URL:https://aprresources.com/event/allied-lynx-training-west-york-branch/
LOCATION:APR Supply Co – West York\, 120 S. Adams Street\, York\, PA\, 17404\, United States
CATEGORIES:Training
ATTACH;FMTTYPE=image/png:https://aprresources.com/wp-content/uploads/2022/02/Allied-Lynx-18.png
END:VEVENT
END:VCALENDAR