BEGIN:VCALENDAR
VERSION:2.0
PRODID:-// - ECPv6.15.20//NONSGML v1.0//EN
CALSCALE:GREGORIAN
METHOD:PUBLISH
X-ORIGINAL-URL:https://aprresources.com
X-WR-CALDESC:Events for 
REFRESH-INTERVAL;VALUE=DURATION:PT1H
X-Robots-Tag:noindex
X-PUBLISHED-TTL:PT1H
BEGIN:VTIMEZONE
TZID:America/New_York
BEGIN:DAYLIGHT
TZOFFSETFROM:-0500
TZOFFSETTO:-0400
TZNAME:EDT
DTSTART:20200308T070000
END:DAYLIGHT
BEGIN:STANDARD
TZOFFSETFROM:-0400
TZOFFSETTO:-0500
TZNAME:EST
DTSTART:20201101T060000
END:STANDARD
BEGIN:DAYLIGHT
TZOFFSETFROM:-0500
TZOFFSETTO:-0400
TZNAME:EDT
DTSTART:20210314T070000
END:DAYLIGHT
BEGIN:STANDARD
TZOFFSETFROM:-0400
TZOFFSETTO:-0500
TZNAME:EST
DTSTART:20211107T060000
END:STANDARD
BEGIN:DAYLIGHT
TZOFFSETFROM:-0500
TZOFFSETTO:-0400
TZNAME:EDT
DTSTART:20220313T070000
END:DAYLIGHT
BEGIN:STANDARD
TZOFFSETFROM:-0400
TZOFFSETTO:-0500
TZNAME:EST
DTSTART:20221106T060000
END:STANDARD
END:VTIMEZONE
BEGIN:VEVENT
DTSTART;TZID=America/New_York:20211013T080000
DTEND;TZID=America/New_York:20211013T100000
DTSTAMP:20260424T131543
CREATED:20210916T115736Z
LAST-MODIFIED:20210921T205724Z
UID:10000041-1634112000-1634119200@aprresources.com
SUMMARY:Reznor Product Training - West Chester Branch
DESCRIPTION:Join us for a 2 hour training to dive deeper into all things Reznor. This class will review the following topics: \n\n\n\nProduct Overview (1hr 15 min) \n\n\n\na. Plan Product Overview-Gas Fired Unit Heaters-Gas Fired Infrared Heaters-Gas Fired Duct Furnaces-Electric Heater Offering-Unique Solution Offering \n\n\n\nb. Applied Product Overview-Why outside air?-Split Systems-Packaged Systems-Additional Solution \n\n\n\nHow to Heat a Box (45 min) \n\n\n\na. Start with a 100×100 box with a known load discussing how each of the products discussed previously would apply to heat this box. Call out benefits and drawbacks of each approach. \n\n\n\nb. make Changes to the box that drive to a specific type of unit that would be best for the application. \n\n\n\nThere will be light refreshments provided.  \n\n\n\nClick the button below to register. \n\n\n\n	\n	\n	\n	\n    \n\n	    \n    \n        Registration is closed for this event.
URL:https://aprresources.com/event/reznor-product-training-west-chester-branch/
LOCATION:APR Supply Co – West Chester\, 830 S. Bolmar Street\, West Chester\, 19382\, United States
CATEGORIES:Training
ATTACH;FMTTYPE=image/png:https://aprresources.com/wp-content/uploads/2020/07/Reznor-Product-Spotlight_Design-File.png
END:VEVENT
END:VCALENDAR