BEGIN:VCALENDAR
VERSION:2.0
PRODID:-// - ECPv6.15.20//NONSGML v1.0//EN
CALSCALE:GREGORIAN
METHOD:PUBLISH
X-ORIGINAL-URL:https://aprresources.com
X-WR-CALDESC:Events for 
REFRESH-INTERVAL;VALUE=DURATION:PT1H
X-Robots-Tag:noindex
X-PUBLISHED-TTL:PT1H
BEGIN:VTIMEZONE
TZID:America/New_York
BEGIN:DAYLIGHT
TZOFFSETFROM:-0500
TZOFFSETTO:-0400
TZNAME:EDT
DTSTART:20200308T070000
END:DAYLIGHT
BEGIN:STANDARD
TZOFFSETFROM:-0400
TZOFFSETTO:-0500
TZNAME:EST
DTSTART:20201101T060000
END:STANDARD
BEGIN:DAYLIGHT
TZOFFSETFROM:-0500
TZOFFSETTO:-0400
TZNAME:EDT
DTSTART:20210314T070000
END:DAYLIGHT
BEGIN:STANDARD
TZOFFSETFROM:-0400
TZOFFSETTO:-0500
TZNAME:EST
DTSTART:20211107T060000
END:STANDARD
BEGIN:DAYLIGHT
TZOFFSETFROM:-0500
TZOFFSETTO:-0400
TZNAME:EDT
DTSTART:20220313T070000
END:DAYLIGHT
BEGIN:STANDARD
TZOFFSETFROM:-0400
TZOFFSETTO:-0500
TZNAME:EST
DTSTART:20221106T060000
END:STANDARD
BEGIN:DAYLIGHT
TZOFFSETFROM:-0500
TZOFFSETTO:-0400
TZNAME:EDT
DTSTART:20230312T070000
END:DAYLIGHT
BEGIN:STANDARD
TZOFFSETFROM:-0400
TZOFFSETTO:-0500
TZNAME:EST
DTSTART:20231105T060000
END:STANDARD
BEGIN:DAYLIGHT
TZOFFSETFROM:-0500
TZOFFSETTO:-0400
TZNAME:EDT
DTSTART:20240310T070000
END:DAYLIGHT
BEGIN:STANDARD
TZOFFSETFROM:-0400
TZOFFSETTO:-0500
TZNAME:EST
DTSTART:20241103T060000
END:STANDARD
BEGIN:DAYLIGHT
TZOFFSETFROM:-0500
TZOFFSETTO:-0400
TZNAME:EDT
DTSTART:20250309T070000
END:DAYLIGHT
BEGIN:STANDARD
TZOFFSETFROM:-0400
TZOFFSETTO:-0500
TZNAME:EST
DTSTART:20251102T060000
END:STANDARD
BEGIN:DAYLIGHT
TZOFFSETFROM:-0500
TZOFFSETTO:-0400
TZNAME:EDT
DTSTART:20260308T070000
END:DAYLIGHT
BEGIN:STANDARD
TZOFFSETFROM:-0400
TZOFFSETTO:-0500
TZNAME:EST
DTSTART:20261101T060000
END:STANDARD
END:VTIMEZONE
BEGIN:VEVENT
DTSTART;TZID=America/New_York:20251022T080000
DTEND;TZID=America/New_York:20251022T120000
DTSTAMP:20260424T082139
CREATED:20250904T153145Z
LAST-MODIFIED:20250904T154754Z
UID:10001332-1761120000-1761134400@aprresources.com
SUMMARY:Boiler 101—West Chester
DESCRIPTION:This class offers a complete overview of hot water heating systems\, beginning with an overview of the different heat distribution systems. Many pipe distribution designs and theories are covered\, as well as basics of system layout for best operation. How to select the correctly sized boiler\, circulator\, pipe\, and expansion tank will be discussed. Zoning designs\, both valve and circulator\, are featured\, and pipe sizing and calculations will be used in a system design. An introduction to multi boiler systems and radiant design is included. \n*Includes light breakfast refreshments all class materials \nTrainer: Mark Elmer  \nPlease note: APR Supply Co. has implemented a new payment and cancellation policy. Please click here to view these new stipulations. 
URL:https://aprresources.com/event/boiler-101-wc/
LOCATION:APR Supply Co – West Chester\, 830 S. Bolmar Street\, West Chester\, 19382\, United States
CATEGORIES:Training
ATTACH;FMTTYPE=image/jpeg:https://aprresources.com/wp-content/uploads/2024/06/qtq80-ALkRvO.jpeg
ORGANIZER;CN="APR Marketing Department":MAILTO:marketing@aprsupply.com
END:VEVENT
BEGIN:VEVENT
DTSTART;TZID=America/New_York:20251001T090000
DTEND;TZID=America/New_York:20251001T150000
DTSTAMP:20260424T082139
CREATED:20250805T152107Z
LAST-MODIFIED:20250805T155508Z
UID:10001327-1759309200-1759330800@aprresources.com
SUMMARY:A2L Refrigerant Training & Certification—West Chester\, PA
DESCRIPTION:The HVACR industry is transitioning away from equipment that uses R-410A in favor of new equipment with Low GWP Refrigerants such as R-32 and R-454B. Our trainers will teach you to properly handle\, store and transport Low GWP Refrigerants.  Please note\, APR Supply Co. will provide the training\, course materials and test. Test results are mailed to ESCO Institute and graded solely by ESCO. ​ \nDid you know? \n·These are classified as A2L refrigerants\, or mildly flammable by ASHRAE? \n·That most systems will have refrigerant detection systems on board that can shut a system down in the event of a leak? \n·How you store and transport refrigerant cylinders will change? \nTrainer: Mark Elmer \nPlease note: APR Supply Co. has implemented a payment and cancellation policy. Please click here to view these stipulations.  \n*Includes light breakfast\, full lunch\, and all class materials
URL:https://aprresources.com/event/a2l-refrigerant-training-certification-west-chester-pa/
LOCATION:APR Supply Co – West Chester\, 830 S. Bolmar Street\, West Chester\, 19382\, United States
CATEGORIES:Training
ATTACH;FMTTYPE=image/png:https://aprresources.com/wp-content/uploads/2024/03/A2L-Featured-Pic-.png
ORGANIZER;CN="APR Marketing Department":MAILTO:marketing@aprsupply.com
END:VEVENT
BEGIN:VEVENT
DTSTART;TZID=America/New_York:20250408T100000
DTEND;TZID=America/New_York:20250408T140000
DTSTAMP:20260424T082139
CREATED:20250401T144156Z
LAST-MODIFIED:20250401T144440Z
UID:10001156-1744106400-1744120800@aprresources.com
SUMMARY:Milwaukee Tool Counter Day—West Chester
DESCRIPTION:Join us for a Milwaukee Tool Counter Day! Meet the rep\, check out the products\, enjoy light refreshments and 10% off purchases 4/8 only.
URL:https://aprresources.com/event/milwaukee-tool-counter-day-west-chester/
LOCATION:APR Supply Co – West Chester\, 830 S. Bolmar Street\, West Chester\, 19382\, United States
CATEGORIES:Counter Day
ATTACH;FMTTYPE=image/png:https://aprresources.com/wp-content/uploads/2025/03/Milwaukee-Featured-Pic.png
ORGANIZER;CN="APR Marketing Department":MAILTO:marketing@aprsupply.com
END:VEVENT
BEGIN:VEVENT
DTSTART;TZID=America/New_York:20241212T080000
DTEND;TZID=America/New_York:20241212T100000
DTSTAMP:20260424T082139
CREATED:20240916T134805Z
LAST-MODIFIED:20240916T134805Z
UID:10000949-1733990400-1733997600@aprresources.com
SUMMARY:Weil-McLain Training—West Chester
DESCRIPTION:Join us as we review the new Weil-McLain Simplicity Boiler! This premium\, firetube\, high efficiency\, wall-mounted combi boiler is a great value with a very attractive price point. Register now to learn more about this new product! \n*Light breakfast refreshments provided by Weil-McLain.
URL:https://aprresources.com/event/weil-mclain-training-west-chester/
LOCATION:APR Supply Co – West Chester\, 830 S. Bolmar Street\, West Chester\, 19382\, United States
CATEGORIES:Training
ATTACH;FMTTYPE=image/jpeg:https://aprresources.com/wp-content/uploads/2024/09/283367028_7484827014892235_1372184500768665327_n.jpg
ORGANIZER;CN="APR Marketing Department":MAILTO:marketing@aprsupply.com
END:VEVENT
BEGIN:VEVENT
DTSTART;TZID=America/New_York:20241210T110000
DTEND;TZID=America/New_York:20241210T140000
DTSTAMP:20260424T082139
CREATED:20241111T215353Z
LAST-MODIFIED:20241209T153947Z
UID:10000972-1733828400-1733839200@aprresources.com
SUMMARY:Uponor/Milwaukee Tool Counter Day—West Chester
DESCRIPTION:Join us for an Uponor & Milwaukee Tool Counter Day! \nMeet the rep\, check out the products\, and enjoy light refreshments\, as well as 10% off Milwaukee Tool products!
URL:https://aprresources.com/event/uponor-milwaukee-tool-counter-day-west-chester/
LOCATION:APR Supply Co – West Chester\, 830 S. Bolmar Street\, West Chester\, 19382\, United States
CATEGORIES:Counter Day
ATTACH;FMTTYPE=image/png:https://aprresources.com/wp-content/uploads/2024/11/Milwaukee-Uponor-Featured-Pic-.png
ORGANIZER;CN="APR Marketing Department":MAILTO:marketing@aprsupply.com
END:VEVENT
BEGIN:VEVENT
DTSTART;TZID=America/New_York:20241121T080000
DTEND;TZID=America/New_York:20241121T160000
DTSTAMP:20260424T082139
CREATED:20240827T164643Z
LAST-MODIFIED:20240827T202809Z
UID:10000930-1732176000-1732204800@aprresources.com
SUMMARY:A2L Refrigerant Training & Certification—West Chester
DESCRIPTION:The HVACR industry is transitioning away from equipment that uses R-410A in favor of new equipment with Low GWP Refrigerants such as R-32 and R-454B. Our trainers will teach you to properly handle\, store and transport Low GWP Refrigerants.  Please note\, APR Supply Co. will provide the training\, course materials and test. Test results are mailed to ESCO Institute and graded solely by ESCO. ​ \nDid you know? \n·These are classified as A2L refrigerants\, or mildly flammable by ASHRAE? \n·That most systems will have refrigerant detection systems on board that can shut a system down in the event of a leak? \n·How you store and transport refrigerant cylinders will change? \nTrainer: Mark Elmer  \nPlease note: Beginning fall 2024\, APR Supply Co. will be implementing a new payment and cancellation policy. Please click here to view these new stipulations.  \n*Includes light breakfast\, full lunch\, and all class materials
URL:https://aprresources.com/event/a2l-refrigerant-training-certification-west-chester-2/
LOCATION:APR Supply Co – West Chester\, 830 S. Bolmar Street\, West Chester\, 19382\, United States
CATEGORIES:Training
ATTACH;FMTTYPE=image/png:https://aprresources.com/wp-content/uploads/2024/03/A2L-Featured-Pic-.png
ORGANIZER;CN="APR Marketing Department":MAILTO:marketing@aprsupply.com
END:VEVENT
BEGIN:VEVENT
DTSTART;TZID=America/New_York:20241113T110000
DTEND;TZID=America/New_York:20241113T140000
DTSTAMP:20260424T082139
CREATED:20241022T145436Z
LAST-MODIFIED:20241022T145436Z
UID:10000961-1731495600-1731506400@aprresources.com
SUMMARY:Friedrich & Rectorseal Counter Day—West Chester
DESCRIPTION:Join us for a Friedrich & Rectorseal Counter Day! Meet the rep\, check out the products\, and enjoy light refreshments!
URL:https://aprresources.com/event/friedrich-rectorseal-counter-day-west-chester/
LOCATION:APR Supply Co – West Chester\, 830 S. Bolmar Street\, West Chester\, 19382\, United States
CATEGORIES:Counter Day
ATTACH;FMTTYPE=image/png:https://aprresources.com/wp-content/uploads/2024/10/FriedrichRectorseal-Featured-Pic.png
ORGANIZER;CN="APR Marketing Department":MAILTO:marketing@aprsupply.com
END:VEVENT
BEGIN:VEVENT
DTSTART;TZID=America/New_York:20240514T080000
DTEND;TZID=America/New_York:20240514T163000
DTSTAMP:20260424T082139
CREATED:20240115T180903Z
LAST-MODIFIED:20240506T201659Z
UID:10000723-1715673600-1715704200@aprresources.com
SUMMARY:POSTPONED: Fujitsu ETSD - West Chester
DESCRIPTION:COURSE OVERVIEW: \nThis is a one-day regional class providing in-depth troubleshooting for Inverter systems. The class is an instructor-led\, hands-on course offering classroom style training on multi-meters\, DC controls and circuits with diagnosis and testing of Fujitsu outdoor unit circuit boards. \nContractor gift of Fine Point Test Leads included. (Valued at $30) \n 
URL:https://aprresources.com/event/fujitsu-etsd-west-chester/
LOCATION:APR Supply Co – West Chester\, 830 S. Bolmar Street\, West Chester\, 19382\, United States
CATEGORIES:Training
ATTACH;FMTTYPE=image/png:https://aprresources.com/wp-content/uploads/2021/02/Fujitsu-ETSD.png
ORGANIZER;CN="APR Marketing Department":MAILTO:marketing@aprsupply.com
END:VEVENT
BEGIN:VEVENT
DTSTART;TZID=America/New_York:20240222T103000
DTEND;TZID=America/New_York:20240222T130000
DTSTAMP:20260424T082139
CREATED:20240129T210936Z
LAST-MODIFIED:20240129T211357Z
UID:10000750-1708597800-1708606800@aprresources.com
SUMMARY:Fieldpiece Lunch & Learn Counter Day - West Chester
DESCRIPTION:Join us for a Fieldpiece Counter Day! \nMeet the rep\, check out the products\, enjoy light refreshments and more.
URL:https://aprresources.com/event/fieldpiece-lunch-learn-counter-day/
LOCATION:APR Supply Co – West Chester\, 830 S. Bolmar Street\, West Chester\, 19382\, United States
CATEGORIES:Counter Day
ATTACH;FMTTYPE=image/png:https://aprresources.com/wp-content/uploads/2024/01/Fieldpiece-Logo.png
ORGANIZER;CN="APR Marketing Department":MAILTO:marketing@aprsupply.com
END:VEVENT
BEGIN:VEVENT
DTSTART;TZID=America/New_York:20240222T080000
DTEND;TZID=America/New_York:20240222T100000
DTSTAMP:20260424T082139
CREATED:20240129T205311Z
LAST-MODIFIED:20240129T211304Z
UID:10000749-1708588800-1708596000@aprresources.com
SUMMARY:Fieldpiece Training - West Chester
DESCRIPTION:Fieldpiece Combustion Analyzers CAT45 and CAT85\nEasier\, Faster\, Better \nFieldpiece representative Ken Brown will discuss the following:\n• How to set up your Fieldpiece combustion analyzer\, how to perform an ambient CO walk around test and where to get accurate combustion analysis measurements based on the equipment type.\n• What the combustion measurements from your analyzer mean and how to properly come to your diagnosis.\n• Learn how to measure total external static pressure and gas pressure on a furnace with the Fieldpiece CAT85.\n• Learn how to use trending feature on the Fieldpiece Combustion analyzers.\n• Learn what draft pressure is and how to measure it with the Fieldpiece combustion analyzers.\n• Learn how to create combustion analysis reports by printing a paper report and by emailing a PDF using the Job Link® System App. \n*Light refreshments provided. 
URL:https://aprresources.com/event/fieldpiece-training-west-chester/
LOCATION:APR Supply Co – West Chester\, 830 S. Bolmar Street\, West Chester\, 19382\, United States
CATEGORIES:Training
ATTACH;FMTTYPE=image/png:https://aprresources.com/wp-content/uploads/2024/01/Fieldpiece-Logo.png
ORGANIZER;CN="APR Marketing Department":MAILTO:marketing@aprsupply.com
END:VEVENT
BEGIN:VEVENT
DTSTART;TZID=America/New_York:20240215T080000
DTEND;TZID=America/New_York:20240215T160000
DTSTAMP:20260424T082139
CREATED:20240105T214659Z
LAST-MODIFIED:20240212T143542Z
UID:10000686-1707984000-1708012800@aprresources.com
SUMMARY:A2L Refrigerant Training & Certification - West Chester
DESCRIPTION:The HVACR industry is transitioning away from equipment that uses R-410A in favor of new equipment with Low GWP Refrigerants such as R-32 and R-454B. Our trainers will teach you to properly handle\, store and transport Low GWP Refrigerants.  Please note\, APR Supply Co. will provide the training\, course materials and test. Test results are mailed to ESCO Institute and graded solely by ESCO. ​ \nDid you know? \n·These are classified as A2L refrigerants\, or mildly flammable by ASHRAE? \n·That most systems will have refrigerant detection systems on board that can shut a system down in the event of a leak? \n·How you store and transport refrigerant cylinders will change?
URL:https://aprresources.com/event/a2l-refrigerant-training-certification-west-chester/
LOCATION:APR Supply Co – West Chester\, 830 S. Bolmar Street\, West Chester\, 19382\, United States
CATEGORIES:Training
ATTACH;FMTTYPE=image/png:https://aprresources.com/wp-content/uploads/2024/01/Low-GWP-Refrigrant-Safety.png
ORGANIZER;CN="APR Marketing Department":MAILTO:marketing@aprsupply.com
END:VEVENT
BEGIN:VEVENT
DTSTART;TZID=America/New_York:20231214T073000
DTEND;TZID=America/New_York:20231214T093000
DTSTAMP:20260424T082139
CREATED:20210909T192211Z
LAST-MODIFIED:20231211T150402Z
UID:10000005-1702539000-1702546200@aprresources.com
SUMMARY:Bradford White Brute Boilers Training
DESCRIPTION:Get up to speed on the Bradford White Brute boiler. Gain insights on proper installation\, troubleshooting\, and have a chance to ask any questions you may have.
URL:https://aprresources.com/event/bradford-white-brute-boilers-training/
LOCATION:APR Supply Co – West Chester\, 830 S. Bolmar Street\, West Chester\, 19382\, United States
CATEGORIES:Training
ATTACH;FMTTYPE=image/png:https://aprresources.com/wp-content/uploads/2021/02/Bradford-White-Brute-FT.png
ORGANIZER;CN="Katelynne Reese":MAILTO:kreese@aprsupply.com
END:VEVENT
BEGIN:VEVENT
DTSTART;TZID=America/New_York:20230531T080000
DTEND;TZID=America/New_York:20230531T163000
DTSTAMP:20260424T082139
CREATED:20230201T205031Z
LAST-MODIFIED:20230501T204926Z
UID:10000430-1685520000-1685550600@aprresources.com
SUMMARY:Fujitsu ETSD - West Chester Branch
DESCRIPTION:Please take the pre-requisite Fujitsu Tech 101 class prior to attending this training. This class provides in-depth troubleshooting for Halcyon Inverter systems. Some of the topics include: multi-meters\, DC controls and circuits with diagnosis and testing of Fujitsu outdoor unit circuit boards and demonstrating live testing of electrical components. \nClick the button below to register. \n\n	\n	\n	\n	\n    \n\n	    \n    \n        Registration is closed for this event. \n        \n        	\n\n \nFujitsu Dealers who are looking for continuing education credits register here: \nFujitsu Dealer Registration 
URL:https://aprresources.com/event/fujitsu-etsd-west-chester-2/
LOCATION:APR Supply Co – West Chester\, 830 S. Bolmar Street\, West Chester\, 19382\, United States
CATEGORIES:Training
ATTACH;FMTTYPE=image/png:https://aprresources.com/wp-content/uploads/2021/02/Fujitsu-ETSD.png
END:VEVENT
BEGIN:VEVENT
DTSTART;TZID=America/New_York:20230126T123000
DTEND;TZID=America/New_York:20230126T153000
DTSTAMP:20260424T082140
CREATED:20230118T184009Z
LAST-MODIFIED:20230118T184024Z
UID:10000416-1674736200-1674747000@aprresources.com
SUMMARY:Bosch IDS Training - West Chester Branch
DESCRIPTION:Learn the ins and outs of the Bosch IDS 2.0 system and enjoy light refreshments. \nClick The Button Below To Register \n\n	\n	\n	\n	\n    \n\n	    \n    \n        Registration is closed for this event.
URL:https://aprresources.com/event/bosch-ids-training-west-chester-branch/
LOCATION:APR Supply Co – West Chester\, 830 S. Bolmar Street\, West Chester\, 19382\, United States
CATEGORIES:Training
ATTACH;FMTTYPE=image/png:https://aprresources.com/wp-content/uploads/2020/09/Bosch-IDS.png
END:VEVENT
BEGIN:VEVENT
DTSTART;TZID=America/New_York:20230112T080000
DTEND;TZID=America/New_York:20230112T160000
DTSTAMP:20260424T082140
CREATED:20221209T194655Z
LAST-MODIFIED:20230106T150330Z
UID:10000377-1673510400-1673539200@aprresources.com
SUMMARY:Basic Duct Design and Sizing - West Chester Branch
DESCRIPTION:Beginning with the completed heat loss calculation the class covers equipment selection. (ACCA Manual S) to meet the load. Then using ACCA manual D principals to calculate equivalent length. Finding the correct friction rate. How to use the duct calculator to properly size duct work. Methods of duct construction to decrease duct resistance.  Understanding duct pressure losses. \n\n	\n	\n	\n	\n    \n\n	    \n    \n        Registration is closed for this event.
URL:https://aprresources.com/event/basic-duct-design-and-sizing-west-chester-branch/
LOCATION:APR Supply Co – West Chester\, 830 S. Bolmar Street\, West Chester\, 19382\, United States
CATEGORIES:Training
ATTACH;FMTTYPE=image/png:https://aprresources.com/wp-content/uploads/2022/09/Duct-Design.png
END:VEVENT
BEGIN:VEVENT
DTSTART;TZID=America/New_York:20221207T080000
DTEND;TZID=America/New_York:20221207T160000
DTSTAMP:20260424T082140
CREATED:20220729T173032Z
LAST-MODIFIED:20220729T173037Z
UID:10000287-1670400000-1670428800@aprresources.com
SUMMARY:Heat Pump Troubleshooting - West Chester Branch
DESCRIPTION:This program is designed to provide an in-depth understanding of residential heat pump technology. It will provide learners with the essentials skills necessary to install\, diagnose\, maintain\, residential heat pump systems\, it covers basic principles of operation\, system components\, airflow\, defrost methods\, balance point\, auxiliary electric heat\, electrical control wiring\, refrigerant piping\, installation\, refrigerant charging\, troubleshooting\, dual fuel systems\, and an introduction to geothermal systems. \n\n\n\n\n\nClick the button below to register. \n\n\n\n	\n	\n	\n	\n    \n\n	    \n    \n        Registration is closed for this event.
URL:https://aprresources.com/event/heat-pump-troubleshooting-west-chester-branch/
LOCATION:APR Supply Co – West Chester\, 830 S. Bolmar Street\, West Chester\, 19382\, United States
CATEGORIES:Training
ATTACH;FMTTYPE=image/png:https://aprresources.com/wp-content/uploads/2021/12/Heat-Pump.png
END:VEVENT
BEGIN:VEVENT
DTSTART;TZID=America/New_York:20221122T080000
DTEND;TZID=America/New_York:20221122T100000
DTSTAMP:20260424T082140
CREATED:20221115T181900Z
LAST-MODIFIED:20221115T182025Z
UID:10000364-1669104000-1669111200@aprresources.com
SUMMARY:NAVAC Counter Day - West Chester Branch
DESCRIPTION:Stop into our West Chester branch\, meet with the NAVAC product expert\, and learn about this APR Product line!
URL:https://aprresources.com/event/navac-counter-day-west-chester-branch/
LOCATION:APR Supply Co – West Chester\, 830 S. Bolmar Street\, West Chester\, 19382\, United States
CATEGORIES:Counter Day
ATTACH;FMTTYPE=image/png:https://aprresources.com/wp-content/uploads/2022/03/Navac.png
END:VEVENT
BEGIN:VEVENT
DTSTART;TZID=America/New_York:20220503T080000
DTEND;TZID=America/New_York:20220503T120000
DTSTAMP:20260424T082140
CREATED:20220412T174858Z
LAST-MODIFIED:20220413T131541Z
UID:10000250-1651564800-1651579200@aprresources.com
SUMMARY:Honeywell Generator Training - West Chester Branch
DESCRIPTION:Topics Covered: In this introductory class taught of  you will learn how to size\, sell and install generators for your customers. If you’ve been asked by one of your homeowners to sell and install a home standby\, this is the first class you’ll want to attend. \n\n\n\nTopics Covered: \n\n\n\nResidential Market OverviewSite PreparationFuel ConsiderationsBack Up OptionsTransfer Switch ConnectionGenerator ConnectionsOperational Tests & Final StepsSizing the Generator: NEW 220\, Part IV \n\n\n\nLight refreshments will be provided. \n\n\n\nClick the button below to register. \n\n\n\n	\n	\n	\n	\n    \n\n	    \n    \n        Registration is closed for this event.
URL:https://aprresources.com/event/generac-power-4-profits-training-west-chester-branch/
LOCATION:APR Supply Co – West Chester\, 830 S. Bolmar Street\, West Chester\, 19382\, United States
CATEGORIES:Training
ATTACH;FMTTYPE=image/png:https://aprresources.com/wp-content/uploads/2022/04/Generac.png
END:VEVENT
BEGIN:VEVENT
DTSTART;TZID=America/New_York:20220406T083000
DTEND;TZID=America/New_York:20220406T163000
DTSTAMP:20260424T082140
CREATED:20220224T205008Z
LAST-MODIFIED:20220324T185549Z
UID:10000104-1649233800-1649262600@aprresources.com
SUMMARY:Postponed - Fujitsu ETSD - West Chester Branch
DESCRIPTION:Please take the pre-requisite Fujitsu Tech 101 class prior to attending this training. This class provides in-depth troubleshooting for Halcyon Inverter systems. Some of the topics include: multi-meters\, DC controls and circuits with diagnosis and testing of Fujitsu outdoor unit circuit boards and demonstrating live testing of electrical components.
URL:https://aprresources.com/event/fujitsu-etsd-west-chester-branch/
LOCATION:APR Supply Co – West Chester\, 830 S. Bolmar Street\, West Chester\, 19382\, United States
CATEGORIES:Training
ATTACH;FMTTYPE=image/png:https://aprresources.com/wp-content/uploads/2021/02/Fujitsu-ETSD.png
END:VEVENT
BEGIN:VEVENT
DTSTART;TZID=America/New_York:20220315T080000
DTEND;TZID=America/New_York:20220315T163000
DTSTAMP:20260424T082140
CREATED:20211231T003916Z
LAST-MODIFIED:20220222T191927Z
UID:10000217-1647331200-1647361800@aprresources.com
SUMMARY:Fujitsu Tech 101 - West Chester Branch
DESCRIPTION:Course Highlights: \n\n\n\n·Class goal is to assist technicians and installers who work with minisplit systems to be more familiar with installation and application differences from traditional unitary systems\, without boring them to death with sales jargon and promotion. \n\n\n\n·Course provides a great technical overview of Fujitsu’s Halcyon products. It provides a more technical perspective than the FAST class\, while complimenting it with application ideas\, pictures\, installation hints\, tips and requirements. Troubleshooting sections offer excellent guidance for system and component troubleshooting. The course is comprised of 6 modules. Most can be instructed in just over an hour providing perfect timing for breaks. This full day course helps ensure all participants receive the basics skills and knowledge to apply and support Fujitsu minisplit products.  \n\n\n\nLight breakfast & lunch will be provided. \n\n\n\n\n\n\n\n    Click the button below to register.   \n\n\n\n	\n	\n	\n	\n    \n\n	    \n    \n        Registration is closed for this event.
URL:https://aprresources.com/event/fujitsu-tech-101-west-chester-branch/
LOCATION:APR Supply Co – West Chester\, 830 S. Bolmar Street\, West Chester\, 19382\, United States
CATEGORIES:Training
ATTACH;FMTTYPE=image/png:https://aprresources.com/wp-content/uploads/2021/02/Fujitsu-Tech-101.png
END:VEVENT
BEGIN:VEVENT
DTSTART;TZID=America/New_York:20211013T080000
DTEND;TZID=America/New_York:20211013T100000
DTSTAMP:20260424T082140
CREATED:20210916T115736Z
LAST-MODIFIED:20210921T205724Z
UID:10000041-1634112000-1634119200@aprresources.com
SUMMARY:Reznor Product Training - West Chester Branch
DESCRIPTION:Join us for a 2 hour training to dive deeper into all things Reznor. This class will review the following topics: \n\n\n\nProduct Overview (1hr 15 min) \n\n\n\na. Plan Product Overview-Gas Fired Unit Heaters-Gas Fired Infrared Heaters-Gas Fired Duct Furnaces-Electric Heater Offering-Unique Solution Offering \n\n\n\nb. Applied Product Overview-Why outside air?-Split Systems-Packaged Systems-Additional Solution \n\n\n\nHow to Heat a Box (45 min) \n\n\n\na. Start with a 100×100 box with a known load discussing how each of the products discussed previously would apply to heat this box. Call out benefits and drawbacks of each approach. \n\n\n\nb. make Changes to the box that drive to a specific type of unit that would be best for the application. \n\n\n\nThere will be light refreshments provided.  \n\n\n\nClick the button below to register. \n\n\n\n	\n	\n	\n	\n    \n\n	    \n    \n        Registration is closed for this event.
URL:https://aprresources.com/event/reznor-product-training-west-chester-branch/
LOCATION:APR Supply Co – West Chester\, 830 S. Bolmar Street\, West Chester\, 19382\, United States
CATEGORIES:Training
ATTACH;FMTTYPE=image/png:https://aprresources.com/wp-content/uploads/2020/07/Reznor-Product-Spotlight_Design-File.png
END:VEVENT
END:VCALENDAR