BEGIN:VCALENDAR
VERSION:2.0
PRODID:-// - ECPv6.15.20//NONSGML v1.0//EN
CALSCALE:GREGORIAN
METHOD:PUBLISH
X-ORIGINAL-URL:https://aprresources.com
X-WR-CALDESC:Events for 
REFRESH-INTERVAL;VALUE=DURATION:PT1H
X-Robots-Tag:noindex
X-PUBLISHED-TTL:PT1H
BEGIN:VTIMEZONE
TZID:America/New_York
BEGIN:DAYLIGHT
TZOFFSETFROM:-0500
TZOFFSETTO:-0400
TZNAME:EDT
DTSTART:20200308T070000
END:DAYLIGHT
BEGIN:STANDARD
TZOFFSETFROM:-0400
TZOFFSETTO:-0500
TZNAME:EST
DTSTART:20201101T060000
END:STANDARD
BEGIN:DAYLIGHT
TZOFFSETFROM:-0500
TZOFFSETTO:-0400
TZNAME:EDT
DTSTART:20210314T070000
END:DAYLIGHT
BEGIN:STANDARD
TZOFFSETFROM:-0400
TZOFFSETTO:-0500
TZNAME:EST
DTSTART:20211107T060000
END:STANDARD
BEGIN:DAYLIGHT
TZOFFSETFROM:-0500
TZOFFSETTO:-0400
TZNAME:EDT
DTSTART:20220313T070000
END:DAYLIGHT
BEGIN:STANDARD
TZOFFSETFROM:-0400
TZOFFSETTO:-0500
TZNAME:EST
DTSTART:20221106T060000
END:STANDARD
END:VTIMEZONE
BEGIN:VEVENT
DTSTART;TZID=America/New_York:20211216T120000
DTEND;TZID=America/New_York:20211216T160000
DTSTAMP:20260424T131528
CREATED:20211117T145110Z
LAST-MODIFIED:20211215T203235Z
UID:10000196-1639656000-1639670400@aprresources.com
SUMMARY:Postponed- SpacePak Factory Authorized Certification Training - Upper Darby Branch
DESCRIPTION:Join us for an in depth look and factory authorized certification of sizing\, installation and servicing of SpacePak Small Duct High Velocity Systems. There is no prior SDHV knowledge required for this training.  Systems installed by certified contractors\, with registration\, will qualify for a 5 year parts warranty and have the option to be included on the SpacePak Dealer Locator (requires separate signup). Light refreshments will be available.
URL:https://aprresources.com/event/spacepak-factory-authorized-certification-training-upper-darby-branch/
LOCATION:APR Supply Co – Upper Darby\, 510 S. Cedar Lane\, Upper Darby\, PA\, 19082\, United States
CATEGORIES:Training
ATTACH;FMTTYPE=image/png:https://aprresources.com/wp-content/uploads/2020/08/Spacepak-Product-Spotlight.png
END:VEVENT
BEGIN:VEVENT
DTSTART;TZID=America/New_York:20210930T170000
DTEND;TZID=America/New_York:20210930T190000
DTSTAMP:20260424T131528
CREATED:20210903T202414Z
LAST-MODIFIED:20210903T202614Z
UID:10000172-1633021200-1633028400@aprresources.com
SUMMARY:Bosch IDS Training - Upper Darby
DESCRIPTION:Join us at our Upper Darby Branch to learn the ins and outs of the Bosch IDS 2.0 system.   This class will include personal subs from Pagano’s.  \n\n\n\n\n\n Click the button below to register. \n\n\n\n	\n	\n	\n	\n    \n\n	    \n    \n        Registration is closed for this event.
URL:https://aprresources.com/event/bosch-ids-training-upper-darby-3/
LOCATION:APR Supply Co – Upper Darby\, 510 S. Cedar Lane\, Upper Darby\, PA\, 19082\, United States
CATEGORIES:Training
ATTACH;FMTTYPE=image/png:https://aprresources.com/wp-content/uploads/2020/09/IDS.png
END:VEVENT
BEGIN:VEVENT
DTSTART;TZID=America/New_York:20210930T143000
DTEND;TZID=America/New_York:20210930T163000
DTSTAMP:20260424T131528
CREATED:20210903T202156Z
LAST-MODIFIED:20210903T202538Z
UID:10000171-1633012200-1633019400@aprresources.com
SUMMARY:Bosch IDS Training - Upper Darby
DESCRIPTION:Join us at our Upper Darby Branch to learn the ins and outs of the Bosch IDS 2.0 system.  This class will include personal subs from Pagano’s. .  \n\n\n\n\n\n Click the button below to register.  \n\n\n\n	\n	\n	\n	\n    \n\n	    \n    \n        Registration is closed for this event.
URL:https://aprresources.com/event/bosch-ids-training-upper-darby-2/
LOCATION:APR Supply Co – Upper Darby\, 510 S. Cedar Lane\, Upper Darby\, PA\, 19082\, United States
CATEGORIES:Training
ATTACH;FMTTYPE=image/png:https://aprresources.com/wp-content/uploads/2020/09/IDS.png
END:VEVENT
END:VCALENDAR