BEGIN:VCALENDAR
VERSION:2.0
PRODID:-// - ECPv6.15.20//NONSGML v1.0//EN
CALSCALE:GREGORIAN
METHOD:PUBLISH
X-ORIGINAL-URL:https://aprresources.com
X-WR-CALDESC:Events for 
REFRESH-INTERVAL;VALUE=DURATION:PT1H
X-Robots-Tag:noindex
X-PUBLISHED-TTL:PT1H
BEGIN:VTIMEZONE
TZID:America/New_York
BEGIN:DAYLIGHT
TZOFFSETFROM:-0500
TZOFFSETTO:-0400
TZNAME:EDT
DTSTART:20210314T070000
END:DAYLIGHT
BEGIN:STANDARD
TZOFFSETFROM:-0400
TZOFFSETTO:-0500
TZNAME:EST
DTSTART:20211107T060000
END:STANDARD
BEGIN:DAYLIGHT
TZOFFSETFROM:-0500
TZOFFSETTO:-0400
TZNAME:EDT
DTSTART:20220313T070000
END:DAYLIGHT
BEGIN:STANDARD
TZOFFSETFROM:-0400
TZOFFSETTO:-0500
TZNAME:EST
DTSTART:20221106T060000
END:STANDARD
BEGIN:DAYLIGHT
TZOFFSETFROM:-0500
TZOFFSETTO:-0400
TZNAME:EDT
DTSTART:20230312T070000
END:DAYLIGHT
BEGIN:STANDARD
TZOFFSETFROM:-0400
TZOFFSETTO:-0500
TZNAME:EST
DTSTART:20231105T060000
END:STANDARD
BEGIN:DAYLIGHT
TZOFFSETFROM:-0500
TZOFFSETTO:-0400
TZNAME:EDT
DTSTART:20240310T070000
END:DAYLIGHT
BEGIN:STANDARD
TZOFFSETFROM:-0400
TZOFFSETTO:-0500
TZNAME:EST
DTSTART:20241103T060000
END:STANDARD
BEGIN:DAYLIGHT
TZOFFSETFROM:-0500
TZOFFSETTO:-0400
TZNAME:EDT
DTSTART:20250309T070000
END:DAYLIGHT
BEGIN:STANDARD
TZOFFSETFROM:-0400
TZOFFSETTO:-0500
TZNAME:EST
DTSTART:20251102T060000
END:STANDARD
BEGIN:DAYLIGHT
TZOFFSETFROM:-0500
TZOFFSETTO:-0400
TZNAME:EDT
DTSTART:20260308T070000
END:DAYLIGHT
BEGIN:STANDARD
TZOFFSETFROM:-0400
TZOFFSETTO:-0500
TZNAME:EST
DTSTART:20261101T060000
END:STANDARD
BEGIN:DAYLIGHT
TZOFFSETFROM:-0500
TZOFFSETTO:-0400
TZNAME:EDT
DTSTART:20270314T070000
END:DAYLIGHT
BEGIN:STANDARD
TZOFFSETFROM:-0400
TZOFFSETTO:-0500
TZNAME:EST
DTSTART:20271107T060000
END:STANDARD
END:VTIMEZONE
BEGIN:VEVENT
DTSTART;TZID=America/New_York:20260408T080000
DTEND;TZID=America/New_York:20260408T160000
DTSTAMP:20260424T050823
CREATED:20260318T164520Z
LAST-MODIFIED:20260318T164520Z
UID:10001363-1775635200-1775664000@aprresources.com
SUMMARY:EPA Section 608 Technician Certification Reading
DESCRIPTION:Section 608 of the Federal Clean Air Act requires that all persons who maintain\, service\, repair or dispose of appliances that contain regulated refrigerants be certified in proper refrigerant handling techniques. The EPA has also placed a sales restriction on refrigerants\, limiting the sale of regulated refrigerants to certified technicians only. This course will give you the resources you need to study and pass the universal exam. You will review the material in the morning and take the test in the afternoon with time to study in between. \n*Light breakfast refreshments and lunch provided.  \n**Class cost includes class materials\, certification test\, and food.  \nPlease note: APR Supply Co. has implemented a new payment and cancellation policy. Please click here to view these new stipulations.  \n \n 
URL:https://aprresources.com/event/epa-section-608-technician-certification-reading/
LOCATION:APR Supply Co – Reading\, 4220 Pottsville Pike\, Reading\, PA\, 19605\, United States
CATEGORIES:Training
ATTACH;FMTTYPE=image/jpeg:https://aprresources.com/wp-content/uploads/2024/06/iStock-1417432365.jpg
ORGANIZER;CN="APR Marketing Department":MAILTO:marketing@aprsupply.com
END:VEVENT
BEGIN:VEVENT
DTSTART;TZID=America/New_York:20251009T080000
DTEND;TZID=America/New_York:20251009T160000
DTSTAMP:20260424T050823
CREATED:20250918T185124Z
LAST-MODIFIED:20250918T190839Z
UID:10001339-1759996800-1760025600@aprresources.com
SUMMARY:Heating Troubleshooting Refresher—Reading
DESCRIPTION:Topics featured in this fall heating refresher course will cover a wide range of subjects\, including but not limited to the following: \n\nOil Burner Setup and Troubleshooting\nOil Pressure Testing and Adjustment\nOil Vacuum Testing\nSmoke Testing\nCombustion Analysis\n\nTrainer: Mark Elmer  \nPlease note: APR Supply Co. has implemented a payment and cancellation policy. Please click here to view these new stipulations.  \n***includes light breakfast\, lunch\, and all class materials
URL:https://aprresources.com/event/heating-troubleshooting-refresher-reading/
LOCATION:APR Supply Co – Reading\, 4220 Pottsville Pike\, Reading\, PA\, 19605\, United States
CATEGORIES:Training
ATTACH;FMTTYPE=image/jpeg:https://aprresources.com/wp-content/uploads/2025/09/qtq80-iueI4c.jpeg
ORGANIZER;CN="APR Marketing Department":MAILTO:marketing@aprsupply.com
END:VEVENT
BEGIN:VEVENT
DTSTART;TZID=America/New_York:20250513T110000
DTEND;TZID=America/New_York:20250513T140000
DTSTAMP:20260424T050823
CREATED:20250424T172741Z
LAST-MODIFIED:20250424T172829Z
UID:10001168-1747134000-1747144800@aprresources.com
SUMMARY:Milwaukee Tool Counter Day—Reading
DESCRIPTION:Join us for a Milwaukee Tool Counter Day! Meet the rep\, check out the products\, enjoy light refreshments and 10% off purchases 5/13 only.
URL:https://aprresources.com/event/milwaukee-tool-counter-day-reading/
LOCATION:APR Supply Co – Reading\, 4220 Pottsville Pike\, Reading\, PA\, 19605\, United States
CATEGORIES:Counter Day
ATTACH;FMTTYPE=image/png:https://aprresources.com/wp-content/uploads/2025/03/Milwaukee-Featured-Pic.png
ORGANIZER;CN="APR Marketing Department":MAILTO:marketing@aprsupply.com
END:VEVENT
BEGIN:VEVENT
DTSTART;TZID=America/New_York:20250506T110000
DTEND;TZID=America/New_York:20250506T130000
DTSTAMP:20260424T050823
CREATED:20250320T143145Z
LAST-MODIFIED:20250320T143145Z
UID:10001143-1746529200-1746536400@aprresources.com
SUMMARY:Pro Charge Counter Day—Reading
DESCRIPTION:Join us for a Pro Charge Counter Day! Meet the rep\, check out the products\, and enjoy light refreshments. \n 
URL:https://aprresources.com/event/pro-charge-counter-day-reading/
LOCATION:APR Supply Co – Reading\, 4220 Pottsville Pike\, Reading\, PA\, 19605\, United States
CATEGORIES:Counter Day
ATTACH;FMTTYPE=image/png:https://aprresources.com/wp-content/uploads/2025/03/Pro-Charge.png
ORGANIZER;CN="APR Marketing Department":MAILTO:marketing@aprsupply.com
END:VEVENT
BEGIN:VEVENT
DTSTART;TZID=America/New_York:20241106T120000
DTEND;TZID=America/New_York:20241106T160000
DTSTAMP:20260424T050823
CREATED:20240620T200212Z
LAST-MODIFIED:20241104T182244Z
UID:10000877-1730894400-1730908800@aprresources.com
SUMMARY:POSTPONED: Basic Hydronics—Reading
DESCRIPTION:Join us for a course on basic hydronics. We will be focusing on equipment overviews\, installation best practices\, troubleshooting tips and tricks\, and notable updates in the industry. \nTrainer: Mark Elmer  \nPlease note: Beginning fall 2024\, APR Supply Co. will be implementing a new payment and cancellation policy. Please click here to view these new stipulations.  \n*Includes light breakfast refreshments all class materials
URL:https://aprresources.com/event/basic-hydronics-reading/
LOCATION:APR Supply Co – Reading\, 4220 Pottsville Pike\, Reading\, PA\, 19605\, United States
CATEGORIES:Training
ATTACH;FMTTYPE=image/jpeg:https://aprresources.com/wp-content/uploads/2024/06/iStock-1599309789.jpg
ORGANIZER;CN="APR Marketing Department":MAILTO:marketing@aprsupply.com
END:VEVENT
BEGIN:VEVENT
DTSTART;TZID=America/New_York:20241105T120000
DTEND;TZID=America/New_York:20241105T160000
DTSTAMP:20260424T050823
CREATED:20240620T192546Z
LAST-MODIFIED:20241104T135018Z
UID:10000876-1730808000-1730822400@aprresources.com
SUMMARY:Low Voltage Controls & Wiring—Reading
DESCRIPTION:This is electrical theory put to practical use. The class covers conventional 24V controls and wiring\, dual fuel controls\, and Wi-Fi and Internet connectivity. There will also be a section that covers communicating controls. \nTrainer: Mark Elmer  \nSign up for the Heat Pump AC Service & Troubleshooting Training Class on 11/5 at Reading from 8 a.m. – Noon and get both classes for $100*! \nSign up for the Heat Pump AC Service & Troubleshooting Training Class here!  \nPlease note: Beginning fall 2024\, APR Supply Co. will be implementing a new payment and cancellation policy. Please click here to view these new stipulations. \n*Discount applied at billing.
URL:https://aprresources.com/event/low-voltage-controls-wiring-reading/
LOCATION:APR Supply Co – Reading\, 4220 Pottsville Pike\, Reading\, PA\, 19605\, United States
CATEGORIES:Training
ATTACH;FMTTYPE=image/png:https://aprresources.com/wp-content/uploads/2024/06/Low-Voltage-Featured-Image.png
ORGANIZER;CN="APR Marketing Department":MAILTO:marketing@aprsupply.com
END:VEVENT
BEGIN:VEVENT
DTSTART;TZID=America/New_York:20241105T080000
DTEND;TZID=America/New_York:20241105T120000
DTSTAMP:20260424T050823
CREATED:20240620T191910Z
LAST-MODIFIED:20241104T134452Z
UID:10000875-1730793600-1730808000@aprresources.com
SUMMARY:Heat Pump AC Service & Troubleshooting Training—Reading
DESCRIPTION:This program is designed to provide an understanding of residential heat pump technology. It will provide learners with the essential skills necessary to install\, diagnose\, and maintain residential heat pump systems. It covers basic principles of operation\, system components\, airflow\, defrost methods\, balance point\, auxiliary electric heat\, electrical control wiring\, refrigerant piping\, installation\, refrigerant charging\, troubleshooting\, dual fuel systems\, and an introduction to geothermal systems. \nTrainer: Mark Elmer \nSign up for the Low Voltage Training Class on 11/5 at Reading from Noon – 4 p.m. and get both classes for $100!* \nSign up for Low Voltage Class here!  \nPlease note: Beginning fall 2024\, APR Supply Co. will be implementing a new payment and cancellation policy. Please click here to view these new stipulations.  \n*Discount applied at billing. 
URL:https://aprresources.com/event/heat-pump-ac-service-troubleshooting-training-reading/
LOCATION:APR Supply Co – Reading\, 4220 Pottsville Pike\, Reading\, PA\, 19605\, United States
CATEGORIES:Training
ATTACH;FMTTYPE=image/png:https://aprresources.com/wp-content/uploads/2024/01/Heat-Pump-Featured-Image-1-1.png
ORGANIZER;CN="APR Marketing Department":MAILTO:marketing@aprsupply.com
END:VEVENT
BEGIN:VEVENT
DTSTART;TZID=America/New_York:20240924T120000
DTEND;TZID=America/New_York:20240924T140000
DTSTAMP:20260424T050823
CREATED:20240828T162855Z
LAST-MODIFIED:20240828T162855Z
UID:10000932-1727179200-1727186400@aprresources.com
SUMMARY:Uponor Lunch & Learn—Reading
DESCRIPTION:Join us for an Uponor Lunch & Learn! Meet the rep\, check out the products\, and enjoy lunch provided by Uponor! \nWe look forward to seeing you there!
URL:https://aprresources.com/event/uponor-lunch-learn-reading/
LOCATION:APR Supply Co – Reading\, 4220 Pottsville Pike\, Reading\, PA\, 19605\, United States
CATEGORIES:Training
ATTACH;FMTTYPE=image/jpeg:https://aprresources.com/wp-content/uploads/2024/07/Uponor-Featured-Pic-1.jpg
ORGANIZER;CN="APR Marketing Department":MAILTO:marketing@aprsupply.com
END:VEVENT
BEGIN:VEVENT
DTSTART;TZID=America/New_York:20240626T080000
DTEND;TZID=America/New_York:20240626T163000
DTSTAMP:20260424T050823
CREATED:20240429T182415Z
LAST-MODIFIED:20240429T182415Z
UID:10000817-1719388800-1719419400@aprresources.com
SUMMARY:Fujitsu ETSD - Reading
DESCRIPTION:COURSE OVERVIEW: \nThis is a one-day regional class providing in-depth troubleshooting for Inverter systems. The class is an instructor-led\, hands-on course offering classroom style training on multi-meters\, DC controls and circuits with diagnosis and testing of Fujitsu outdoor unit circuit boards. \nContractor gift of Fine Point Test Leads included. (Valued at $30) \n*includes light breakfast\, full lunch\, and all\nclass materials 
URL:https://aprresources.com/event/fujitsu-etsd-reading/
LOCATION:APR Supply Co – Reading\, 4220 Pottsville Pike\, Reading\, PA\, 19605\, United States
CATEGORIES:Training
ATTACH;FMTTYPE=image/jpeg:https://aprresources.com/wp-content/uploads/2024/04/iStock-1437896577-scaled.jpg
ORGANIZER;CN="APR Marketing Department":MAILTO:marketing@aprsupply.com
END:VEVENT
BEGIN:VEVENT
DTSTART;TZID=America/New_York:20240619T080000
DTEND;TZID=America/New_York:20240619T160000
DTSTAMP:20260424T050823
CREATED:20240429T153456Z
LAST-MODIFIED:20240605T125125Z
UID:10000816-1718784000-1718812800@aprresources.com
SUMMARY:A2L Refrigerant Training & Certification - Reading
DESCRIPTION:The HVACR industry is transitioning away from equipment that uses R-410A in favor of new equipment with Low GWP Refrigerants such as R-32 and R-454B. Our trainers will teach you to properly handle\, store and transport Low GWP Refrigerants.  Please note\, APR Supply Co. will provide the training\, course materials and test. Test results are mailed to ESCO Institute and graded solely by ESCO. ​ \nDid you know? \n·These are classified as A2L refrigerants\, or mildly flammable by ASHRAE? \n·That most systems will have refrigerant detection systems on board that can shut a system down in the event of a leak? \n·How you store and transport refrigerant cylinders will change?
URL:https://aprresources.com/event/a2l-refrigerant-training-certification-reading/
LOCATION:APR Supply Co – Reading\, 4220 Pottsville Pike\, Reading\, PA\, 19605\, United States
CATEGORIES:Training
ATTACH;FMTTYPE=image/png:https://aprresources.com/wp-content/uploads/2024/03/A2L-Featured-Pic-.png
ORGANIZER;CN="APR Marketing Department":MAILTO:marketing@aprsupply.com
END:VEVENT
BEGIN:VEVENT
DTSTART;TZID=America/New_York:20231122T100000
DTEND;TZID=America/New_York:20231122T140000
DTSTAMP:20260424T050823
CREATED:20231025T131433Z
LAST-MODIFIED:20231025T131530Z
UID:10000669-1700647200-1700661600@aprresources.com
SUMMARY:New Yorker Boiler Counter Day - Reading Branch
DESCRIPTION:Stop by for a quick bite to eat and visit with our New Yorker Boiler rep to talk about their latest products and the and ask any questions. $50 rebate with boiler purchase.
URL:https://aprresources.com/event/new-yorker-boiler-counter-day-reading-branch/
LOCATION:APR Supply Co – Reading\, 4220 Pottsville Pike\, Reading\, PA\, 19605\, United States
CATEGORIES:Counter Day
ATTACH;FMTTYPE=image/png:https://aprresources.com/wp-content/uploads/2020/07/New-Yorker-Product-Spotlight-1.png
ORGANIZER;CN="Katelynne Reese":MAILTO:kreese@aprsupply.com
END:VEVENT
BEGIN:VEVENT
DTSTART;TZID=America/New_York:20230615T080000
DTEND;TZID=America/New_York:20230615T163000
DTSTAMP:20260424T050823
CREATED:20230308T154017Z
LAST-MODIFIED:20230613T190428Z
UID:10000468-1686816000-1686846600@aprresources.com
SUMMARY:Canceled - Allied Lynx Training Levels 101 & 201 - Reading Branch
DESCRIPTION:Please join us for an overview of the latest product from Allied Air. The Allied Lynx Featuring improved dehumidification\, lower noise levels and greater efficiency over conventional single-stage and two-stage heat pumps\, the LYNX 20 delivers class-leading performance and installation speed\, with comfort features that continue to work hard long after installation. Learn the details of installation and troubleshooting these units utilizing our newly built live fire cart.  \nClick below to register.
URL:https://aprresources.com/event/allied-lynx-training-levels-101-201-reading-branch/
LOCATION:APR Supply Co – Reading\, 4220 Pottsville Pike\, Reading\, PA\, 19605\, United States
CATEGORIES:Training
ATTACH;FMTTYPE=image/png:https://aprresources.com/wp-content/uploads/2022/02/Allied-Lynx-18.png
ORGANIZER;CN="APR Marketing Department":MAILTO:marketing@aprsupply.com
END:VEVENT
BEGIN:VEVENT
DTSTART;TZID=America/New_York:20230322T083000
DTEND;TZID=America/New_York:20230322T163000
DTSTAMP:20260424T050823
CREATED:20230224T165341Z
LAST-MODIFIED:20230316T173447Z
UID:10000459-1679473800-1679502600@aprresources.com
SUMMARY:Low Voltage Controls and Wiring Training - Reading Branch
DESCRIPTION:This training teaches electrical theory to put to practical use. The class covers conventional 24V controls and wiring\, Dual fuel controls\, and Wi-Fi and internet connectivity. There will also be a section that covers communicating controls. \n\n\n\n\n\nClick the button below to register. \n\n	\n	\n	\n	\n    \n\n	    \n    \n        Registration is closed for this event.
URL:https://aprresources.com/event/low-voltage-controls-and-wiring-training-reading-branch/
LOCATION:APR Supply Co – Reading\, 4220 Pottsville Pike\, Reading\, PA\, 19605\, United States
CATEGORIES:Training
ATTACH;FMTTYPE=image/jpeg:https://aprresources.com/wp-content/uploads/2023/02/Wiring.jpg
ORGANIZER;CN="APR Marketing Department":MAILTO:marketing@aprsupply.com
END:VEVENT
BEGIN:VEVENT
DTSTART;TZID=America/New_York:20230105T080000
DTEND;TZID=America/New_York:20230105T093000
DTSTAMP:20260424T050823
CREATED:20221018T141708Z
LAST-MODIFIED:20230103T191532Z
UID:10000358-1672905600-1672911000@aprresources.com
SUMMARY:**Class Is Full** 2023 New Tax Credits and Federal Regulations Training
DESCRIPTION:Join us for a review of the new regulatory and tax changes for 2023. \nTopics to be covered: \n\n2023 Regulatory efficiency change including new M1 testing\nAIM ACT\n2025 Refrigerant changes\nAdditional future regulatory changes:\n\n-Electrification / decarbonization \n-Non-condensing gas furnaces \n-Disposable refrigerant cylinders \n\nInflation Reduction Act\n\nClick the button below to register.
URL:https://aprresources.com/event/2023-new-tax-credits-and-federal-regulations-training-8/
LOCATION:APR Supply Co – Reading\, 4220 Pottsville Pike\, Reading\, PA\, 19605\, United States
CATEGORIES:Training
ATTACH;FMTTYPE=image/png:https://aprresources.com/wp-content/uploads/2021/12/Heat-Pump.png
END:VEVENT
BEGIN:VEVENT
DTSTART;TZID=America/New_York:20220516T080000
DTEND;TZID=America/New_York:20220516T160000
DTSTAMP:20260424T050823
CREATED:20220502T174745Z
LAST-MODIFIED:20220509T204602Z
UID:10000254-1652688000-1652716800@aprresources.com
SUMMARY:EPA Section 608 Technician Certification - Reading Branch
DESCRIPTION:Section 608 of the Federal Clean Air Act requires that all persons who maintain\, service\, repair or dispose of appliances that contain regulated refrigerants be certified in proper refrigerant handling techniques. The EPA has also placed a sales restriction on refrigerants\, limiting the sale of regulated refrigerants to certified technicians only. This course will give you the resources you need to study and pass the universal exam. You will review the material in the morning and take the test in the afternoon with time to study in between. \n\n\n\nLight refreshments and lunch will be provided.  \n\n\n\n\n\nClick the button below to register. \n\n\n\n	\n	\n	\n	\n    \n\n	    \n    \n        Registration is closed for this event.
URL:https://aprresources.com/event/epa-section-608-technician-certification/
LOCATION:APR Supply Co – Reading\, 4220 Pottsville Pike\, Reading\, PA\, 19605\, United States
CATEGORIES:Training
ATTACH;FMTTYPE=image/png:https://aprresources.com/wp-content/uploads/2022/05/Generic-HVAC-Install.png
END:VEVENT
END:VCALENDAR