BEGIN:VCALENDAR
VERSION:2.0
PRODID:-// - ECPv6.15.20//NONSGML v1.0//EN
CALSCALE:GREGORIAN
METHOD:PUBLISH
X-ORIGINAL-URL:https://aprresources.com
X-WR-CALDESC:Events for 
REFRESH-INTERVAL;VALUE=DURATION:PT1H
X-Robots-Tag:noindex
X-PUBLISHED-TTL:PT1H
BEGIN:VTIMEZONE
TZID:America/New_York
BEGIN:DAYLIGHT
TZOFFSETFROM:-0500
TZOFFSETTO:-0400
TZNAME:EDT
DTSTART:20210314T070000
END:DAYLIGHT
BEGIN:STANDARD
TZOFFSETFROM:-0400
TZOFFSETTO:-0500
TZNAME:EST
DTSTART:20211107T060000
END:STANDARD
BEGIN:DAYLIGHT
TZOFFSETFROM:-0500
TZOFFSETTO:-0400
TZNAME:EDT
DTSTART:20220313T070000
END:DAYLIGHT
BEGIN:STANDARD
TZOFFSETFROM:-0400
TZOFFSETTO:-0500
TZNAME:EST
DTSTART:20221106T060000
END:STANDARD
BEGIN:DAYLIGHT
TZOFFSETFROM:-0500
TZOFFSETTO:-0400
TZNAME:EDT
DTSTART:20230312T070000
END:DAYLIGHT
BEGIN:STANDARD
TZOFFSETFROM:-0400
TZOFFSETTO:-0500
TZNAME:EST
DTSTART:20231105T060000
END:STANDARD
BEGIN:DAYLIGHT
TZOFFSETFROM:-0500
TZOFFSETTO:-0400
TZNAME:EDT
DTSTART:20240310T070000
END:DAYLIGHT
BEGIN:STANDARD
TZOFFSETFROM:-0400
TZOFFSETTO:-0500
TZNAME:EST
DTSTART:20241103T060000
END:STANDARD
BEGIN:DAYLIGHT
TZOFFSETFROM:-0500
TZOFFSETTO:-0400
TZNAME:EDT
DTSTART:20250309T070000
END:DAYLIGHT
BEGIN:STANDARD
TZOFFSETFROM:-0400
TZOFFSETTO:-0500
TZNAME:EST
DTSTART:20251102T060000
END:STANDARD
END:VTIMEZONE
BEGIN:VEVENT
DTSTART;TZID=America/New_York:20240416T080000
DTEND;TZID=America/New_York:20240416T160000
DTSTAMP:20260424T121407
CREATED:20240404T174356Z
LAST-MODIFIED:20240409T182927Z
UID:10000806-1713254400-1713283200@aprresources.com
SUMMARY:A2L Refrigerant Training & Certification - Pottstown
DESCRIPTION:The HVACR industry is transitioning away from equipment that uses R-410A in favor of new equipment with Low GWP Refrigerants such as R-32 and R-454B. Our trainers will teach you to properly handle\, store and transport Low GWP Refrigerants.  Please note\, APR Supply Co. will provide the training\, course materials and test. Test results are mailed to ESCO Institute and graded solely by ESCO. ​ \nDid you know? \n·These are classified as A2L refrigerants\, or mildly flammable by ASHRAE? \n·That most systems will have refrigerant detection systems on board that can shut a system down in the event of a leak? \n·How you store and transport refrigerant cylinders will change?
URL:https://aprresources.com/event/a2l-refrigerant-training-certification-pottstown/
LOCATION:APR Supply Co – Pottstown\, 280 River Road\, Pottstown\, PA\, 19465\, United States
CATEGORIES:Training
ATTACH;FMTTYPE=image/png:https://aprresources.com/wp-content/uploads/2024/03/A2L-Featured-Pic-.png
ORGANIZER;CN="APR Marketing Department":MAILTO:marketing@aprsupply.com
END:VEVENT
BEGIN:VEVENT
DTSTART;TZID=America/New_York:20231110T100000
DTEND;TZID=America/New_York:20231110T140000
DTSTAMP:20260424T121407
CREATED:20231025T021335Z
LAST-MODIFIED:20231025T021335Z
UID:10000666-1699610400-1699624800@aprresources.com
SUMMARY:New Yorker Boiler Counter Day - Pottstown Branch
DESCRIPTION:Stop by for a quick bite to eat and visit with our New Yorker Boiler rep to talk about their latest products and the and ask any questions. $50 rebate with boiler purchase.
URL:https://aprresources.com/event/new-yorker-boiler-counter-day-pottstown-branch/
LOCATION:APR Supply Co – Pottstown\, 280 River Road\, Pottstown\, PA\, 19465\, United States
CATEGORIES:Counter Day
ATTACH;FMTTYPE=image/png:https://aprresources.com/wp-content/uploads/2020/07/New-Yorker-Product-Spotlight-1.png
ORGANIZER;CN="Katelynne Reese":MAILTO:kreese@aprsupply.com
END:VEVENT
BEGIN:VEVENT
DTSTART;TZID=America/New_York:20230420T080000
DTEND;TZID=America/New_York:20230420T093000
DTSTAMP:20260424T121407
CREATED:20230330T141855Z
LAST-MODIFIED:20230330T141946Z
UID:10000489-1681977600-1681983000@aprresources.com
SUMMARY:Tracpipe Certification -  Pottstown
DESCRIPTION:Learn how to properly size and install TracPipe flexible gas piping and fittings. Attendees will also take TracPipe’s certification exam\, which is required to purchase TracPipe. \nClick the button below to register. \n\n	\n	\n	\n	\n    \n\n	    \n    \n        Registration is closed for this event.
URL:https://aprresources.com/event/tracpipe-certification-pottstown/
LOCATION:APR Supply Co – Pottstown\, 280 River Road\, Pottstown\, PA\, 19465\, United States
CATEGORIES:Training
ATTACH;FMTTYPE=image/png:https://aprresources.com/wp-content/uploads/2021/06/TracPipe-Training.png
END:VEVENT
BEGIN:VEVENT
DTSTART;TZID=America/New_York:20230407T080000
DTEND;TZID=America/New_York:20230407T100000
DTSTAMP:20260424T121408
CREATED:20230330T200142Z
LAST-MODIFIED:20230330T204322Z
UID:10000493-1680854400-1680861600@aprresources.com
SUMMARY:Fujitsu & Navien Counter Day - Pottstown Branch
DESCRIPTION:Join us for a counter day from 8:00am-10:00am. Chat about the latest Fujitsu and Navien products and how they can improve your business! \nFUJITSU: ​ \n\n Learn about Contractor ​\n  Resources Including:​\n\n How to sign up for Connect​\n Mobile Tech App:​\n Infinite Comfort Pro App\n\n\n\nNAVIEN:​ \n\nLearn how to Navigating the Navien Website and App​\n Navien Accessories:    ​\n\nWater Treatment​\nPeak Flow ​\nNaviClean – Magnetic Boiler Filter​
URL:https://aprresources.com/event/navien-fujitsu-counter-day-pottstown-branch/
LOCATION:APR Supply Co – Pottstown\, 280 River Road\, Pottstown\, PA\, 19465\, United States
CATEGORIES:Counter Day
ATTACH;FMTTYPE=image/jpeg:https://aprresources.com/wp-content/uploads/2023/03/Fujitsu-Navien.jpg
ORGANIZER;CN="APR Marketing Department":MAILTO:marketing@aprsupply.com
END:VEVENT
BEGIN:VEVENT
DTSTART;TZID=America/New_York:20221130T080000
DTEND;TZID=America/New_York:20221130T093000
DTSTAMP:20260424T121408
CREATED:20221018T135100Z
LAST-MODIFIED:20221018T135100Z
UID:10000355-1669795200-1669800600@aprresources.com
SUMMARY:2023 New Tax Credits and Federal Regulations Training
DESCRIPTION:Join us for a review of the new regulatory and tax changes for 2023. \nTopics to be covered: \n\n2023 Regulatory efficiency change including new M1 testing\nAIM ACT\n2025 Refrigerant changes\nAdditional future regulatory changes:\n\n-Electrification / decarbonization \n-Non-condensing gas furnaces \n-Disposable refrigerant cylinders \n\nInflation Reduction Act\n\nClick the button below to register. \n\n	\n	\n	\n	\n    \n\n	    \n    \n        Registration is closed for this event.
URL:https://aprresources.com/event/2023-new-tax-credits-and-federal-regulations-training-5/
LOCATION:APR Supply Co – Pottstown\, 280 River Road\, Pottstown\, PA\, 19465\, United States
CATEGORIES:Training
ATTACH;FMTTYPE=image/png:https://aprresources.com/wp-content/uploads/2021/12/Heat-Pump.png
END:VEVENT
BEGIN:VEVENT
DTSTART;TZID=America/New_York:20221103T080000
DTEND;TZID=America/New_York:20221103T130000
DTSTAMP:20260424T121408
CREATED:20221004T203910Z
LAST-MODIFIED:20221004T205005Z
UID:10000338-1667462400-1667480400@aprresources.com
SUMMARY:Roth Oil Tank Installer Certification & Counter Day
DESCRIPTION:Join us to get Roth Certified Roth Oil Tank Installer Training In-Person! \nThe Roth Certified Roth Oil Tank Installer certification allows you to offer your customers the Roth 30-year warranty/$2M insurance policy. \nRoth will advertise your business on our “Find Installer” page where homeowners go to find a Certified Roth DWT Installer.
URL:https://aprresources.com/event/roth-oil-tank-installer-certification-counter-day/
LOCATION:APR Supply Co – Pottstown\, 280 River Road\, Pottstown\, PA\, 19465\, United States
CATEGORIES:Counter Day,Training
ATTACH;FMTTYPE=image/png:https://aprresources.com/wp-content/uploads/2022/10/Roth-Oil-Tank-Image.png
END:VEVENT
BEGIN:VEVENT
DTSTART;TZID=America/New_York:20220602T080000
DTEND;TZID=America/New_York:20220602T163000
DTSTAMP:20260424T121408
CREATED:20220308T200922Z
LAST-MODIFIED:20230501T205342Z
UID:10000242-1654156800-1654187400@aprresources.com
SUMMARY:Fujitsu ETSD - Pottstown Branch
DESCRIPTION:Please take the pre-requisite Fujitsu Tech 101 class prior to attending this training. This class provides in-depth troubleshooting for Halcyon Inverter systems. Some of the topics include: multi-meters\, DC controls and circuits with diagnosis and testing of Fujitsu outdoor unit circuit boards and demonstrating live testing of electrical components. \n\n\n\n\n\nClick the button below to register. \n\n\n\n	\n	\n	\n	\n    \n\n	    \n    \n        Registration is closed for this event.
URL:https://aprresources.com/event/fujitsu-etsd-pottstown-branch/
LOCATION:APR Supply Co – Pottstown\, 280 River Road\, Pottstown\, PA\, 19465\, United States
CATEGORIES:Training
ATTACH;FMTTYPE=image/png:https://aprresources.com/wp-content/uploads/2021/02/Fujitsu-ETSD.png
END:VEVENT
BEGIN:VEVENT
DTSTART;TZID=America/New_York:20220316T080000
DTEND;TZID=America/New_York:20220316T163000
DTSTAMP:20260424T121408
CREATED:20211231T004414Z
LAST-MODIFIED:20220310T192921Z
UID:10000218-1647417600-1647448200@aprresources.com
SUMMARY:Fujitsu Tech 101 - Pottstown Branch
DESCRIPTION:Course Highlights: \n\n\n\n·Class goal is to assist technicians and installers who work with minisplit systems to be more familiar with installation and application differences from traditional unitary systems\, without boring them to death with sales jargon and promotion. \n\n\n\n·Course provides a great technical overview of Fujitsu’s Halcyon products. It provides a more technical perspective than the FAST class\, while complimenting it with application ideas\, pictures\, installation hints\, tips and requirements. Troubleshooting sections offer excellent guidance for system and component troubleshooting. The course is comprised of 6 modules. Most can be instructed in just over an hour providing perfect timing for breaks. This full day course helps ensure all participants receive the basics skills and knowledge to apply and support Fujitsu minisplit products.  \n\n\n\nLight breakfast & lunch will be provided. \n\n\n\n Click the button below to register. \n\n\n\n	\n	\n	\n	\n    \n\n	    \n    \n        Registration is closed for this event.
URL:https://aprresources.com/event/fujitsu-tech-101-pottstown-branch/
LOCATION:APR Supply Co – Pottstown\, 280 River Road\, Pottstown\, PA\, 19465\, United States
CATEGORIES:Training
ATTACH;FMTTYPE=image/png:https://aprresources.com/wp-content/uploads/2021/02/Fujitsu-Tech-101.png
END:VEVENT
END:VCALENDAR