BEGIN:VCALENDAR
VERSION:2.0
PRODID:-// - ECPv6.15.20//NONSGML v1.0//EN
CALSCALE:GREGORIAN
METHOD:PUBLISH
X-ORIGINAL-URL:https://aprresources.com
X-WR-CALDESC:Events for 
REFRESH-INTERVAL;VALUE=DURATION:PT1H
X-Robots-Tag:noindex
X-PUBLISHED-TTL:PT1H
BEGIN:VTIMEZONE
TZID:America/New_York
BEGIN:DAYLIGHT
TZOFFSETFROM:-0500
TZOFFSETTO:-0400
TZNAME:EDT
DTSTART:20200308T070000
END:DAYLIGHT
BEGIN:STANDARD
TZOFFSETFROM:-0400
TZOFFSETTO:-0500
TZNAME:EST
DTSTART:20201101T060000
END:STANDARD
BEGIN:DAYLIGHT
TZOFFSETFROM:-0500
TZOFFSETTO:-0400
TZNAME:EDT
DTSTART:20210314T070000
END:DAYLIGHT
BEGIN:STANDARD
TZOFFSETFROM:-0400
TZOFFSETTO:-0500
TZNAME:EST
DTSTART:20211107T060000
END:STANDARD
BEGIN:DAYLIGHT
TZOFFSETFROM:-0500
TZOFFSETTO:-0400
TZNAME:EDT
DTSTART:20220313T070000
END:DAYLIGHT
BEGIN:STANDARD
TZOFFSETFROM:-0400
TZOFFSETTO:-0500
TZNAME:EST
DTSTART:20221106T060000
END:STANDARD
BEGIN:DAYLIGHT
TZOFFSETFROM:-0500
TZOFFSETTO:-0400
TZNAME:EDT
DTSTART:20230312T070000
END:DAYLIGHT
BEGIN:STANDARD
TZOFFSETFROM:-0400
TZOFFSETTO:-0500
TZNAME:EST
DTSTART:20231105T060000
END:STANDARD
BEGIN:DAYLIGHT
TZOFFSETFROM:-0500
TZOFFSETTO:-0400
TZNAME:EDT
DTSTART:20240310T070000
END:DAYLIGHT
BEGIN:STANDARD
TZOFFSETFROM:-0400
TZOFFSETTO:-0500
TZNAME:EST
DTSTART:20241103T060000
END:STANDARD
BEGIN:DAYLIGHT
TZOFFSETFROM:-0500
TZOFFSETTO:-0400
TZNAME:EDT
DTSTART:20250309T070000
END:DAYLIGHT
BEGIN:STANDARD
TZOFFSETFROM:-0400
TZOFFSETTO:-0500
TZNAME:EST
DTSTART:20251102T060000
END:STANDARD
END:VTIMEZONE
BEGIN:VEVENT
DTSTART;TZID=America/New_York:20240820T090000
DTEND;TZID=America/New_York:20240820T160000
DTSTAMP:20260424T080408
CREATED:20240715T203820Z
LAST-MODIFIED:20240715T203926Z
UID:10000910-1724144400-1724169600@aprresources.com
SUMMARY:Fujjtsu JQT/VQT/VRQT Install Training—Pittsburgh
DESCRIPTION:In this training\, you will learn about the installation and startup for the Fujitsu “V-Series.” The purpose of this training is to provide the skills needed to get familiar with the V-Series products\, understand the installation process and checking the system\, as well as starting up the system for the first time. You will also learn about the installation and startup for the Fujitsu “J-Series” mini-VRF\, variable refrigerant flow systems. The entire Airstage VRF equipment portfolio offers great value for home and business owners by providing a high level of comfort and energy savings when compared to traditional\, “Unitary” HVAC systems. \n*includes light breakfast refreshments\, full lunch\, and all class materials
URL:https://aprresources.com/event/fujjtsu-jqt-vqt-vrqt-install-training-pittsburgh/
LOCATION:APR Supply Co – Pittsburgh\, 311 Brushton Avenue\, Pittsburgh\, PA\, 15221\, United States
CATEGORIES:Training
ATTACH;FMTTYPE=image/png:https://aprresources.com/wp-content/uploads/2024/01/Fujitsu-Featured-Pic-.png
ORGANIZER;CN="APR Marketing Department":MAILTO:marketing@aprsupply.com
END:VEVENT
BEGIN:VEVENT
DTSTART;TZID=America/New_York:20231114T080000
DTEND;TZID=America/New_York:20231114T160000
DTSTAMP:20260424T080408
CREATED:20231005T205238Z
LAST-MODIFIED:20231012T214331Z
UID:10000661-1699948800-1699977600@aprresources.com
SUMMARY:A2L Refrigerant Training &  Certification - Pittsburgh Branch
DESCRIPTION:The HVACR industry is transitioning away from equipment that uses R-410A in favor of new equipment with Low GWP Refrigerants such as R-32 and R-454B. Our trainers will teach you to properly handle\, store and transport Low GWP Refrigerants.  Please note\, APR Supply Co. will provide the training\, course materials and test. Test results are mailed to ESCO Institute and graded solely by ESCO. ​ \nDid you know? \n·These are classified as A2L refrigerants\, or mildly flammable by ASHRAE? \n·That most systems will have refrigerant detection systems on board that can shut a system down in the event of a leak? \n·How you store and transport refrigerant cylinders will change?
URL:https://aprresources.com/event/a2l-refrigerant-training-certification-pittsburgh-branch/
LOCATION:APR Supply Co – Pittsburgh\, 311 Brushton Avenue\, Pittsburgh\, PA\, 15221\, United States
CATEGORIES:Training
ATTACH;FMTTYPE=image/png:https://aprresources.com/wp-content/uploads/2022/07/Low-GWP-Refrigrant-Safety.png
ORGANIZER;CN="APR Marketing Department":MAILTO:marketing@aprsupply.com
END:VEVENT
BEGIN:VEVENT
DTSTART;TZID=America/New_York:20230523T080000
DTEND;TZID=America/New_York:20230523T163000
DTSTAMP:20260424T080408
CREATED:20230210T192337Z
LAST-MODIFIED:20230510T123746Z
UID:10000429-1684828800-1684859400@aprresources.com
SUMMARY:Fujitsu ETSD - Pittsburgh Branch **Cancelled**
DESCRIPTION:Please take the pre-requisite Fujitsu Tech 101 class prior to attending this training. This class provides in-depth troubleshooting for Halcyon Inverter systems. Some of the topics include: multi-meters\, DC controls and circuits with diagnosis and testing of Fujitsu outdoor unit circuit boards and demonstrating live testing of electrical components. \nClick the button below to register. \n\nFujitsu Dealers who are looking for continuing education credits register here: \nFujitsu Dealer Registration 
URL:https://aprresources.com/event/fujitsu-etsd-pittsburgh-branch-2/
LOCATION:APR Supply Co – Pittsburgh\, 311 Brushton Avenue\, Pittsburgh\, PA\, 15221\, United States
CATEGORIES:Training
ATTACH;FMTTYPE=image/png:https://aprresources.com/wp-content/uploads/2021/02/Fujitsu-ETSD.png
END:VEVENT
BEGIN:VEVENT
DTSTART;TZID=America/New_York:20230418T073000
DTEND;TZID=America/New_York:20230418T170000
DTSTAMP:20260424T080408
CREATED:20230201T195055Z
LAST-MODIFIED:20230404T143407Z
UID:10000424-1681803000-1681837200@aprresources.com
SUMMARY:Fujitsu Next Tech - Pittsburgh Branch
DESCRIPTION:· This entry-level class’s goal is to assist technicians and installers who work with mini-split systems to be more familiar with installation and application differences from traditional unitary systems\, without boring them to death with sales jargon and promotion. \n\n\n\n·This course provides a great technical overview of Fujitsu’s Halcyon products. It provides a more technical perspective than the FAST class\, while complimenting it with application ideas\, pictures\, installation hints\, tips and requirements. Troubleshooting sections offer excellent guidance for system and component troubleshooting. This full-day course helps ensure all participants receive the basics skills and knowledge to apply and support Fujitsu minisplit products. \n\n\n\nLight breakfast & lunch will be provided. \nClick the button below to register. \n\n	\n	\n	\n	\n    \n\n	    \n    \n        Registration is closed for this event. \n        \n        	\n\n\nFujitsu Dealers who are looking for continuing education credits register here: \n\n\n \nFujitsu Dealer Registration  \n 
URL:https://aprresources.com/event/fujitsu-next-tech-pittsburg-branch/
LOCATION:APR Supply Co – Pittsburgh\, 311 Brushton Avenue\, Pittsburgh\, PA\, 15221\, United States
CATEGORIES:Training
ATTACH;FMTTYPE=image/jpeg:https://aprresources.com/wp-content/uploads/2023/01/Next-Tech.jpg
ORGANIZER;CN="Kristen Orgera":MAILTO:korgera@aprsupply.com
END:VEVENT
BEGIN:VEVENT
DTSTART;TZID=America/New_York:20230112T083000
DTEND;TZID=America/New_York:20230112T100000
DTSTAMP:20260424T080408
CREATED:20221018T143227Z
LAST-MODIFIED:20221018T143227Z
UID:10000360-1673512200-1673517600@aprresources.com
SUMMARY:2023 New Tax Credits and Federal Regulations Training
DESCRIPTION:Join us for a review of the new regulatory and tax changes for 2023. \nTopics to be covered: \n\n2023 Regulatory efficiency change including new M1 testing\nAIM ACT\n2025 Refrigerant changes\nAdditional future regulatory changes:\n\n-Electrification / decarbonization \n-Non-condensing gas furnaces \n-Disposable refrigerant cylinders \n\nInflation Reduction Act\n\nClick the button below to register. \n\n	\n	\n	\n	\n    \n\n	    \n    \n        Registration is closed for this event.
URL:https://aprresources.com/event/2023-new-tax-credits-and-federal-regulations-training-10/
LOCATION:APR Supply Co – Pittsburgh\, 311 Brushton Avenue\, Pittsburgh\, PA\, 15221\, United States
CATEGORIES:Training
ATTACH;FMTTYPE=image/png:https://aprresources.com/wp-content/uploads/2021/12/Heat-Pump.png
END:VEVENT
BEGIN:VEVENT
DTSTART;TZID=America/New_York:20221215T083000
DTEND;TZID=America/New_York:20221215T163000
DTSTAMP:20260424T080408
CREATED:20220727T015531Z
LAST-MODIFIED:20221212T165230Z
UID:10000144-1671093000-1671121800@aprresources.com
SUMMARY:Canceled - A2L Refrigerant Training &  Certification - Pittsburgh Branch
DESCRIPTION:The HVACR industry is transitioning away from equipment that uses R-410A in favor of new equipment with Low GWP Refrigerants such as R-32 and R-454B. Our trainers will teach you to properly handle\, store and transport Low GWP Refrigerants. Please note\, APR Supply Co. will provide the training\, course materials and test. Test results are mailed to ESCO Institute and graded solely by ESCO. \n\n\n\nDid you know? \n\n\n\n·These are classified as A2L refrigerants\, or mildly flammable by ASHRAE? \n\n\n\n·That most systems will have refrigerant detection systems on board that can shut a system down in the event of a leak? \n\n\n\n·How you store and transport refrigerant cylinders will change? \n\n\n\n\n\nClick the button below to register. \n\n\n\n	\n	\n	\n	\n    \n\n	    \n    \n        Registration is closed for this event.
URL:https://aprresources.com/event/a2l-refrigerant-training-certification-altoona-education-center/
LOCATION:APR Supply Co – Pittsburgh\, 311 Brushton Avenue\, Pittsburgh\, PA\, 15221\, United States
CATEGORIES:Training
ATTACH;FMTTYPE=image/png:https://aprresources.com/wp-content/uploads/2022/07/Low-GWP-Refrigrant-Safety.png
END:VEVENT
BEGIN:VEVENT
DTSTART;TZID=America/New_York:20211019T083000
DTEND;TZID=America/New_York:20211019T163000
DTSTAMP:20260424T080408
CREATED:20210716T170033Z
LAST-MODIFIED:20211004T205911Z
UID:10000166-1634632200-1634661000@aprresources.com
SUMMARY:Fujitsu Tech 101 at Pittsburgh Branch
DESCRIPTION:This credited Tech 101 course will be taught at our Pittsburgh Branch location. \n\n\n\nCourse Highlights:  \n\n\n\n·Class goal is to assist technicians and installers who work with minisplit systems to be more familiar with installation and application differences from traditional unitary systems\, without boring them to death with sales jargon and promotion.  \n\n\n\n·Course provides a great technical overview of Fujitsu’s Halcyon products. It provides a more technical perspective than the FAST class\, while complimenting it with application ideas\, pictures\, installation hints\, tips and requirements. Troubleshooting sections offer excellent guidance for system and component troubleshooting. The course is comprised of 6 modules. Most can be instructed in just over an hour providing perfect timing for breaks. This full day course helps ensure all participants receive the basics skills and knowledge to apply and support Fujitsu minisplit products. \n\n\n\nFujitsu Dealers who are looking for continuing education credits register here: \n\n\n\n\nFujitsu Dealer Registration\n\n\n\n\nIf you are not a Fujitsu Dealer and would like to attend this class\, register here: \n\n\n\n	\n	\n	\n	\n    \n\n	    \n    \n        Registration is closed for this event.
URL:https://aprresources.com/event/fujitsu-tech-101-pittsburgh-branch/
LOCATION:APR Supply Co – Pittsburgh\, 311 Brushton Avenue\, Pittsburgh\, PA\, 15221\, United States
CATEGORIES:Training
ATTACH;FMTTYPE=image/png:https://aprresources.com/wp-content/uploads/2021/02/Fujitsu-Tech-101.png
END:VEVENT
BEGIN:VEVENT
DTSTART;TZID=America/New_York:20211012T080000
DTEND;TZID=America/New_York:20211012T100000
DTSTAMP:20260424T080408
CREATED:20210916T120722Z
LAST-MODIFIED:20211008T202610Z
UID:10000045-1634025600-1634032800@aprresources.com
SUMMARY:Reznor Product Training - Pittsburgh Branch - Cancelled
DESCRIPTION:Join us for a 2 hour training to dive deeper into all things Reznor. This class will review the following topics: \n\n\n\nProduct Overview (1hr 15 min) \n\n\n\na. Plan Product Overview-Gas Fired Unit Heaters-Gas Fired Infrared Heaters-Gas Fired Duct Furnaces-Electric Heater Offering-Unique Solution Offering \n\n\n\nb. Applied Product Overview-Why outside air?-Split Systems-Packaged Systems-Additional Solution \n\n\n\nHow to Heat a Box (45 min) \n\n\n\na. Start with a 100×100 box with a known load discussing how each of the products discussed previously would apply to heat this box. Call out benefits and drawbacks of each approach. \n\n\n\nb. make Changes to the box that drive to a specific type of unit that would be best for the application.
URL:https://aprresources.com/event/reznor-product-training-pittsburgh-branch/
LOCATION:APR Supply Co – Pittsburgh\, 311 Brushton Avenue\, Pittsburgh\, PA\, 15221\, United States
CATEGORIES:Training
ATTACH;FMTTYPE=image/png:https://aprresources.com/wp-content/uploads/2020/07/Reznor-Product-Spotlight_Design-File.png
END:VEVENT
BEGIN:VEVENT
DTSTART;TZID=America/New_York:20210921T100000
DTEND;TZID=America/New_York:20210921T120000
DTSTAMP:20260424T080408
CREATED:20210902T191216Z
LAST-MODIFIED:20210920T205804Z
UID:10000170-1632218400-1632225600@aprresources.com
SUMMARY:Postponed-Bradford White Brute Tech Training - Pittsburgh Branch
DESCRIPTION:Get up to speed on the Bradford White Brute boiler. Gain insights on proper installation\, troubleshooting\, and have a chance to ask any questions you may have. Refreshments will be provided.  \n\n\n\nClick the button below to register. \n\n\n\n	\n	\n	\n	\n    \n\n	    \n    \n        Registration is closed for this event.
URL:https://aprresources.com/event/bradford-white-brute-tech-training-pittsburgh-branch/
LOCATION:APR Supply Co – Pittsburgh\, 311 Brushton Avenue\, Pittsburgh\, PA\, 15221\, United States
CATEGORIES:Training
ATTACH;FMTTYPE=image/png:https://aprresources.com/wp-content/uploads/2021/02/Bradford-White-Brute-FT.png
END:VEVENT
BEGIN:VEVENT
DTSTART;TZID=America/New_York:20210914T083000
DTEND;TZID=America/New_York:20210914T163000
DTSTAMP:20260424T080408
CREATED:20210827T193843Z
LAST-MODIFIED:20210831T191424Z
UID:10000033-1631608200-1631637000@aprresources.com
SUMMARY:Fujitsu ETSD - Pittsburgh Branch - Postponed
DESCRIPTION:Please take the pre-requisite Fujitsu Tech 101 class prior to attending this training. This class provides in-depth troubleshooting for Halcyon Inverter systems. Some of the topics include: multi-meters\, DC controls and circuits with diagnosis and testing of Fujitsu outdoor unit circuit boards and demonstrating live testing of electrical components..
URL:https://aprresources.com/event/fujitsu-etsd-pittsburgh-branch/
LOCATION:APR Supply Co – Pittsburgh\, 311 Brushton Avenue\, Pittsburgh\, PA\, 15221\, United States
CATEGORIES:Training
ATTACH;FMTTYPE=image/png:https://aprresources.com/wp-content/uploads/2021/02/Fujitsu-ETSD.png
END:VEVENT
END:VCALENDAR