BEGIN:VCALENDAR
VERSION:2.0
PRODID:-// - ECPv6.15.20//NONSGML v1.0//EN
CALSCALE:GREGORIAN
METHOD:PUBLISH
X-ORIGINAL-URL:https://aprresources.com
X-WR-CALDESC:Events for 
REFRESH-INTERVAL;VALUE=DURATION:PT1H
X-Robots-Tag:noindex
X-PUBLISHED-TTL:PT1H
BEGIN:VTIMEZONE
TZID:America/New_York
BEGIN:DAYLIGHT
TZOFFSETFROM:-0500
TZOFFSETTO:-0400
TZNAME:EDT
DTSTART:20210314T070000
END:DAYLIGHT
BEGIN:STANDARD
TZOFFSETFROM:-0400
TZOFFSETTO:-0500
TZNAME:EST
DTSTART:20211107T060000
END:STANDARD
BEGIN:DAYLIGHT
TZOFFSETFROM:-0500
TZOFFSETTO:-0400
TZNAME:EDT
DTSTART:20220313T070000
END:DAYLIGHT
BEGIN:STANDARD
TZOFFSETFROM:-0400
TZOFFSETTO:-0500
TZNAME:EST
DTSTART:20221106T060000
END:STANDARD
BEGIN:DAYLIGHT
TZOFFSETFROM:-0500
TZOFFSETTO:-0400
TZNAME:EDT
DTSTART:20230312T070000
END:DAYLIGHT
BEGIN:STANDARD
TZOFFSETFROM:-0400
TZOFFSETTO:-0500
TZNAME:EST
DTSTART:20231105T060000
END:STANDARD
BEGIN:DAYLIGHT
TZOFFSETFROM:-0500
TZOFFSETTO:-0400
TZNAME:EDT
DTSTART:20240310T070000
END:DAYLIGHT
BEGIN:STANDARD
TZOFFSETFROM:-0400
TZOFFSETTO:-0500
TZNAME:EST
DTSTART:20241103T060000
END:STANDARD
BEGIN:DAYLIGHT
TZOFFSETFROM:-0500
TZOFFSETTO:-0400
TZNAME:EDT
DTSTART:20250309T070000
END:DAYLIGHT
BEGIN:STANDARD
TZOFFSETFROM:-0400
TZOFFSETTO:-0500
TZNAME:EST
DTSTART:20251102T060000
END:STANDARD
BEGIN:DAYLIGHT
TZOFFSETFROM:-0500
TZOFFSETTO:-0400
TZNAME:EDT
DTSTART:20260308T070000
END:DAYLIGHT
BEGIN:STANDARD
TZOFFSETFROM:-0400
TZOFFSETTO:-0500
TZNAME:EST
DTSTART:20261101T060000
END:STANDARD
END:VTIMEZONE
BEGIN:VEVENT
DTSTART;TZID=America/New_York:20250626T080000
DTEND;TZID=America/New_York:20250626T100000
DTSTAMP:20260424T032451
CREATED:20250602T194648Z
LAST-MODIFIED:20250602T194648Z
UID:10001202-1750924800-1750932000@aprresources.com
SUMMARY:Lancaster Water Group Training—Malvern
DESCRIPTION:This particular training will feature a technical emphasis. Class topics will include: \n\nWater Treatment Systems Review\nProduct Sizing\nInstallation/Troubleshooting\nProgramming\nFAQ’s\n\n*Light breakfast refreshments provided by Lancaster Water Group.
URL:https://aprresources.com/event/lancaster-water-group-training-malvern/
LOCATION:APR Supply Co – Malvern\, 81 Lancaster Avenue\, Great Valley Center\, Malvern\, PA\, 19355\, United States
CATEGORIES:Training
ATTACH;FMTTYPE=image/jpeg:https://aprresources.com/wp-content/uploads/2024/03/4fa13c1148b714e2582ebffd5a719047_-united-states-pennsylvania-lancaster-county-lancaster-manheim-pike-1340-lancaster-water-group-717-397-3521.jpg
ORGANIZER;CN="APR Marketing Department":MAILTO:marketing@aprsupply.com
END:VEVENT
BEGIN:VEVENT
DTSTART;TZID=America/New_York:20250507T110000
DTEND;TZID=America/New_York:20250507T130000
DTSTAMP:20260424T032451
CREATED:20250320T131133Z
LAST-MODIFIED:20250320T131141Z
UID:10001140-1746615600-1746622800@aprresources.com
SUMMARY:Pro Charge Counter Day—Malvern
DESCRIPTION:Join us for a Pro Charge Counter Day! Meet the rep\, check out the products\, and enjoy light refreshments. \n 
URL:https://aprresources.com/event/pro-charge-counter-day-malvern/
LOCATION:APR Supply Co – Malvern\, 81 Lancaster Avenue\, Great Valley Center\, Malvern\, PA\, 19355\, United States
CATEGORIES:Counter Day
ATTACH;FMTTYPE=image/png:https://aprresources.com/wp-content/uploads/2025/03/Pro-Charge.png
ORGANIZER;CN="APR Marketing Department":MAILTO:marketing@aprsupply.com
END:VEVENT
BEGIN:VEVENT
DTSTART;TZID=America/New_York:20241210T070000
DTEND;TZID=America/New_York:20241210T100000
DTSTAMP:20260424T032451
CREATED:20241111T212655Z
LAST-MODIFIED:20241209T154006Z
UID:10000971-1733814000-1733824800@aprresources.com
SUMMARY:Uponor/Milwaukee Tool Counter Day—Malvern
DESCRIPTION:Join us for an Uponor & Milwaukee Tool Counter Day! \nMeet the rep\, check out the products\, and enjoy light refreshments\, as well as 10% off Milwaukee Tool products!
URL:https://aprresources.com/event/uponor-milwaukee-tool-counter-day-malvern/
LOCATION:APR Supply Co – Malvern\, 81 Lancaster Avenue\, Great Valley Center\, Malvern\, PA\, 19355\, United States
CATEGORIES:Counter Day
ATTACH;FMTTYPE=image/png:https://aprresources.com/wp-content/uploads/2024/11/Milwaukee-Uponor-Featured-Pic-.png
ORGANIZER;CN="APR Marketing Department":MAILTO:marketing@aprsupply.com
END:VEVENT
BEGIN:VEVENT
DTSTART;TZID=America/New_York:20241205T080000
DTEND;TZID=America/New_York:20241206T170000
DTSTAMP:20260424T032451
CREATED:20240906T180441Z
LAST-MODIFIED:20240906T180807Z
UID:10000942-1733385600-1733504400@aprresources.com
SUMMARY:Alex Meaney Basic HVAC Design with Wrightsoft: Manuals J\, S\, and D—Malvern
DESCRIPTION:Topics covered will include:\n• Setting up templates and libraries\n• Tricks for identifying insulation values in the field (without x-ray vision)\n• Using the PDF and CAD import features to trace a plan\n• Tips and shortcuts for easier and faster drawing.\n• Multi-story and multi-system design\n• Why performance data from AHRI is useless for cooling system selection.\n• Using RSU’s automated Manual S and how to use manufacturer data to do the same\n• How/why Manual D is backwards (but right)\n• Both trunk and branch and flex designs\n• Tips for keeping duct sizes under control \nSave $50 with the discount code APR50 \nLunch is provided. For more details or to register go to: MeanHVAC.com/Events \nInstructor:\nAlex Meaney / Mean HVAC\n-Former Wrightsoft Trainer ~19 years\n-ACCA EPIC certified\n-Has trained 10\,000+ HVAC designers
URL:https://aprresources.com/event/alex-meaney-basic-hvac-design-with-wrightsoft-manuals-j-s-and-d-malvern/
LOCATION:APR Supply Co – Malvern\, 81 Lancaster Avenue\, Great Valley Center\, Malvern\, PA\, 19355\, United States
CATEGORIES:Training
ATTACH;FMTTYPE=image/jpeg:https://aprresources.com/wp-content/uploads/2024/09/iStock-653967902.jpg
ORGANIZER;CN="APR Marketing Department":MAILTO:marketing@aprsupply.com
END:VEVENT
BEGIN:VEVENT
DTSTART;TZID=America/New_York:20241204T070000
DTEND;TZID=America/New_York:20241204T100000
DTSTAMP:20260424T032451
CREATED:20241022T185023Z
LAST-MODIFIED:20241022T185023Z
UID:10000962-1733295600-1733306400@aprresources.com
SUMMARY:PremierOne Counter Day—Malvern
DESCRIPTION:Join us for a PremierOne Counter Day! Meet the rep\, check out the products\, and enjoy light refreshments!
URL:https://aprresources.com/event/premierone-counter-day-malvern/
LOCATION:APR Supply Co – Malvern\, 81 Lancaster Avenue\, Great Valley Center\, Malvern\, PA\, 19355\, United States
CATEGORIES:Counter Day
ATTACH;FMTTYPE=image/png:https://aprresources.com/wp-content/uploads/2024/08/PremierOne-Featured-Pic-.png
ORGANIZER;CN="APR Marketing Department":MAILTO:marketing@aprsupply.com
END:VEVENT
BEGIN:VEVENT
DTSTART;TZID=America/New_York:20241120T080000
DTEND;TZID=America/New_York:20241120T120000
DTSTAMP:20260424T032451
CREATED:20240723T185231Z
LAST-MODIFIED:20241113T211020Z
UID:10000916-1732089600-1732104000@aprresources.com
SUMMARY:POSTPONED: Gruvlok PVF Training 101—Malvern
DESCRIPTION:Join us for a Gruvlok 101 hands-on training experience! \nTopics covered include the following: \n\nIntroduction to Gruvlok grooving system\nReview of product offerings\nWhere Gruvlok is used\nHow to sell\nWho the competition is\nHands-on roll grooving demonstration\n\n*Light breakfast refreshments provided by Gruvlok. 
URL:https://aprresources.com/event/gruvlok-pvf-training-101-malvern/
LOCATION:APR Supply Co – Malvern\, 81 Lancaster Avenue\, Great Valley Center\, Malvern\, PA\, 19355\, United States
CATEGORIES:Training
ATTACH;FMTTYPE=image/png:https://aprresources.com/wp-content/uploads/2024/07/Gruvlok-Featured-Pic-.png
ORGANIZER;CN="APR Marketing Department":MAILTO:marketing@aprsupply.com
END:VEVENT
BEGIN:VEVENT
DTSTART;TZID=America/New_York:20241113T070000
DTEND;TZID=America/New_York:20241113T100000
DTSTAMP:20260424T032451
CREATED:20241018T160638Z
LAST-MODIFIED:20241018T160638Z
UID:10000960-1731481200-1731492000@aprresources.com
SUMMARY:Friedrich & Rectorseal Counter Day—Malvern
DESCRIPTION:Join us for a Friedrich & Rectorseal Counter Day! Meet the rep\, check out the products\, and enjoy light refreshments!
URL:https://aprresources.com/event/friedrich-rectorseal-counter-day-malvern/
LOCATION:APR Supply Co – Malvern\, 81 Lancaster Avenue\, Great Valley Center\, Malvern\, PA\, 19355\, United States
CATEGORIES:Counter Day
ATTACH;FMTTYPE=image/png:https://aprresources.com/wp-content/uploads/2024/10/FriedrichRectorseal-Featured-Pic.png
ORGANIZER;CN="APR Marketing Department":MAILTO:marketing@aprsupply.com
END:VEVENT
BEGIN:VEVENT
DTSTART;TZID=America/New_York:20240904T080000
DTEND;TZID=America/New_York:20240904T120000
DTSTAMP:20260424T032451
CREATED:20240611T143753Z
LAST-MODIFIED:20240611T145536Z
UID:10000853-1725436800-1725451200@aprresources.com
SUMMARY:Arzel HeatPumPro  Set-Up & Troubleshooting—Malvern
DESCRIPTION:The goal of the class is to help technicians and contractors become more familiar with how the HeatPumPro can optimize comfort and save their customers money on energy cost by effectively controlling the HVAC equipment. The training aims to help contractors become more confident in diagnosing low voltage circuits and show them how simple Arzel dampers are to diagnose with a manometer. \nPlease note: Beginning fall 2024\, APR Supply Co. will be implementing a new payment and cancellation policy. Please click here to view these new stipulations. 
URL:https://aprresources.com/event/arzel-heatpumpro-set-up-troubleshooting-malvern/
LOCATION:APR Supply Co – Malvern\, 81 Lancaster Avenue\, Great Valley Center\, Malvern\, PA\, 19355\, United States
CATEGORIES:Training
ATTACH;FMTTYPE=image/png:https://aprresources.com/wp-content/uploads/2024/06/Arzel-HeatPumPro-Featured-Pic-.png
ORGANIZER;CN="APR Marketing Department":MAILTO:marketing@aprsupply.com
END:VEVENT
BEGIN:VEVENT
DTSTART;TZID=America/New_York:20240327T120000
DTEND;TZID=America/New_York:20240327T143000
DTSTAMP:20260424T032451
CREATED:20240227T144629Z
LAST-MODIFIED:20240308T154409Z
UID:10000786-1711540800-1711549800@aprresources.com
SUMMARY:Bosch IDS Training - Malvern
DESCRIPTION:Training Includes: \n– Review of IDS match-ups\n– Detail of differences between 15\, 18 & 20 SEER systems\n– Installation procedures\n– How to charge the system in cold weather months\n– How to perform sub-cooling and superheat tests\n– Thermostat compatibility and programming\n– Review of wiring diagrams\n– Info on Bosch Dealer Program and Bosch Home Comfort Pro \nClass led by Jeff Hunter of Keystone Sales & Associates. \n*Lunch Provided
URL:https://aprresources.com/event/bosch-ids-training-malvern/
LOCATION:APR Supply Co – Malvern\, 81 Lancaster Avenue\, Great Valley Center\, Malvern\, PA\, 19355\, United States
CATEGORIES:Training
ATTACH;FMTTYPE=image/png:https://aprresources.com/wp-content/uploads/2024/02/Bosch-Featured-Pic.png
ORGANIZER;CN="APR Marketing Department":MAILTO:marketing@aprsupply.com
END:VEVENT
BEGIN:VEVENT
DTSTART;TZID=America/New_York:20240208T080000
DTEND;TZID=America/New_York:20240208T170000
DTSTAMP:20260424T032451
CREATED:20240110T195125Z
LAST-MODIFIED:20240207T191652Z
UID:10000695-1707379200-1707411600@aprresources.com
SUMMARY:Fujitsu Next Tech - Malvern
DESCRIPTION:This entry-level class’s goal is to assist technicians and installers who work with mini-split systems to be more familiar with installation and application differences from traditional unitary systems\, without boring them to death with sales jargon and promotion. \nThis course provides a great technical overview of Fujitsu’s Halcyon products. It provides a more technical perspective than the FAST class\, while complementing it with application ideas\, pictures\, installation hints\, tips and requirements. Troubleshooting sections offer excellent guidance for system and component troubleshooting. This full-day course helps ensure all participants receive the basics skills and knowledge to apply and support Fujitsu mini-split products. \nRegistration for Dealers:  \n• Go to connect.fujitsugeneral.com\n• Click on “Login to Connect”\n• Login to your Fujitsu Connect Account or “Register” to Create Account\n• Click on “Courses” and Select Fujitsu Next Tech\n• Click “Classes” and find the class you’d like to register for \nRegistration for Non-Dealers:  \n• Please use registration button below.
URL:https://aprresources.com/event/fujitsu-next-tech-malvern/
LOCATION:APR Supply Co – Malvern\, 81 Lancaster Avenue\, Great Valley Center\, Malvern\, PA\, 19355\, United States
CATEGORIES:Training
ATTACH;FMTTYPE=image/jpeg:https://aprresources.com/wp-content/uploads/2023/01/Next-Tech.jpg
ORGANIZER;CN="APR Marketing Department":MAILTO:marketing@aprsupply.com
END:VEVENT
BEGIN:VEVENT
DTSTART;TZID=America/New_York:20231109T130000
DTEND;TZID=America/New_York:20231109T170000
DTSTAMP:20260424T032451
CREATED:20230813T224022Z
LAST-MODIFIED:20231012T214414Z
UID:10000621-1699534800-1699549200@aprresources.com
SUMMARY:Gas Furnace Training - Malvern
DESCRIPTION:The class includes the following topics: – Proper gas pipe sizing– Vent sizing and installation for both 80% and 90+ furnaces–  Combustion air code issues– Proper condensate pipe installation to prevent faults– Gas furnace controls and safety devices– Gas pressure testing– Temperature rise testing–  Basic combustion analysis–  Furnace set up and start up– Furnace troubleshooting–  Furnace sequence of operation and flash codes are used to provide a better understanding of furnace troubleshooting and testing– Manufacturer error codes are followed and methods are given for testing each error code– How to use your multi meter to test furnace components– Using manometers to test gas pressure– Testing proper temperature rise and referencing static pressure– Using combustion analysis to troubleshoot the gas furnaceRefreshments will be provided. \nRegister Today!
URL:https://aprresources.com/event/gas-furnace-training-malvern/
LOCATION:APR Supply Co – Malvern\, 81 Lancaster Avenue\, Great Valley Center\, Malvern\, PA\, 19355\, United States
CATEGORIES:Training
ATTACH;FMTTYPE=image/jpeg:https://aprresources.com/wp-content/uploads/2023/08/14.jpg
END:VEVENT
BEGIN:VEVENT
DTSTART;TZID=America/New_York:20231109T080000
DTEND;TZID=America/New_York:20231109T120000
DTSTAMP:20260424T032451
CREATED:20230813T135945Z
LAST-MODIFIED:20231012T201714Z
UID:10000620-1699516800-1699531200@aprresources.com
SUMMARY:Hydronics Training - Malvern
DESCRIPTION:Join us for a course on basic hydronics. We will be focusing on equipment overviews\, installation best practices\, troubleshooting tips and tricks\, and notable updates in the industry.
URL:https://aprresources.com/event/hydronics-training-malvern/
LOCATION:APR Supply Co – Malvern\, 81 Lancaster Avenue\, Great Valley Center\, Malvern\, PA\, 19355\, United States
CATEGORIES:Training
ATTACH;FMTTYPE=image/png:https://aprresources.com/wp-content/uploads/2022/07/Hydronics.png
ORGANIZER;CN="APR Marketing Department":MAILTO:marketing@aprsupply.com
END:VEVENT
BEGIN:VEVENT
DTSTART;TZID=America/New_York:20230919T080000
DTEND;TZID=America/New_York:20230919T093000
DTSTAMP:20260424T032451
CREATED:20230813T122101Z
LAST-MODIFIED:20230813T122251Z
UID:10000611-1695110400-1695115800@aprresources.com
SUMMARY:TracPipe Certification Training - Malvern Branch
DESCRIPTION:Learn how to size and install TracPipe flexible gas piping and fittings properly. Attendees will also take TracPipe’s certification exam\, which is required to purchase TracPipe. \n\n\n\nClick the button below to register. \n\n	\n	\n	\n	\n    \n\n	    \n    \n        Registration is closed for this event.
URL:https://aprresources.com/event/tracpipe-certification-training-malvern-branch/
LOCATION:APR Supply Co – Malvern\, 81 Lancaster Avenue\, Great Valley Center\, Malvern\, PA\, 19355\, United States
CATEGORIES:Training
ATTACH;FMTTYPE=image/png:https://aprresources.com/wp-content/uploads/2021/06/TracPipe-Training.png
ORGANIZER;CN="APR Marketing Department":MAILTO:marketing@aprsupply.com
END:VEVENT
BEGIN:VEVENT
DTSTART;TZID=America/New_York:20230608T080000
DTEND;TZID=America/New_York:20230608T120000
DTSTAMP:20260424T032451
CREATED:20230510T143454Z
LAST-MODIFIED:20230510T143454Z
UID:10000532-1686211200-1686225600@aprresources.com
SUMMARY:Honeywell Generator Training for Contractors - Malvern
DESCRIPTION:In this introductory class you will learn how to size\, sell and install generators for your customers. If you’ve been asked by one of your homeowners to sell and install a home standby\, this is the first class you’ll want to attend. \n\n\n\nTopics Covered: – Residential Market Overview – Site Preparation – Fuel Considerations – Back Up Options – Transfer Switch Connection – Generator Connections – Operational Tests & Final Steps – Sizing the Generator: NEC 220\, Part IV \n\n\n\nLight refreshments and lunch provided. \n\n\n\nClick the button below to register. \n\n	\n	\n	\n	\n    \n\n	    \n    \n        Registration is closed for this event.
URL:https://aprresources.com/event/honeywell-generator-training-for-contractors-malvern/
LOCATION:APR Supply Co – Malvern\, 81 Lancaster Avenue\, Great Valley Center\, Malvern\, PA\, 19355\, United States
CATEGORIES:Training
ATTACH;FMTTYPE=image/jpeg:https://aprresources.com/wp-content/uploads/2020/08/honeywell-genSPOTLIGHT-PHOTO.jpg
END:VEVENT
BEGIN:VEVENT
DTSTART;TZID=America/New_York:20230406T080000
DTEND;TZID=America/New_York:20230406T163000
DTSTAMP:20260424T032451
CREATED:20221227T213107Z
LAST-MODIFIED:20230328T183639Z
UID:10000401-1680768000-1680798600@aprresources.com
SUMMARY:Fujitsu ETSD - Malvern Branch
DESCRIPTION:Please take the pre-requisite Fujitsu Tech 101 class prior to attending this training. This class provides in-depth troubleshooting for Halcyon Inverter systems. Some of the topics include: multi-meters\, DC controls and circuits with diagnosis and testing of Fujitsu outdoor unit circuit boards and demonstrating live testing of electrical components. \n\n\n\n\n\nClick the button below to register. \n	\n	\n	\n	\n    \n\n	    \n    \n        Registration is closed for this event.
URL:https://aprresources.com/event/fujitsu-etsd-malvern-branch/
LOCATION:APR Supply Co – Malvern\, 81 Lancaster Avenue\, Great Valley Center\, Malvern\, PA\, 19355\, United States
CATEGORIES:Training
ATTACH;FMTTYPE=image/png:https://aprresources.com/wp-content/uploads/2021/02/Fujitsu-ETSD.png
END:VEVENT
BEGIN:VEVENT
DTSTART;TZID=America/New_York:20230223T083000
DTEND;TZID=America/New_York:20230223T163000
DTSTAMP:20260424T032451
CREATED:20221227T204347Z
LAST-MODIFIED:20221227T204347Z
UID:10000396-1677141000-1677169800@aprresources.com
SUMMARY:Low Voltage Controls and Wiring Training - Malvern Branch
DESCRIPTION:This training teaches electrical theory to put to practical use. The class covers conventional 24V controls and wiring\, Dual fuel controls\, and Wi-Fi and internet connectivity. There will also be a section that covers communicating controls. \n\n\n\n\n\nClick the button below to register. \n	\n	\n	\n	\n    \n\n	    \n    \n        Registration is closed for this event.
URL:https://aprresources.com/event/low-voltage-controls-and-wiring-training-malvern-branch/
LOCATION:APR Supply Co – Malvern\, 81 Lancaster Avenue\, Great Valley Center\, Malvern\, PA\, 19355\, United States
CATEGORIES:Training
ATTACH;FMTTYPE=image/png:https://aprresources.com/wp-content/uploads/2022/07/Low-Voltage-Controls.png
END:VEVENT
BEGIN:VEVENT
DTSTART;TZID=America/New_York:20230222T080000
DTEND;TZID=America/New_York:20230222T170000
DTSTAMP:20260424T032451
CREATED:20230131T194302Z
LAST-MODIFIED:20230220T215108Z
UID:10000420-1677052800-1677085200@aprresources.com
SUMMARY:Canceled - Fujitsu Next Tech -  Malvern Branch
DESCRIPTION:This training has been canceled we apologize for the inconvenience please check our Events & Trainings calendar frequently\, we are always adding to it.   \n· This entry-level class’s goal is to assist technicians and installers who work with mini-split systems to be more familiar with installation and application differences from traditional unitary systems\, without boring them to death with sales jargon and promotion. \n\n\n\n·This course provides a great technical overview of Fujitsu’s Halcyon products. It provides a more technical perspective than the FAST class\, while complimenting it with application ideas\, pictures\, installation hints\, tips and requirements. Troubleshooting sections offer excellent guidance for system and component troubleshooting. This full-day course helps ensure all participants receive the basics skills and knowledge to apply and support Fujitsu minisplit products. \n\n\n\n 
URL:https://aprresources.com/event/fujitsu-next-tech-malvern-branch/
LOCATION:APR Supply Co – Malvern\, 81 Lancaster Avenue\, Great Valley Center\, Malvern\, PA\, 19355\, United States
CATEGORIES:Training
ATTACH;FMTTYPE=image/jpeg:https://aprresources.com/wp-content/uploads/2023/01/Next-Tech.jpg
END:VEVENT
BEGIN:VEVENT
DTSTART;TZID=America/New_York:20221215T073000
DTEND;TZID=America/New_York:20221215T090000
DTSTAMP:20260424T032451
CREATED:20221125T151556Z
LAST-MODIFIED:20221125T151556Z
UID:10000371-1671089400-1671094800@aprresources.com
SUMMARY:Weil-McLain Hydronic Basics & EcoTec Boiler Overview - Malvern Branch
DESCRIPTION:Join us for a course on Weil-McLain Hydronic Basics & EcoTec Boiler Overview. We will focus on equipment reviews\, best practices\, troubleshooting tips and tricks\, and more: \n\nHydronic terms and formulas\nPipe sizing\nCirculator sizing ( Finding GPM & SQ Ft Of head )\nChoosing the right boiler for the application\nWhat do the ratings mean ( CSA input / DOE Htg Cap / Net AHRI MBH )\nEcoTec boiler & Combi Boiler Features & Benefits\nThe New Weil-Mclain “ PRO TOOLS APP”\n\nClick the button below to register. \n\n	\n	\n	\n	\n    \n\n	    \n    \n        Registration is closed for this event.
URL:https://aprresources.com/event/weil-mclain-hydronic-basics-ecotec-boiler-overview-malvern-branch/
LOCATION:APR Supply Co – Malvern\, 81 Lancaster Avenue\, Great Valley Center\, Malvern\, PA\, 19355\, United States
CATEGORIES:Training
ATTACH;FMTTYPE=image/png:https://aprresources.com/wp-content/uploads/2022/11/Screenshot_20221125_101345.png
ORGANIZER;CN="Kristen Orgera":MAILTO:korgera@aprsupply.com
END:VEVENT
BEGIN:VEVENT
DTSTART;TZID=America/New_York:20221123T080000
DTEND;TZID=America/New_York:20221123T100000
DTSTAMP:20260424T032451
CREATED:20221115T183108Z
LAST-MODIFIED:20221115T183108Z
UID:10000365-1669190400-1669197600@aprresources.com
SUMMARY:NAVAC Counter Day - Malvern Branch
DESCRIPTION:Stop into our Malvern branch\, meet with the NAVAC product expert\, and learn about this APR Product line!
URL:https://aprresources.com/event/navac-counter-day-malvern-branch/
LOCATION:APR Supply Co – Malvern\, 81 Lancaster Avenue\, Great Valley Center\, Malvern\, PA\, 19355\, United States
CATEGORIES:Counter Day
ATTACH;FMTTYPE=image/png:https://aprresources.com/wp-content/uploads/2022/03/Navac.png
END:VEVENT
BEGIN:VEVENT
DTSTART;TZID=America/New_York:20221114T080000
DTEND;TZID=America/New_York:20221114T093000
DTSTAMP:20260424T032451
CREATED:20221017T155228Z
LAST-MODIFIED:20221107T181336Z
UID:10000351-1668412800-1668418200@aprresources.com
SUMMARY:2023 New Tax Credits and Federal Regulations Training
DESCRIPTION:Join us for a review of the new regulatory and tax changes for 2023. \nTopics to be covered: \n\n2023 Regulatory efficiency change including new M1 testing\nAIM ACT\n2025 Refrigerant changes\nAdditional future regulatory changes:\n\n-Electrification / decarbonization \n-Non-condensing gas furnaces \n-Disposable refrigerant cylinders \n\nInflation Reduction Act\n\nClick the button below to register. \n\n	\n	\n	\n	\n    \n\n	    \n    \n        Registration is closed for this event.
URL:https://aprresources.com/event/2023-new-tax-credits-and-federal-regulations-training-2/
LOCATION:APR Supply Co – Malvern\, 81 Lancaster Avenue\, Great Valley Center\, Malvern\, PA\, 19355\, United States
CATEGORIES:Training
ATTACH;FMTTYPE=image/png:https://aprresources.com/wp-content/uploads/2021/12/Heat-Pump.png
END:VEVENT
BEGIN:VEVENT
DTSTART;TZID=America/New_York:20220908T080000
DTEND;TZID=America/New_York:20220908T100000
DTSTAMP:20260424T032451
CREATED:20220809T131131Z
LAST-MODIFIED:20220902T141329Z
UID:10000294-1662624000-1662631200@aprresources.com
SUMMARY:Cancelled - Arzel Zoning Training - Malvern Branch
DESCRIPTION:For nearly 40 years\, Arzel® Zoning has been manufacturing and distributing industry-leading HVAC zoning systems from their facility in Cleveland\, Ohio. Arzel®’s systems are also the easy to install which means it saves contractors time and labor cost. This class is focused on an introduction to zoning and basic system design. \n\n\n\nThis class has been cancelled.
URL:https://aprresources.com/event/arzel-zoning-training/
LOCATION:APR Supply Co – Malvern\, 81 Lancaster Avenue\, Great Valley Center\, Malvern\, PA\, 19355\, United States
CATEGORIES:Training
ATTACH;FMTTYPE=image/png:https://aprresources.com/wp-content/uploads/2020/12/Cut-Out-with-Zone-Thermostats-Small.png
END:VEVENT
END:VCALENDAR