BEGIN:VCALENDAR
VERSION:2.0
PRODID:-// - ECPv6.15.20//NONSGML v1.0//EN
CALSCALE:GREGORIAN
METHOD:PUBLISH
X-ORIGINAL-URL:https://aprresources.com
X-WR-CALDESC:Events for 
REFRESH-INTERVAL;VALUE=DURATION:PT1H
X-Robots-Tag:noindex
X-PUBLISHED-TTL:PT1H
BEGIN:VTIMEZONE
TZID:America/New_York
BEGIN:DAYLIGHT
TZOFFSETFROM:-0500
TZOFFSETTO:-0400
TZNAME:EDT
DTSTART:20210314T070000
END:DAYLIGHT
BEGIN:STANDARD
TZOFFSETFROM:-0400
TZOFFSETTO:-0500
TZNAME:EST
DTSTART:20211107T060000
END:STANDARD
BEGIN:DAYLIGHT
TZOFFSETFROM:-0500
TZOFFSETTO:-0400
TZNAME:EDT
DTSTART:20220313T070000
END:DAYLIGHT
BEGIN:STANDARD
TZOFFSETFROM:-0400
TZOFFSETTO:-0500
TZNAME:EST
DTSTART:20221106T060000
END:STANDARD
BEGIN:DAYLIGHT
TZOFFSETFROM:-0500
TZOFFSETTO:-0400
TZNAME:EDT
DTSTART:20230312T070000
END:DAYLIGHT
BEGIN:STANDARD
TZOFFSETFROM:-0400
TZOFFSETTO:-0500
TZNAME:EST
DTSTART:20231105T060000
END:STANDARD
END:VTIMEZONE
BEGIN:VEVENT
DTSTART;TZID=America/New_York:20220719T110000
DTEND;TZID=America/New_York:20220719T130000
DTSTAMP:20260424T121422
CREATED:20220708T172624Z
LAST-MODIFIED:20220708T172630Z
UID:10000273-1658228400-1658235600@aprresources.com
SUMMARY:New Yorker Boiler Counter Day - Lebanon Branch
DESCRIPTION:Stop by for a quick bite to eat and visit with our New Yorker Boiler rep to talk about their latest products and ask any questions.
URL:https://aprresources.com/event/new-yorker-boiler-counter-day-lebanon-branch/
LOCATION:APR Supply Co – Lebanon\, 305 N. 5th Street\, Lebanon\, PA\, 17046\, United States
ATTACH;FMTTYPE=image/png:https://aprresources.com/wp-content/uploads/2020/07/New-Yorker-Product-Spotlight.png
END:VEVENT
BEGIN:VEVENT
DTSTART;TZID=America/New_York:20220621T080000
DTEND;TZID=America/New_York:20220621T170000
DTSTAMP:20260424T121422
CREATED:20220617T144810Z
LAST-MODIFIED:20220617T144815Z
UID:10000130-1655798400-1655830800@aprresources.com
SUMMARY:Milwaukee Counter Day & Tent Sale
DESCRIPTION:Join us for a counter day from 11am-2pm. Chat with Ethan Tomkins from Rich Tomkins about the latest Milwaukee products and how they can improve your business! Take advantage of some amazing prices on Milwaukee products for one day only!
URL:https://aprresources.com/event/milwaukee-counter-day-tent-sale/
LOCATION:APR Supply Co – Lebanon\, 305 N. 5th Street\, Lebanon\, PA\, 17046\, United States
CATEGORIES:Branch Event,Counter Day
ATTACH;FMTTYPE=image/jpeg:https://aprresources.com/wp-content/uploads/2021/04/Milwaukee_XL_Packout_Toolbox.60464ef34d18c.jpg
END:VEVENT
BEGIN:VEVENT
DTSTART;TZID=America/New_York:20220428T110000
DTEND;TZID=America/New_York:20220428T140000
DTSTAMP:20260424T121422
CREATED:20220422T145755Z
LAST-MODIFIED:20220422T145800Z
UID:10000253-1651143600-1651154400@aprresources.com
SUMMARY:NAVAC Counter Day - Lebanon Branch
DESCRIPTION:Stop by and meet our NAVAC Rep Luis Ochoa. He will have tools set up for you to try the latest and the greatest tools in the industry. Light refreshments provided.
URL:https://aprresources.com/event/navac-counter-day-lebanon-branch/
LOCATION:APR Supply Co – Lebanon\, 305 N. 5th Street\, Lebanon\, PA\, 17046\, United States
CATEGORIES:Counter Day
ATTACH;FMTTYPE=image/png:https://aprresources.com/wp-content/uploads/2022/03/Navac.png
END:VEVENT
END:VCALENDAR