BEGIN:VCALENDAR
VERSION:2.0
PRODID:-// - ECPv6.15.20//NONSGML v1.0//EN
CALSCALE:GREGORIAN
METHOD:PUBLISH
X-ORIGINAL-URL:https://aprresources.com
X-WR-CALDESC:Events for 
REFRESH-INTERVAL;VALUE=DURATION:PT1H
X-Robots-Tag:noindex
X-PUBLISHED-TTL:PT1H
BEGIN:VTIMEZONE
TZID:America/New_York
BEGIN:DAYLIGHT
TZOFFSETFROM:-0500
TZOFFSETTO:-0400
TZNAME:EDT
DTSTART:20210314T070000
END:DAYLIGHT
BEGIN:STANDARD
TZOFFSETFROM:-0400
TZOFFSETTO:-0500
TZNAME:EST
DTSTART:20211107T060000
END:STANDARD
BEGIN:DAYLIGHT
TZOFFSETFROM:-0500
TZOFFSETTO:-0400
TZNAME:EDT
DTSTART:20220313T070000
END:DAYLIGHT
BEGIN:STANDARD
TZOFFSETFROM:-0400
TZOFFSETTO:-0500
TZNAME:EST
DTSTART:20221106T060000
END:STANDARD
BEGIN:DAYLIGHT
TZOFFSETFROM:-0500
TZOFFSETTO:-0400
TZNAME:EDT
DTSTART:20230312T070000
END:DAYLIGHT
BEGIN:STANDARD
TZOFFSETFROM:-0400
TZOFFSETTO:-0500
TZNAME:EST
DTSTART:20231105T060000
END:STANDARD
BEGIN:DAYLIGHT
TZOFFSETFROM:-0500
TZOFFSETTO:-0400
TZNAME:EDT
DTSTART:20240310T070000
END:DAYLIGHT
BEGIN:STANDARD
TZOFFSETFROM:-0400
TZOFFSETTO:-0500
TZNAME:EST
DTSTART:20241103T060000
END:STANDARD
BEGIN:DAYLIGHT
TZOFFSETFROM:-0500
TZOFFSETTO:-0400
TZNAME:EDT
DTSTART:20250309T070000
END:DAYLIGHT
BEGIN:STANDARD
TZOFFSETFROM:-0400
TZOFFSETTO:-0500
TZNAME:EST
DTSTART:20251102T060000
END:STANDARD
END:VTIMEZONE
BEGIN:VEVENT
DTSTART;TZID=America/New_York:20241017T120000
DTEND;TZID=America/New_York:20241017T160000
DTSTAMP:20260424T053025
CREATED:20240617T194131Z
LAST-MODIFIED:20241011T153959Z
UID:10000866-1729166400-1729180800@aprresources.com
SUMMARY:POSTPONED: Low Voltage Controls & Wiring Training—Johnstown
DESCRIPTION:This is electrical theory put to practical use. The class covers conventional 24V controls and wiring\, dual fuel controls\, and Wi-Fi and Internet connectivity. There will also be a section that covers communicating controls. \nSign up for the Heat Pump AC Service & Troubleshooting Training Class on 10/16 at Johnstown from 8 a.m. – Noon and get both classes for $100*! \nSign up for the Heat Pump AC Service & Troubleshooting Training Class here!  \nPlease note: Beginning fall 2024\, APR Supply Co. will be implementing a new payment and cancellation policy. Please click here to view these new stipulations.  \n*Discount applied at billing. 
URL:https://aprresources.com/event/low-voltage-controls-wiring-training-johnstown/
LOCATION:APR Supply Co – Johnstown\, 100 Ogle Street\, Johnstown\, PA\, 15905\, United States
CATEGORIES:Training
ATTACH;FMTTYPE=image/png:https://aprresources.com/wp-content/uploads/2024/01/Low-Voltage-Featured-Image.png
ORGANIZER;CN="APR Marketing Department":MAILTO:marketing@aprsupply.com
END:VEVENT
BEGIN:VEVENT
DTSTART;TZID=America/New_York:20241017T080000
DTEND;TZID=America/New_York:20241017T120000
DTSTAMP:20260424T053025
CREATED:20240617T193005Z
LAST-MODIFIED:20241011T154038Z
UID:10000865-1729152000-1729166400@aprresources.com
SUMMARY:POSTPONED: Heat Pump AC Service & Troubleshooting Training—Johnstown
DESCRIPTION:This program is designed to provide an understanding of residential heat pump technology. It will provide learners with the essential skills necessary to install\, diagnose\, and maintain residential heat pump systems. It covers basic principles of operation\, system components\, airflow\, defrost methods\, balance point\, auxiliary electric heat\, electrical control wiring\, refrigerant piping\, installation\, refrigerant charging\, troubleshooting\, dual fuel systems\, and an introduction to geothermal systems. \nSign up for the Low Voltage Training Class on 10/16 at Johnstown from Noon – 4 p.m. and get both classes for $100!* \nSign up for Low Voltage Class here!  \nPlease note: Beginning fall 2024\, APR Supply Co. will be implementing a new payment and cancellation policy. Please click here to view these new stipulations.  \n*Discount applied at billing. 
URL:https://aprresources.com/event/heat-pump-ac-service-troubleshooting-training-johnstown/
LOCATION:APR Supply Co – Johnstown\, 100 Ogle Street\, Johnstown\, PA\, 15905\, United States
CATEGORIES:Training
ATTACH;FMTTYPE=image/png:https://aprresources.com/wp-content/uploads/2024/01/Heat-Pump-Featured-Image-1-1.png
ORGANIZER;CN="APR Marketing Department":MAILTO:marketing@aprsupply.com
END:VEVENT
BEGIN:VEVENT
DTSTART;TZID=America/New_York:20240228T090000
DTEND;TZID=America/New_York:20240228T110000
DTSTAMP:20260424T053025
CREATED:20240130T173318Z
LAST-MODIFIED:20240130T173318Z
UID:10000751-1709110800-1709118000@aprresources.com
SUMMARY:Taco Training - Johnstown
DESCRIPTION:Mike Mazzarese\, Jr.\, a representative of Emerson Swan Products\,\nwill review the Taco product line with attendees and review best\nquestions to ask both homeowners and contractors. Mike will go over\ncomponents mainly used in designing a hot water system and\ndiscuss their purpose. A Q & A session will follow at the end of the training. \n*Light Refreshments Provided 
URL:https://aprresources.com/event/taco-training-johnstown/
LOCATION:APR Supply Co – Johnstown\, 100 Ogle Street\, Johnstown\, PA\, 15905\, United States
CATEGORIES:Training
ATTACH;FMTTYPE=image/png:https://aprresources.com/wp-content/uploads/2024/01/Taco-Featured-Image-.png
ORGANIZER;CN="APR Marketing Department":MAILTO:marketing@aprsupply.com
END:VEVENT
BEGIN:VEVENT
DTSTART;TZID=America/New_York:20230323T080000
DTEND;TZID=America/New_York:20230323T100000
DTSTAMP:20260424T053025
CREATED:20230228T193833Z
LAST-MODIFIED:20230228T193833Z
UID:10000460-1679558400-1679565600@aprresources.com
SUMMARY:Yellow Jacket AC Tools Product Training - Indiana Branch
DESCRIPTION:Register now to learn about the newest tool lineup from Yellow Jacket. We will have light refreshments available.\n\n\n\nClick the button below to register.\n\n\n	\n	\n	\n	\n    \n\n	    \n    \n        Registration is closed for this event.
URL:https://aprresources.com/event/yellow-jacket-ac-tools-product-training-indiana-branch-2/
LOCATION:APR Supply Co – Johnstown\, 100 Ogle Street\, Johnstown\, PA\, 15905\, United States
CATEGORIES:Training
ATTACH;FMTTYPE=image/jpeg:https://aprresources.com/wp-content/uploads/2022/05/Yellow-Jacket.jpg
END:VEVENT
BEGIN:VEVENT
DTSTART;TZID=America/New_York:20230210T080000
DTEND;TZID=America/New_York:20230210T100000
DTSTAMP:20260424T053025
CREATED:20230105T194510Z
LAST-MODIFIED:20230105T224939Z
UID:10000410-1676016000-1676023200@aprresources.com
SUMMARY:Bradford White Brute Boiler & Basic Hydronics Training
DESCRIPTION:Join us for a course reviewing Bradford White Brute basic hydronics focusing on Bradford White Brute boilers. We will concentrate on equipment overviews\, installation best practices\, troubleshooting tips and tricks\, and notable updates in the industry. \n\n\n\n\n\nClick the button below to register. \n\n	\n	\n	\n	\n    \n\n	    \n    \n        Registration is closed for this event.
URL:https://aprresources.com/event/bradford-white-brute-basic-hydronics-training-2/
LOCATION:APR Supply Co – Johnstown\, 100 Ogle Street\, Johnstown\, PA\, 15905\, United States
CATEGORIES:Training
ATTACH;FMTTYPE=image/png:https://aprresources.com/wp-content/uploads/2021/02/Bradford-White-Brute-FT.png
ORGANIZER;CN="Kristen Orgera":MAILTO:korgera@aprsupply.com
END:VEVENT
BEGIN:VEVENT
DTSTART;TZID=America/New_York:20221215T120000
DTEND;TZID=America/New_York:20221215T130000
DTSTAMP:20260424T053025
CREATED:20221117T211650Z
LAST-MODIFIED:20221121T140249Z
UID:10000366-1671105600-1671109200@aprresources.com
SUMMARY:TracPipe Certification Training - Johnstown Branch
DESCRIPTION:Learn how to properly size and install TracPipe flexible gas piping and fittings. Attendees will also take TracPipe’s certification exam\, which is required to purchase TracPipe. \n\n\n\nClick the button below to register. \n\n	\n	\n	\n	\n    \n\n	    \n    \n        Registration is closed for this event.
URL:https://aprresources.com/event/tracpipe-certification-training-johnstown-branch/
LOCATION:APR Supply Co – Johnstown\, 100 Ogle Street\, Johnstown\, PA\, 15905\, United States
CATEGORIES:Training
ATTACH;FMTTYPE=image/png:https://aprresources.com/wp-content/uploads/2021/06/TracPipe-Training.png
END:VEVENT
END:VCALENDAR