BEGIN:VCALENDAR
VERSION:2.0
PRODID:-// - ECPv6.15.20//NONSGML v1.0//EN
CALSCALE:GREGORIAN
METHOD:PUBLISH
X-ORIGINAL-URL:https://aprresources.com
X-WR-CALDESC:Events for 
REFRESH-INTERVAL;VALUE=DURATION:PT1H
X-Robots-Tag:noindex
X-PUBLISHED-TTL:PT1H
BEGIN:VTIMEZONE
TZID:America/New_York
BEGIN:DAYLIGHT
TZOFFSETFROM:-0500
TZOFFSETTO:-0400
TZNAME:EDT
DTSTART:20210314T070000
END:DAYLIGHT
BEGIN:STANDARD
TZOFFSETFROM:-0400
TZOFFSETTO:-0500
TZNAME:EST
DTSTART:20211107T060000
END:STANDARD
BEGIN:DAYLIGHT
TZOFFSETFROM:-0500
TZOFFSETTO:-0400
TZNAME:EDT
DTSTART:20220313T070000
END:DAYLIGHT
BEGIN:STANDARD
TZOFFSETFROM:-0400
TZOFFSETTO:-0500
TZNAME:EST
DTSTART:20221106T060000
END:STANDARD
BEGIN:DAYLIGHT
TZOFFSETFROM:-0500
TZOFFSETTO:-0400
TZNAME:EDT
DTSTART:20230312T070000
END:DAYLIGHT
BEGIN:STANDARD
TZOFFSETFROM:-0400
TZOFFSETTO:-0500
TZNAME:EST
DTSTART:20231105T060000
END:STANDARD
BEGIN:DAYLIGHT
TZOFFSETFROM:-0500
TZOFFSETTO:-0400
TZNAME:EDT
DTSTART:20240310T070000
END:DAYLIGHT
BEGIN:STANDARD
TZOFFSETFROM:-0400
TZOFFSETTO:-0500
TZNAME:EST
DTSTART:20241103T060000
END:STANDARD
BEGIN:DAYLIGHT
TZOFFSETFROM:-0500
TZOFFSETTO:-0400
TZNAME:EDT
DTSTART:20250309T070000
END:DAYLIGHT
BEGIN:STANDARD
TZOFFSETFROM:-0400
TZOFFSETTO:-0500
TZNAME:EST
DTSTART:20251102T060000
END:STANDARD
BEGIN:DAYLIGHT
TZOFFSETFROM:-0500
TZOFFSETTO:-0400
TZNAME:EDT
DTSTART:20260308T070000
END:DAYLIGHT
BEGIN:STANDARD
TZOFFSETFROM:-0400
TZOFFSETTO:-0500
TZNAME:EST
DTSTART:20261101T060000
END:STANDARD
END:VTIMEZONE
BEGIN:VEVENT
DTSTART;TZID=America/New_York:20250624T090000
DTEND;TZID=America/New_York:20250624T130000
DTSTAMP:20260424T081751
CREATED:20250527T184728Z
LAST-MODIFIED:20250527T184741Z
UID:10001200-1750755600-1750770000@aprresources.com
SUMMARY:Milwaukee Tool Counter Day—Indiana
DESCRIPTION:Join us for a Milwaukee Tool Counter Day! Meet the rep\, check out the products\, enjoy light refreshments and 10% off purchases 6/24 only.
URL:https://aprresources.com/event/milwaukee-tool-counter-day-indiana/
LOCATION:APR Supply Co – Indiana\, 2060 Shelly Drive\, Indiana\, PA\, 15701\, United States
CATEGORIES:Counter Day
ATTACH;FMTTYPE=image/png:https://aprresources.com/wp-content/uploads/2025/03/Milwaukee-Featured-Pic.png
ORGANIZER;CN="APR Marketing Department":MAILTO:marketing@aprsupply.com
END:VEVENT
BEGIN:VEVENT
DTSTART;TZID=America/New_York:20220608T080000
DTEND;TZID=America/New_York:20220608T100000
DTSTAMP:20260424T081751
CREATED:20220518T180730Z
LAST-MODIFIED:20220518T181826Z
UID:10000259-1654675200-1654682400@aprresources.com
SUMMARY:Yellow Jacket AC Tools Product Training - Indiana Branch
DESCRIPTION:Register now to learn about the newest AC tools lineup from Yellow Jacket. We will have light refreshments available. \n\n\n\nClick the button below to register. \n\n\n\n	\n	\n	\n	\n    \n\n	    \n    \n        Registration is closed for this event.
URL:https://aprresources.com/event/yellow-jacket-ac-tools-product-training-indiana-branch/
LOCATION:APR Supply Co – Indiana\, 2060 Shelly Drive\, Indiana\, PA\, 15701\, United States
CATEGORIES:Training
ATTACH;FMTTYPE=image/jpeg:https://aprresources.com/wp-content/uploads/2022/05/Yellow-Jacket.jpg
END:VEVENT
END:VCALENDAR