BEGIN:VCALENDAR
VERSION:2.0
PRODID:-// - ECPv6.15.20//NONSGML v1.0//EN
CALSCALE:GREGORIAN
METHOD:PUBLISH
X-ORIGINAL-URL:https://aprresources.com
X-WR-CALDESC:Events for 
REFRESH-INTERVAL;VALUE=DURATION:PT1H
X-Robots-Tag:noindex
X-PUBLISHED-TTL:PT1H
BEGIN:VTIMEZONE
TZID:America/New_York
BEGIN:DAYLIGHT
TZOFFSETFROM:-0500
TZOFFSETTO:-0400
TZNAME:EDT
DTSTART:20200308T070000
END:DAYLIGHT
BEGIN:STANDARD
TZOFFSETFROM:-0400
TZOFFSETTO:-0500
TZNAME:EST
DTSTART:20201101T060000
END:STANDARD
BEGIN:DAYLIGHT
TZOFFSETFROM:-0500
TZOFFSETTO:-0400
TZNAME:EDT
DTSTART:20210314T070000
END:DAYLIGHT
BEGIN:STANDARD
TZOFFSETFROM:-0400
TZOFFSETTO:-0500
TZNAME:EST
DTSTART:20211107T060000
END:STANDARD
BEGIN:DAYLIGHT
TZOFFSETFROM:-0500
TZOFFSETTO:-0400
TZNAME:EDT
DTSTART:20220313T070000
END:DAYLIGHT
BEGIN:STANDARD
TZOFFSETFROM:-0400
TZOFFSETTO:-0500
TZNAME:EST
DTSTART:20221106T060000
END:STANDARD
BEGIN:DAYLIGHT
TZOFFSETFROM:-0500
TZOFFSETTO:-0400
TZNAME:EDT
DTSTART:20230312T070000
END:DAYLIGHT
BEGIN:STANDARD
TZOFFSETFROM:-0400
TZOFFSETTO:-0500
TZNAME:EST
DTSTART:20231105T060000
END:STANDARD
BEGIN:DAYLIGHT
TZOFFSETFROM:-0500
TZOFFSETTO:-0400
TZNAME:EDT
DTSTART:20240310T070000
END:DAYLIGHT
BEGIN:STANDARD
TZOFFSETFROM:-0400
TZOFFSETTO:-0500
TZNAME:EST
DTSTART:20241103T060000
END:STANDARD
BEGIN:DAYLIGHT
TZOFFSETFROM:-0500
TZOFFSETTO:-0400
TZNAME:EDT
DTSTART:20250309T070000
END:DAYLIGHT
BEGIN:STANDARD
TZOFFSETFROM:-0400
TZOFFSETTO:-0500
TZNAME:EST
DTSTART:20251102T060000
END:STANDARD
BEGIN:DAYLIGHT
TZOFFSETFROM:-0500
TZOFFSETTO:-0400
TZNAME:EDT
DTSTART:20260308T070000
END:DAYLIGHT
BEGIN:STANDARD
TZOFFSETFROM:-0400
TZOFFSETTO:-0500
TZNAME:EST
DTSTART:20261101T060000
END:STANDARD
END:VTIMEZONE
BEGIN:VEVENT
DTSTART;TZID=America/New_York:20250611T110000
DTEND;TZID=America/New_York:20250611T130000
DTSTAMP:20260424T134452
CREATED:20250319T174456Z
LAST-MODIFIED:20250319T174505Z
UID:10001138-1749639600-1749646800@aprresources.com
SUMMARY:Pro Charge Counter Day—Hazleton
DESCRIPTION:Join us for a Pro Charge Counter Day! Meet the rep\, check out the products\, and enjoy light refreshments. \n 
URL:https://aprresources.com/event/pro-charge-counter-day-hazleton/
LOCATION:APR Supply Co – Hazleton\, 171 S. Filmore Court\, Hazleton\, PA\, 18201\, United States
CATEGORIES:Counter Day
ATTACH;FMTTYPE=image/png:https://aprresources.com/wp-content/uploads/2025/03/Pro-Charge.png
ORGANIZER;CN="APR Marketing Department":MAILTO:marketing@aprsupply.com
END:VEVENT
BEGIN:VEVENT
DTSTART;TZID=America/New_York:20241001T080000
DTEND;TZID=America/New_York:20241001T093000
DTSTAMP:20260424T134452
CREATED:20240903T173320Z
LAST-MODIFIED:20240930T151706Z
UID:10000936-1727769600-1727775000@aprresources.com
SUMMARY:POSTPONED Carlin Training—Hazleton
DESCRIPTION:Join us to learn more about Carlin products! \nThis training offering will review the following topics: \n\nRefresher Course on EZ Gas Burners\nSelecting the Correct Burner Configuration\nSet-Up and Troubleshooting
URL:https://aprresources.com/event/carling-training-hazleton/
LOCATION:APR Supply Co – Hazleton\, 171 S. Filmore Court\, Hazleton\, PA\, 18201\, United States
CATEGORIES:Training
ATTACH;FMTTYPE=image/jpeg:https://aprresources.com/wp-content/uploads/2024/07/Carlin-Featured-Pic-.jpg
ORGANIZER;CN="APR Marketing Department":MAILTO:marketing@aprsupply.com
END:VEVENT
BEGIN:VEVENT
DTSTART;TZID=America/New_York:20240911T110000
DTEND;TZID=America/New_York:20240911T140000
DTSTAMP:20260424T134452
CREATED:20240830T203104Z
LAST-MODIFIED:20240830T203218Z
UID:10000935-1726052400-1726063200@aprresources.com
SUMMARY:Carlin Training & Counter Day—Hazleton
DESCRIPTION:Join us for a Carlin Combustion Technology Counter Day focusing on Carlin Controls! Meet the rep\, check out the products\, enjoy light refreshments\, and more. \nLunch is provided by Carlin Combustion Technology. \nAlso\, Carlin will offer a training before the Counter Day from 8—9:30 covering upgrades and new features of the 70200 Universal Oil Primary\, as well as set up\, operation and diagnostics. \nThe training will be held from 8—9:30 a.m. while the Counter Day will take place 11 a.m. to 2 p.m.
URL:https://aprresources.com/event/carlin-training-counter-day-hazleton/2024-09-11/2/
LOCATION:APR Supply Co – Hazleton\, 171 S. Filmore Court\, Hazleton\, PA\, 18201\, United States
CATEGORIES:Counter Day,Training
ATTACH;FMTTYPE=image/jpeg:https://aprresources.com/wp-content/uploads/2024/07/Carlin-Featured-Pic-.jpg
ORGANIZER;CN="APR Marketing Department":MAILTO:marketing@aprsupply.com
END:VEVENT
BEGIN:VEVENT
DTSTART;TZID=America/New_York:20240911T080000
DTEND;TZID=America/New_York:20240911T093000
DTSTAMP:20260424T134452
CREATED:20240830T203104Z
LAST-MODIFIED:20240830T203218Z
UID:10000934-1726041600-1726047000@aprresources.com
SUMMARY:Carlin Training & Counter Day—Hazleton
DESCRIPTION:Join us for a Carlin Combustion Technology Counter Day focusing on Carlin Controls! Meet the rep\, check out the products\, enjoy light refreshments\, and more. \nLunch is provided by Carlin Combustion Technology. \nAlso\, Carlin will offer a training before the Counter Day from 8—9:30 covering upgrades and new features of the 70200 Universal Oil Primary\, as well as set up\, operation and diagnostics. \nThe training will be held from 8—9:30 a.m. while the Counter Day will take place 11 a.m. to 2 p.m.
URL:https://aprresources.com/event/carlin-training-counter-day-hazleton/2024-09-11/1/
LOCATION:APR Supply Co – Hazleton\, 171 S. Filmore Court\, Hazleton\, PA\, 18201\, United States
CATEGORIES:Counter Day,Training
ATTACH;FMTTYPE=image/jpeg:https://aprresources.com/wp-content/uploads/2024/07/Carlin-Featured-Pic-.jpg
ORGANIZER;CN="APR Marketing Department":MAILTO:marketing@aprsupply.com
END:VEVENT
BEGIN:VEVENT
DTSTART;TZID=America/New_York:20240320T080000
DTEND;TZID=America/New_York:20240320T093000
DTSTAMP:20260424T134452
CREATED:20240306T142000Z
LAST-MODIFIED:20240306T142734Z
UID:10000792-1710921600-1710927000@aprresources.com
SUMMARY:Saniflo Counter Day - Hazleton
DESCRIPTION:Join us for a Saniflo Counter Day! \nMeet the rep\, check out the products\, enjoy light refreshments and more.
URL:https://aprresources.com/event/saniflo-counter-day-hazleton/
LOCATION:APR Supply Co – Hazleton\, 171 S. Filmore Court\, Hazleton\, PA\, 18201\, United States
CATEGORIES:Counter Day
ATTACH;FMTTYPE=image/png:https://aprresources.com/wp-content/uploads/2024/03/Saniflo-Featured-Pic.png
ORGANIZER;CN="APR Marketing Department":MAILTO:marketing@aprsupply.com
END:VEVENT
BEGIN:VEVENT
DTSTART;TZID=America/New_York:20230627T080000
DTEND;TZID=America/New_York:20230627T120000
DTSTAMP:20260424T134452
CREATED:20230510T144626Z
LAST-MODIFIED:20230510T144626Z
UID:10000533-1687852800-1687867200@aprresources.com
SUMMARY:Honeywell Generator Training for Contractors - Hazleton Branch
DESCRIPTION:In this introductory class you will learn how to size\, sell and install generators for your customers. If you’ve been asked by one of your homeowners to sell and install a home standby\, this is the first class you’ll want to attend. \n\n\n\nTopics Covered: – Residential Market Overview – Site Preparation – Fuel Considerations – Back Up Options – Transfer Switch Connection – Generator Connections – Operational Tests & Final Steps – Sizing the Generator: NEC 220\, Part IV \n\n\n\nLight refreshments and lunch provided. \n\n\n\nClick the button below to register. \n\n	\n	\n	\n	\n    \n\n	    \n    \n        Registration is closed for this event.
URL:https://aprresources.com/event/honeywell-generator-training-for-contractors-hazleton-branch/
LOCATION:APR Supply Co – Hazleton\, 171 S. Filmore Court\, Hazleton\, PA\, 18201\, United States
CATEGORIES:Training
ATTACH;FMTTYPE=image/jpeg:https://aprresources.com/wp-content/uploads/2020/08/honeywell-genSPOTLIGHT-PHOTO.jpg
END:VEVENT
BEGIN:VEVENT
DTSTART;TZID=America/New_York:20230426T073000
DTEND;TZID=America/New_York:20230426T170000
DTSTAMP:20260424T134452
CREATED:20230210T185214Z
LAST-MODIFIED:20230210T185820Z
UID:10000451-1682494200-1682528400@aprresources.com
SUMMARY:Fujitsu Next Tech - Hazleton Branch
DESCRIPTION:· This entry-level class’s goal is to assist technicians and installers who work with mini-split systems to be more familiar with installation and application differences from traditional unitary systems\, without boring them to death with sales jargon and promotion. \n\n\n\n·This course provides a great technical overview of Fujitsu’s Halcyon products. It provides a more technical perspective than the FAST class\, while complimenting it with application ideas\, pictures\, installation hints\, tips and requirements. Troubleshooting sections offer excellent guidance for system and component troubleshooting. This full-day course helps ensure all participants receive the basics skills and knowledge to apply and support Fujitsu minisplit products. \nClick the button below to register. \n\n	\n	\n	\n	\n    \n\n	    \n    \n        Registration is closed for this event. \n        \n        	\n\n\nFujitsu Dealers who are looking for continuing education credits register here: \n\n\n\nFujitsu Dealer Registration 
URL:https://aprresources.com/event/fujitsu-next-tech-hazleton-branch/
LOCATION:APR Supply Co – Hazleton\, 171 S. Filmore Court\, Hazleton\, PA\, 18201\, United States
CATEGORIES:Training
ATTACH;FMTTYPE=image/jpeg:https://aprresources.com/wp-content/uploads/2023/01/Next-Tech.jpg
END:VEVENT
BEGIN:VEVENT
DTSTART;TZID=America/New_York:20230405T080000
DTEND;TZID=America/New_York:20230405T100000
DTSTAMP:20260424T134452
CREATED:20230302T201252Z
LAST-MODIFIED:20230302T210532Z
UID:10000462-1680681600-1680688800@aprresources.com
SUMMARY:TracPipe Certification Training - Hazleton Branch
DESCRIPTION:Learn how to properly size and install TracPipe flexible gas piping and fittings. Attendees will also take TracPipe’s certification exam\, which is required to purchase TracPipe. \n\n\n\nClick the button below to register. \n\n	\n	\n	\n	\n    \n\n	    \n    \n        Registration is closed for this event.
URL:https://aprresources.com/event/tracpipe-certification-training-hazleton-branch/
LOCATION:APR Supply Co – Hazleton\, 171 S. Filmore Court\, Hazleton\, PA\, 18201\, United States
CATEGORIES:Training
ATTACH;FMTTYPE=image/png:https://aprresources.com/wp-content/uploads/2021/06/TracPipe-Training.png
ORGANIZER;CN="APR Marketing Department":MAILTO:marketing@aprsupply.com
END:VEVENT
BEGIN:VEVENT
DTSTART;TZID=America/New_York:20230223T090000
DTEND;TZID=America/New_York:20230223T110000
DTSTAMP:20260424T134452
CREATED:20230126T151420Z
LAST-MODIFIED:20230126T151420Z
UID:10000417-1677142800-1677150000@aprresources.com
SUMMARY:2023 New Tax Credits and Federal Regulations Training - Hazleton Branch
DESCRIPTION:2023 Regulatory efficiency change including new M1 testing\nAIM ACT\n2025 Refrigerant changes\nAdditional future regulatory changes:\n\n-Electrification / decarbonization \n-Non-condensing gas furnaces \n-Disposable refrigerant cylinders \n\nInflation Reduction Act\n\nClick the button below to register. \n\n	\n	\n	\n	\n    \n\n	    \n    \n        Registration is closed for this event.
URL:https://aprresources.com/event/2023-new-tax-credits-and-federal-regulations-training-hazleton-branch/
LOCATION:APR Supply Co – Hazleton\, 171 S. Filmore Court\, Hazleton\, PA\, 18201\, United States
CATEGORIES:Training
ATTACH;FMTTYPE=image/png:https://aprresources.com/wp-content/uploads/2021/12/Heat-Pump.png
END:VEVENT
BEGIN:VEVENT
DTSTART;TZID=America/New_York:20221201T113000
DTEND;TZID=America/New_York:20221201T123000
DTSTAMP:20260424T134452
CREATED:20221122T161249Z
LAST-MODIFIED:20221122T161249Z
UID:10000368-1669894200-1669897800@aprresources.com
SUMMARY:Roth Oil Tank Installer Lunch & Learn and Tank Certification - Hazleton Branch
DESCRIPTION:Join us to get Roth Certified Roth Oil Tank Installer Training In-Person Over Lunch! \nThe Roth Certified Roth Oil Tank Installer certification allows you to offer your customers the Roth 30-year warranty/$2M insurance policy. \nRoth will advertise your business on our “Find Installer” page where homeowners go to find a Certified Roth DWT Installer.
URL:https://aprresources.com/event/roth-oil-tank-installer-certification-lunch-and-learn/
LOCATION:APR Supply Co – Hazleton\, 171 S. Filmore Court\, Hazleton\, PA\, 18201\, United States
CATEGORIES:Branch Event,Training
ATTACH;FMTTYPE=image/png:https://aprresources.com/wp-content/uploads/2022/10/Roth-Oil-Tank-Image.png
ORGANIZER;CN="Kristen Orgera":MAILTO:korgera@aprsupply.com
END:VEVENT
BEGIN:VEVENT
DTSTART;TZID=America/New_York:20220921T080000
DTEND;TZID=America/New_York:20220921T223000
DTSTAMP:20260424T134452
CREATED:20220915T122503Z
LAST-MODIFIED:20220915T122516Z
UID:10000306-1663747200-1663799400@aprresources.com
SUMMARY:Carlin Combustion Product Review and Training - Hazleton Branch
DESCRIPTION:Review the latest products and technical aspects of Carlin Products. \n\n\n\nClick the button below to register. \n\n\n\n	\n	\n	\n	\n    \n\n	    \n    \n        Registration is closed for this event.
URL:https://aprresources.com/event/carlin-combustion-product-review-and-training-hazleton-branch/
LOCATION:APR Supply Co – Hazleton\, 171 S. Filmore Court\, Hazleton\, PA\, 18201\, United States
CATEGORIES:Training
ATTACH;FMTTYPE=image/png:https://aprresources.com/wp-content/uploads/2020/07/Carlin_Logo.png
END:VEVENT
BEGIN:VEVENT
DTSTART;TZID=America/New_York:20220419T080000
DTEND;TZID=America/New_York:20220419T163000
DTSTAMP:20260424T134452
CREATED:20220308T184359Z
LAST-MODIFIED:20220418T184346Z
UID:10000234-1650355200-1650385800@aprresources.com
SUMMARY:Cancelled - Fujitsu ETSD - Hazleton Branch
DESCRIPTION:Please take the pre-requisite Fujitsu Tech 101 class prior to attending this training. This class provides in-depth troubleshooting for Halcyon Inverter systems. Some of the topics include: multi-meters\, DC controls and circuits with diagnosis and testing of Fujitsu outdoor unit circuit boards and demonstrating live testing of electrical components. \n\n\n\n\n\nClick the button below to register. \n\n\n\n	\n	\n	\n	\n    \n\n	    \n    \n        Registration is closed for this event.
URL:https://aprresources.com/event/fujitsu-etsd-hazleton-branch/
LOCATION:APR Supply Co – Hazleton\, 171 S. Filmore Court\, Hazleton\, PA\, 18201\, United States
CATEGORIES:Training
ATTACH;FMTTYPE=image/png:https://aprresources.com/wp-content/uploads/2021/02/Fujitsu-ETSD.png
END:VEVENT
BEGIN:VEVENT
DTSTART;TZID=America/New_York:20220322T080000
DTEND;TZID=America/New_York:20220322T163000
DTSTAMP:20260424T134452
CREATED:20211231T004758Z
LAST-MODIFIED:20220222T191343Z
UID:10000219-1647936000-1647966600@aprresources.com
SUMMARY:Fujitsu Tech 101 - Hazleton Branch
DESCRIPTION:Course Highlights: \n\n\n\n·Class goal is to assist technicians and installers who work with minisplit systems to be more familiar with installation and application differences from traditional unitary systems\, without boring them to death with sales jargon and promotion. \n\n\n\n·Course provides a great technical overview of Fujitsu’s Halcyon products. It provides a more technical perspective than the FAST class\, while complimenting it with application ideas\, pictures\, installation hints\, tips and requirements. Troubleshooting sections offer excellent guidance for system and component troubleshooting. The course is comprised of 6 modules. Most can be instructed in just over an hour providing perfect timing for breaks. This full day course helps ensure all participants receive the basics skills and knowledge to apply and support Fujitsu minisplit products.  \n\n\n\n Light breakfast & lunch will be provided. \n\n\n\nClick the button below to register.  \n\n\n\n	\n	\n	\n	\n    \n\n	    \n    \n        Registration is closed for this event.
URL:https://aprresources.com/event/fujitsu-tech-101-hazleton-branch/
LOCATION:APR Supply Co – Hazleton\, 171 S. Filmore Court\, Hazleton\, PA\, 18201\, United States
CATEGORIES:Training
ATTACH;FMTTYPE=image/png:https://aprresources.com/wp-content/uploads/2021/02/Fujitsu-Tech-101.png
END:VEVENT
BEGIN:VEVENT
DTSTART;TZID=America/New_York:20211115T080000
DTEND;TZID=America/New_York:20211115T100000
DTSTAMP:20260424T134452
CREATED:20211018T201122Z
LAST-MODIFIED:20211018T201123Z
UID:10000194-1636963200-1636970400@aprresources.com
SUMMARY:Friedrich Counter Day - Hazleton Branch
DESCRIPTION:Stop in to the branch and check out the latest products from Friedrich. Matt Hopper from United Components will be on site to answer all your product questions including installation\, troubleshooting\, new products and more.
URL:https://aprresources.com/event/friedrich-counter-day-hazleton-branch/
LOCATION:APR Supply Co – Hazleton\, 171 S. Filmore Court\, Hazleton\, PA\, 18201\, United States
CATEGORIES:Counter Day
ATTACH;FMTTYPE=image/png:https://aprresources.com/wp-content/uploads/2021/03/Friedrich.png
END:VEVENT
END:VCALENDAR