BEGIN:VCALENDAR
VERSION:2.0
PRODID:-// - ECPv6.15.20//NONSGML v1.0//EN
CALSCALE:GREGORIAN
METHOD:PUBLISH
X-ORIGINAL-URL:https://aprresources.com
X-WR-CALDESC:Events for 
REFRESH-INTERVAL;VALUE=DURATION:PT1H
X-Robots-Tag:noindex
X-PUBLISHED-TTL:PT1H
BEGIN:VTIMEZONE
TZID:America/New_York
BEGIN:DAYLIGHT
TZOFFSETFROM:-0500
TZOFFSETTO:-0400
TZNAME:EDT
DTSTART:20210314T070000
END:DAYLIGHT
BEGIN:STANDARD
TZOFFSETFROM:-0400
TZOFFSETTO:-0500
TZNAME:EST
DTSTART:20211107T060000
END:STANDARD
BEGIN:DAYLIGHT
TZOFFSETFROM:-0500
TZOFFSETTO:-0400
TZNAME:EDT
DTSTART:20220313T070000
END:DAYLIGHT
BEGIN:STANDARD
TZOFFSETFROM:-0400
TZOFFSETTO:-0500
TZNAME:EST
DTSTART:20221106T060000
END:STANDARD
BEGIN:DAYLIGHT
TZOFFSETFROM:-0500
TZOFFSETTO:-0400
TZNAME:EDT
DTSTART:20230312T070000
END:DAYLIGHT
BEGIN:STANDARD
TZOFFSETFROM:-0400
TZOFFSETTO:-0500
TZNAME:EST
DTSTART:20231105T060000
END:STANDARD
BEGIN:DAYLIGHT
TZOFFSETFROM:-0500
TZOFFSETTO:-0400
TZNAME:EDT
DTSTART:20240310T070000
END:DAYLIGHT
BEGIN:STANDARD
TZOFFSETFROM:-0400
TZOFFSETTO:-0500
TZNAME:EST
DTSTART:20241103T060000
END:STANDARD
BEGIN:DAYLIGHT
TZOFFSETFROM:-0500
TZOFFSETTO:-0400
TZNAME:EDT
DTSTART:20250309T070000
END:DAYLIGHT
BEGIN:STANDARD
TZOFFSETFROM:-0400
TZOFFSETTO:-0500
TZNAME:EST
DTSTART:20251102T060000
END:STANDARD
BEGIN:DAYLIGHT
TZOFFSETFROM:-0500
TZOFFSETTO:-0400
TZNAME:EDT
DTSTART:20260308T070000
END:DAYLIGHT
BEGIN:STANDARD
TZOFFSETFROM:-0400
TZOFFSETTO:-0500
TZNAME:EST
DTSTART:20261101T060000
END:STANDARD
END:VTIMEZONE
BEGIN:VEVENT
DTSTART;TZID=America/New_York:20250521T070000
DTEND;TZID=America/New_York:20250521T100000
DTSTAMP:20260424T080405
CREATED:20250325T151213Z
LAST-MODIFIED:20250325T151213Z
UID:10001149-1747810800-1747821600@aprresources.com
SUMMARY:Fieldpiece Counter Day—Harrisburg
DESCRIPTION:Join us for a Fieldpiece Counter Day! Meet the rep\, check out the products\, enjoy light refreshments and more. \n 
URL:https://aprresources.com/event/fieldpiece-counter-day-harrisburg/
LOCATION:APR Supply Co – Harrisburg\, 3982 Paxton Street\, Harrisburg\, PA\, 17111\, United States
CATEGORIES:Counter Day
ATTACH;FMTTYPE=image/png:https://aprresources.com/wp-content/uploads/2024/01/Fieldpiece-Logo.png
ORGANIZER;CN="APR Marketing Department":MAILTO:marketing@aprsupply.com
END:VEVENT
BEGIN:VEVENT
DTSTART;TZID=America/New_York:20240710T120000
DTEND;TZID=America/New_York:20240710T140000
DTSTAMP:20260424T080405
CREATED:20240405T171437Z
LAST-MODIFIED:20240405T173643Z
UID:10000808-1720612800-1720620000@aprresources.com
SUMMARY:Lancaster Water Group Lunch & Learn Counter Day - Harrisburg
DESCRIPTION:Join us for a Lancaster Water Group Counter Day! Meet the rep\, check out the products\, enjoy light refreshments and more.
URL:https://aprresources.com/event/lancaster-water-group-lunch-learn-counter-day-harrisburg/
LOCATION:APR Supply Co – Harrisburg\, 3982 Paxton Street\, Harrisburg\, PA\, 17111\, United States
CATEGORIES:Counter Day
ATTACH;FMTTYPE=image/jpeg:https://aprresources.com/wp-content/uploads/2024/03/4fa13c1148b714e2582ebffd5a719047_-united-states-pennsylvania-lancaster-county-lancaster-manheim-pike-1340-lancaster-water-group-717-397-3521.jpg
END:VEVENT
BEGIN:VEVENT
DTSTART;TZID=America/New_York:20231024T080000
DTEND;TZID=America/New_York:20231024T160000
DTSTAMP:20260424T080405
CREATED:20230813T130822Z
LAST-MODIFIED:20231012T201204Z
UID:10000616-1698134400-1698163200@aprresources.com
SUMMARY:A2L Refrigerant Training &  Certification - Harrisburg
DESCRIPTION:The HVACR industry is transitioning away from equipment that uses R-410A in favor of new equipment with Low GWP Refrigerants such as R-32 and R-454B. Our trainers will teach you to properly handle\, store and transport Low GWP Refrigerants.  Please note\, APR Supply Co. will provide the training\, course materials and test. Test results are mailed to ESCO Institute and graded solely by ESCO. ​ \nDid you know? \n·These are classified as A2L refrigerants\, or mildly flammable by ASHRAE? \n·That most systems will have refrigerant detection systems on board that can shut a system down in the event of a leak? \n·How you store and transport refrigerant cylinders will change? \nRegister Today!
URL:https://aprresources.com/event/a2l-refrigerant-training-certification-harrisburg/
LOCATION:APR Supply Co – Harrisburg\, 3982 Paxton Street\, Harrisburg\, PA\, 17111\, United States
CATEGORIES:Training
ATTACH;FMTTYPE=image/png:https://aprresources.com/wp-content/uploads/2022/07/Low-GWP-Refrigrant-Safety.png
END:VEVENT
BEGIN:VEVENT
DTSTART;TZID=America/New_York:20230629T080000
DTEND;TZID=America/New_York:20230629T120000
DTSTAMP:20260424T080405
CREATED:20230519T145258Z
LAST-MODIFIED:20230519T145648Z
UID:10000542-1688025600-1688040000@aprresources.com
SUMMARY:Bosch IDS Training - Harrisburg Branch
DESCRIPTION:Learn the ins and outs of the Bosch IDS 2.0 system and enjoy light refreshments. \nClick below to register. \n\n	\n	\n	\n	\n    \n\n	    \n    \n        Registration is closed for this event.
URL:https://aprresources.com/event/bosch-ids-training-harrisburg-branch/
LOCATION:APR Supply Co – Harrisburg\, 3982 Paxton Street\, Harrisburg\, PA\, 17111\, United States
CATEGORIES:Training
ATTACH;FMTTYPE=image/png:https://aprresources.com/wp-content/uploads/2020/09/IDS.png
END:VEVENT
BEGIN:VEVENT
DTSTART;TZID=America/New_York:20230613T080000
DTEND;TZID=America/New_York:20230613T120000
DTSTAMP:20260424T080405
CREATED:20230522T155412Z
LAST-MODIFIED:20230522T173130Z
UID:10000543-1686643200-1686657600@aprresources.com
SUMMARY:Basic Duct Design and Sizing - Harrisburg Branch
DESCRIPTION:Description \nBeginning with the completed heat loss calculation the class covers equipment selection. (ACCA Manual S) to meet the load. Then using ACCA manual D principals to calculate equivalent length. Finding the correct friction rate. How to use the duct calculator to properly size duct work. Methods of duct construction to decrease duct resistance.  Understanding duct pressure losses. \nClick the button below to register. \n\n	\n	\n	\n	\n    \n\n	    \n    \n        Registration is closed for this event.
URL:https://aprresources.com/event/basic-duct-design-and-sizing-harrisburg-branch/
LOCATION:APR Supply Co – Harrisburg\, 3982 Paxton Street\, Harrisburg\, PA\, 17111\, United States
CATEGORIES:Training
ATTACH;FMTTYPE=image/png:https://aprresources.com/wp-content/uploads/2022/09/Duct-Design.png
END:VEVENT
BEGIN:VEVENT
DTSTART;TZID=America/New_York:20230530T073000
DTEND;TZID=America/New_York:20230530T170000
DTSTAMP:20260424T080406
CREATED:20230201T202100Z
LAST-MODIFIED:20230424T200138Z
UID:10000427-1685431800-1685466000@aprresources.com
SUMMARY:Fujitsu Next Tech - Harrisburg - Schaedler Yesco
DESCRIPTION:· This entry-level class’s goal is to assist technicians and installers who work with mini-split systems to be more familiar with installation and application differences from traditional unitary systems\, without boring them to death with sales jargon and promotion. \n\n\n\n·This course provides a great technical overview of Fujitsu’s Halcyon products. It provides a more technical perspective than the FAST class\, while complimenting it with application ideas\, pictures\, installation hints\, tips and requirements. Troubleshooting sections offer excellent guidance for system and component troubleshooting. This full-day course helps ensure all participants receive the basics skills and knowledge to apply and support Fujitsu minisplit products. \nClick the button below to register.  \n\n	\n	\n	\n	\n    \n\n	    \n    \n        Registration is closed for this event. \n        \n        	\n\n\nFujitsu Dealers who are looking for continuing education credits register here: \nFujitsu Dealer Registration 
URL:https://aprresources.com/event/fujitsu-next-tech-harrisburg-region-schaedler-yesco/
LOCATION:APR Supply Co – Harrisburg\, 3982 Paxton Street\, Harrisburg\, PA\, 17111\, United States
CATEGORIES:Training
ATTACH;FMTTYPE=image/jpeg:https://aprresources.com/wp-content/uploads/2023/01/Next-Tech.jpg
ORGANIZER;CN="Kristen Orgera":MAILTO:korgera@aprsupply.com
END:VEVENT
BEGIN:VEVENT
DTSTART;TZID=America/New_York:20221207T080000
DTEND;TZID=America/New_York:20221207T100000
DTSTAMP:20260424T080406
CREATED:20221123T140537Z
LAST-MODIFIED:20221123T140537Z
UID:10000370-1670400000-1670407200@aprresources.com
SUMMARY:MaxiPro Training
DESCRIPTION:Join the press revolution. Become certified to use this innovative press system\, which is quick and simple to install\, providing a secure and permanent joint. \nClick the button below to register. \n\n	\n	\n	\n	\n    \n\n	    \n    \n        Registration is closed for this event.
URL:https://aprresources.com/event/maxipro-training/
LOCATION:APR Supply Co – Harrisburg\, 3982 Paxton Street\, Harrisburg\, PA\, 17111\, United States
CATEGORIES:Training
ATTACH;FMTTYPE=image/jpeg:https://aprresources.com/wp-content/uploads/2022/11/MaxiPro.jpg
END:VEVENT
BEGIN:VEVENT
DTSTART;TZID=America/New_York:20221102T080000
DTEND;TZID=America/New_York:20221102T160000
DTSTAMP:20260424T080406
CREATED:20221004T195405Z
LAST-MODIFIED:20221004T195406Z
UID:10000337-1667376000-1667404800@aprresources.com
SUMMARY:A2L Refrigerant Training &  Certification - Harrisburg Branch
DESCRIPTION:The HVACR industry is transitioning away from equipment that uses R-410A in favor of new equipment with Low GWP Refrigerants such as R-32 and R-454B. Our trainers will teach you to properly handle\, store and transport Low GWP Refrigerants. Please note\, APR Supply Co. will provide the training\, course materials and test. Test results are mailed to ESCO Institute and graded solely by ESCO. \nDid you know? \n·These are classified as A2L refrigerants\, or mildly flammable by ASHRAE?·That most systems will have refrigerant detection systems on board that can shut a system down in the event of a leak?\n·How you store and transport refrigerant cylinders will change? \nClick the button below to register. \n\n	\n	\n	\n	\n    \n\n	    \n    \n        Registration is closed for this event.
URL:https://aprresources.com/event/a2l-refrigerant-training-certification-harrisburg-branch/
LOCATION:APR Supply Co – Harrisburg\, 3982 Paxton Street\, Harrisburg\, PA\, 17111\, United States
CATEGORIES:Training
ATTACH;FMTTYPE=image/png:https://aprresources.com/wp-content/uploads/2022/07/Low-GWP-Refrigrant-Safety.png
END:VEVENT
BEGIN:VEVENT
DTSTART;TZID=America/New_York:20221006T110000
DTEND;TZID=America/New_York:20221006T130000
DTSTAMP:20260424T080406
CREATED:20220915T122856Z
LAST-MODIFIED:20220915T122858Z
UID:10000307-1665054000-1665061200@aprresources.com
SUMMARY:Harrisburg Open House
DESCRIPTION:Stop by to talk to your favorite vendors\, sign up for prize giveaways\, and grab some BBQ from our friends at Boneyard Barbeque. \n\n\n\nClick the button below to register. \n\n\n\n	\n	\n	\n	\n    \n\n	    \n    \n        Registration is closed for this event.
URL:https://aprresources.com/event/harrisburg-open-house/
LOCATION:APR Supply Co – Harrisburg\, 3982 Paxton Street\, Harrisburg\, PA\, 17111\, United States
CATEGORIES:Branch Event
END:VEVENT
BEGIN:VEVENT
DTSTART;TZID=America/New_York:20220111T080000
DTEND;TZID=America/New_York:20220111T100000
DTSTAMP:20260424T080406
CREATED:20211102T220859Z
LAST-MODIFIED:20211210T212629Z
UID:10000062-1641888000-1641895200@aprresources.com
SUMMARY:TracPipe Certification Training - Harrisburg Branch
DESCRIPTION:Learn how to properly size and install TracPipe flexible gas piping and fittings. Attendees will also take TracPipe’s certification exam\, which is required to purchase TracPipe. Light refreshments will be provided. \n\n\n\nClick the button below to register. \n\n\n\n	\n	\n	\n	\n    \n\n	    \n    \n        Registration is closed for this event.
URL:https://aprresources.com/event/tracpipe-certification-training-harrisburg-branch/
LOCATION:APR Supply Co – Harrisburg\, 3982 Paxton Street\, Harrisburg\, PA\, 17111\, United States
CATEGORIES:Training
ATTACH;FMTTYPE=image/png:https://aprresources.com/wp-content/uploads/2021/06/TracPipe-Training.png
END:VEVENT
END:VCALENDAR