BEGIN:VCALENDAR
VERSION:2.0
PRODID:-// - ECPv6.15.20//NONSGML v1.0//EN
CALSCALE:GREGORIAN
METHOD:PUBLISH
X-ORIGINAL-URL:https://aprresources.com
X-WR-CALDESC:Events for 
REFRESH-INTERVAL;VALUE=DURATION:PT1H
X-Robots-Tag:noindex
X-PUBLISHED-TTL:PT1H
BEGIN:VTIMEZONE
TZID:America/New_York
BEGIN:DAYLIGHT
TZOFFSETFROM:-0500
TZOFFSETTO:-0400
TZNAME:EDT
DTSTART:20230312T070000
END:DAYLIGHT
BEGIN:STANDARD
TZOFFSETFROM:-0400
TZOFFSETTO:-0500
TZNAME:EST
DTSTART:20231105T060000
END:STANDARD
BEGIN:DAYLIGHT
TZOFFSETFROM:-0500
TZOFFSETTO:-0400
TZNAME:EDT
DTSTART:20240310T070000
END:DAYLIGHT
BEGIN:STANDARD
TZOFFSETFROM:-0400
TZOFFSETTO:-0500
TZNAME:EST
DTSTART:20241103T060000
END:STANDARD
BEGIN:DAYLIGHT
TZOFFSETFROM:-0500
TZOFFSETTO:-0400
TZNAME:EDT
DTSTART:20250309T070000
END:DAYLIGHT
BEGIN:STANDARD
TZOFFSETFROM:-0400
TZOFFSETTO:-0500
TZNAME:EST
DTSTART:20251102T060000
END:STANDARD
BEGIN:DAYLIGHT
TZOFFSETFROM:-0500
TZOFFSETTO:-0400
TZNAME:EDT
DTSTART:20260308T070000
END:DAYLIGHT
BEGIN:STANDARD
TZOFFSETFROM:-0400
TZOFFSETTO:-0500
TZNAME:EST
DTSTART:20261101T060000
END:STANDARD
END:VTIMEZONE
BEGIN:VEVENT
DTSTART;TZID=America/New_York:20251022T120000
DTEND;TZID=America/New_York:20251022T140000
DTSTAMP:20260424T074635
CREATED:20250917T140954Z
LAST-MODIFIED:20250917T140954Z
UID:10001338-1761134400-1761141600@aprresources.com
SUMMARY:Zoeller Counter Day—Gettysburg
DESCRIPTION:Join us for a Zoeller Counter Day! Meet the rep\, check out the products\, and enjoy light refreshments.
URL:https://aprresources.com/event/zoeller-counter-day-gettysburg/
LOCATION:APR Supply Co – Gettysburg\, 3025 Old Harrisburg Rd\, Gettysburg\, PA\, 17325\, United States
CATEGORIES:Counter Day
ATTACH;FMTTYPE=image/png:https://aprresources.com/wp-content/uploads/2025/08/Zoeller-Logo.png
ORGANIZER;CN="APR Marketing Department":MAILTO:marketing@aprsupply.com
END:VEVENT
BEGIN:VEVENT
DTSTART;TZID=America/New_York:20240515T110000
DTEND;TZID=America/New_York:20240515T130000
DTSTAMP:20260424T074635
CREATED:20240401T155355Z
LAST-MODIFIED:20240401T155458Z
UID:10000805-1715770800-1715778000@aprresources.com
SUMMARY:APR Showcase: Gettysburg
DESCRIPTION:Grab a bite to eat and meet with your favorite brand reps from our vendor partners. See their newest lineup of products\, grab a refreshing beverage and possibly win some fun prizes!
URL:https://aprresources.com/event/apr-showcase-gettysburg/
LOCATION:APR Supply Co – Gettysburg\, 3025 Old Harrisburg Rd\, Gettysburg\, PA\, 17325\, United States
CATEGORIES:Branch Event
ORGANIZER;CN="Katelynne Reese":MAILTO:kreese@aprsupply.com
END:VEVENT
END:VCALENDAR