BEGIN:VCALENDAR
VERSION:2.0
PRODID:-// - ECPv6.15.20//NONSGML v1.0//EN
CALSCALE:GREGORIAN
METHOD:PUBLISH
X-ORIGINAL-URL:https://aprresources.com
X-WR-CALDESC:Events for 
REFRESH-INTERVAL;VALUE=DURATION:PT1H
X-Robots-Tag:noindex
X-PUBLISHED-TTL:PT1H
BEGIN:VTIMEZONE
TZID:America/New_York
BEGIN:DAYLIGHT
TZOFFSETFROM:-0500
TZOFFSETTO:-0400
TZNAME:EDT
DTSTART:20200308T070000
END:DAYLIGHT
BEGIN:STANDARD
TZOFFSETFROM:-0400
TZOFFSETTO:-0500
TZNAME:EST
DTSTART:20201101T060000
END:STANDARD
BEGIN:DAYLIGHT
TZOFFSETFROM:-0500
TZOFFSETTO:-0400
TZNAME:EDT
DTSTART:20210314T070000
END:DAYLIGHT
BEGIN:STANDARD
TZOFFSETFROM:-0400
TZOFFSETTO:-0500
TZNAME:EST
DTSTART:20211107T060000
END:STANDARD
BEGIN:DAYLIGHT
TZOFFSETFROM:-0500
TZOFFSETTO:-0400
TZNAME:EDT
DTSTART:20220313T070000
END:DAYLIGHT
BEGIN:STANDARD
TZOFFSETFROM:-0400
TZOFFSETTO:-0500
TZNAME:EST
DTSTART:20221106T060000
END:STANDARD
BEGIN:DAYLIGHT
TZOFFSETFROM:-0500
TZOFFSETTO:-0400
TZNAME:EDT
DTSTART:20230312T070000
END:DAYLIGHT
BEGIN:STANDARD
TZOFFSETFROM:-0400
TZOFFSETTO:-0500
TZNAME:EST
DTSTART:20231105T060000
END:STANDARD
BEGIN:DAYLIGHT
TZOFFSETFROM:-0500
TZOFFSETTO:-0400
TZNAME:EDT
DTSTART:20240310T070000
END:DAYLIGHT
BEGIN:STANDARD
TZOFFSETFROM:-0400
TZOFFSETTO:-0500
TZNAME:EST
DTSTART:20241103T060000
END:STANDARD
BEGIN:DAYLIGHT
TZOFFSETFROM:-0500
TZOFFSETTO:-0400
TZNAME:EDT
DTSTART:20250309T070000
END:DAYLIGHT
BEGIN:STANDARD
TZOFFSETFROM:-0400
TZOFFSETTO:-0500
TZNAME:EST
DTSTART:20251102T060000
END:STANDARD
BEGIN:DAYLIGHT
TZOFFSETFROM:-0500
TZOFFSETTO:-0400
TZNAME:EDT
DTSTART:20260308T070000
END:DAYLIGHT
BEGIN:STANDARD
TZOFFSETFROM:-0400
TZOFFSETTO:-0500
TZNAME:EST
DTSTART:20261101T060000
END:STANDARD
END:VTIMEZONE
BEGIN:VEVENT
DTSTART;TZID=America/New_York:20250930T080000
DTEND;TZID=America/New_York:20250930T100000
DTSTAMP:20260424T032452
CREATED:20250822T194901Z
LAST-MODIFIED:20250822T202626Z
UID:10001329-1759219200-1759226400@aprresources.com
SUMMARY:Navien Training—Easton
DESCRIPTION:Join us for a Navien training covering product and application review as well as all of the necessary installation do’s and don’ts. We hope to see you at this educational opportunity held for our customers! \nPlease note: APR Supply Co. has implemented a payment and cancellation policy. Please click here to view these stipulations.  \n*Includes light breakfast refreshments provided by Navien. 
URL:https://aprresources.com/event/navien-training-easton/
LOCATION:APR Supply Co – Easton\, 1200 Balata Street\, Easton\, PA\, 18042\, United States
CATEGORIES:Training
ATTACH;FMTTYPE=image/png:https://aprresources.com/wp-content/uploads/2024/01/Navien-Featured-Image.png
ORGANIZER;CN="APR Marketing Department":MAILTO:marketing@aprsupply.com
END:VEVENT
BEGIN:VEVENT
DTSTART;TZID=America/New_York:20250903T090000
DTEND;TZID=America/New_York:20250903T150000
DTSTAMP:20260424T032452
CREATED:20250610T203359Z
LAST-MODIFIED:20250610T204636Z
UID:10001203-1756890000-1756911600@aprresources.com
SUMMARY:A2L Refrigerant Training & Certification—Easton\, PA
DESCRIPTION:The HVACR industry is transitioning away from equipment that uses R-410A in favor of new equipment with Low GWP Refrigerants such as R-32 and R-454B. Our trainers will teach you to properly handle\, store and transport Low GWP Refrigerants.  Please note\, APR Supply Co. will provide the training\, course materials and test. Test results are mailed to ESCO Institute and graded solely by ESCO. ​ \nDid you know? \n·These are classified as A2L refrigerants\, or mildly flammable by ASHRAE? \n·That most systems will have refrigerant detection systems on board that can shut a system down in the event of a leak? \n·How you store and transport refrigerant cylinders will change? \nTrainer: Mark Elmer \nPlease note: APR Supply Co. has implemented a payment and cancellation policy. Please click here to view these stipulations.  \n*Includes light breakfast\, full lunch\, and all class materials
URL:https://aprresources.com/event/a2l-refrigerant-training-certification-easton-pa/
LOCATION:APR Supply Co – Easton\, 1200 Balata Street\, Easton\, PA\, 18042\, United States
CATEGORIES:Large Event,Training
ATTACH;FMTTYPE=image/png:https://aprresources.com/wp-content/uploads/2024/03/A2L-Featured-Pic-.png
ORGANIZER;CN="APR Marketing Department":MAILTO:marketing@aprsupply.com
END:VEVENT
BEGIN:VEVENT
DTSTART;TZID=America/New_York:20250709T100000
DTEND;TZID=America/New_York:20250709T130000
DTSTAMP:20260424T032452
CREATED:20250618T203432Z
LAST-MODIFIED:20250618T203432Z
UID:10001221-1752055200-1752066000@aprresources.com
SUMMARY:Taco Counter Day—Easton
DESCRIPTION:Join us for a Taco Counter Day! Meet the rep\, check out the products\, and enjoy light refreshments.
URL:https://aprresources.com/event/taco-counter-day-easton/
LOCATION:APR Supply Co – Easton\, 1200 Balata Street\, Easton\, PA\, 18042\, United States
CATEGORIES:Counter Day
ATTACH;FMTTYPE=image/png:https://aprresources.com/wp-content/uploads/2024/01/Taco-Featured-Image-.png
ORGANIZER;CN="APR Marketing Department":MAILTO:marketing@aprsupply.com
END:VEVENT
BEGIN:VEVENT
DTSTART;TZID=America/New_York:20250521T080000
DTEND;TZID=America/New_York:20250521T100000
DTSTAMP:20260424T032452
CREATED:20250424T174954Z
LAST-MODIFIED:20250424T181241Z
UID:10001169-1747814400-1747821600@aprresources.com
SUMMARY:TracPipe Certification Training—Easton
DESCRIPTION:Learn how to properly size and install TracPipe flexible gas piping and fittings and get an overview of the TracPipe selection software.  Also\, discover why CounterStrike has quickly become the product of choice for Corrugated Stainless Steel Tubing (CSST) among contractors. \nAttendees will take the TracPipe’s certification exam\, which is required to purchase TracPipe. \n*Light breakfast refreshments provided by TracPipe.  \nPlease note: Beginning fall 2024\, APR Supply Co. implemented a new payment and cancellation policy. Please click here to view these new stipulations. 
URL:https://aprresources.com/event/tracpipe-certification-training-easton/
LOCATION:APR Supply Co – Easton\, 1200 Balata Street\, Easton\, PA\, 18042\, United States
CATEGORIES:Training
ATTACH;FMTTYPE=image/png:https://aprresources.com/wp-content/uploads/2024/02/TracPipe-Featured-Image-.png
ORGANIZER;CN="APR Marketing Department":MAILTO:marketing@aprsupply.com
END:VEVENT
BEGIN:VEVENT
DTSTART;TZID=America/New_York:20250507T110000
DTEND;TZID=America/New_York:20250507T130000
DTSTAMP:20260424T032452
CREATED:20250328T142206Z
LAST-MODIFIED:20250328T142206Z
UID:10001155-1746615600-1746622800@aprresources.com
SUMMARY:Fieldpiece Counter Day—Easton
DESCRIPTION:Join us for a Fieldpiece Counter Day! Meet the rep\, check out the products\, enjoy light refreshments and more. \n 
URL:https://aprresources.com/event/fieldpiece-counter-day-easton/
LOCATION:APR Supply Co – Easton\, 1200 Balata Street\, Easton\, PA\, 18042\, United States
CATEGORIES:Counter Day
ATTACH;FMTTYPE=image/png:https://aprresources.com/wp-content/uploads/2024/01/Fieldpiece-Logo.png
ORGANIZER;CN="APR Marketing Department":MAILTO:marketing@aprsupply.com
END:VEVENT
BEGIN:VEVENT
DTSTART;TZID=America/New_York:20230123T170000
DTEND;TZID=America/New_York:20230123T190000
DTSTAMP:20260424T032452
CREATED:20220926T204504Z
LAST-MODIFIED:20220926T204505Z
UID:10000317-1674493200-1674500400@aprresources.com
SUMMARY:Navien Product Overview and Training - Easton Branch
DESCRIPTION:Join us for a course on Navien Products Overview and Training. We will be focusing on equipment reviews\, installation best practices\, and troubleshooting tips and tricks. \n\n\n\nClick the button below to register. \n\n\n\n	\n	\n	\n	\n    \n\n	    \n    \n        Registration is closed for this event.
URL:https://aprresources.com/event/navien-product-overview-and-training-easton-branch/
LOCATION:APR Supply Co – Easton\, 1200 Balata Street\, Easton\, PA\, 18042\, United States
ATTACH;FMTTYPE=image/png:https://aprresources.com/wp-content/uploads/2021/01/Navien-Boiler.png
END:VEVENT
BEGIN:VEVENT
DTSTART;TZID=America/New_York:20230105T170000
DTEND;TZID=America/New_York:20230105T190000
DTSTAMP:20260424T032452
CREATED:20220926T202024Z
LAST-MODIFIED:20220926T202025Z
UID:10000316-1672938000-1672945200@aprresources.com
SUMMARY:Taco Boiler Piping and Accessories Training
DESCRIPTION:Join us for a course to review Taco Boiler Piping products and Accessories. We will be focusing on equipment overviews\, installation best practices\, troubleshooting tips and tricks\, and notable updates in the industry. \n\n\n\nClick the button below to register. \n\n\n\n	\n	\n	\n	\n    \n\n	    \n    \n        Registration is closed for this event.
URL:https://aprresources.com/event/taco-boiler-piping-and-accessories-training/
LOCATION:APR Supply Co – Easton\, 1200 Balata Street\, Easton\, PA\, 18042\, United States
ATTACH;FMTTYPE=image/png:https://aprresources.com/wp-content/uploads/2022/09/Taco-Pumps.png
END:VEVENT
BEGIN:VEVENT
DTSTART;TZID=America/New_York:20221220T170000
DTEND;TZID=America/New_York:20221220T190000
DTSTAMP:20260424T032452
CREATED:20220926T194220Z
LAST-MODIFIED:20220926T195528Z
UID:10000314-1671555600-1671562800@aprresources.com
SUMMARY:Airflow\, Distribution and Basic Duct Design Training - Easton Branch
DESCRIPTION:Join us for a course on basic airflow\, system performance\, and basic duct design. \n\n\n\nClick the button below to register. \n\n\n\n	\n	\n	\n	\n    \n\n	    \n    \n        Registration is closed for this event.
URL:https://aprresources.com/event/airflow-distribution-and-basic-duct-design-training-easton-branch/
LOCATION:APR Supply Co – Easton\, 1200 Balata Street\, Easton\, PA\, 18042\, United States
ATTACH;FMTTYPE=image/png:https://aprresources.com/wp-content/uploads/2022/09/Duct-Design.png
END:VEVENT
BEGIN:VEVENT
DTSTART;TZID=America/New_York:20221208T090000
DTEND;TZID=America/New_York:20221208T110000
DTSTAMP:20260424T032452
CREATED:20220926T174003Z
LAST-MODIFIED:20221128T212038Z
UID:10000313-1670490000-1670497200@aprresources.com
SUMMARY:Canceled - Friedrich Product Training & Overview - Easton Branch
DESCRIPTION:Join us at our Easton branch to review the Friedrich product lineup\, review installation\, troubleshooting\, and more. \n\n\n\nClick the button below to register. \n\n\n\n	\n	\n	\n	\n    \n\n	    \n    \n        Registration is closed for this event.
URL:https://aprresources.com/event/friedrich-product-training-overview/
LOCATION:APR Supply Co – Easton\, 1200 Balata Street\, Easton\, PA\, 18042\, United States
CATEGORIES:Training
ATTACH;FMTTYPE=image/png:https://aprresources.com/wp-content/uploads/2021/03/Friedrich.png
END:VEVENT
BEGIN:VEVENT
DTSTART;TZID=America/New_York:20221121T110000
DTEND;TZID=America/New_York:20221121T140000
DTSTAMP:20260424T032452
CREATED:20220920T210014Z
LAST-MODIFIED:20221118T173200Z
UID:10000311-1669028400-1669039200@aprresources.com
SUMMARY:Canceled - Fieldpiece Product Training and Overview - Easton Branch
DESCRIPTION:Learn about the latest products from Fieldpiece and practical application of how to use them in the field. \n\n\n\nClick the button below to register. \n\n\n\n	\n	\n	\n	\n    \n\n	    \n    \n        Registration is closed for this event.
URL:https://aprresources.com/event/fieldpiece-product-training-and-overview/
LOCATION:APR Supply Co – Easton\, 1200 Balata Street\, Easton\, PA\, 18042\, United States
CATEGORIES:Training
ATTACH;FMTTYPE=image/png:https://aprresources.com/wp-content/uploads/2020/07/Fieldpiece-Product-Spotlight.png
END:VEVENT
BEGIN:VEVENT
DTSTART;TZID=America/New_York:20221110T080000
DTEND;TZID=America/New_York:20221110T100000
DTSTAMP:20260424T032452
CREATED:20220920T205258Z
LAST-MODIFIED:20220920T205300Z
UID:10000310-1668067200-1668074400@aprresources.com
SUMMARY:TracPipe Certification Training - Easton Branch
DESCRIPTION:Learn how to properly size and install TracPipe flexible gas piping and fittings. Attendees will also take TracPipe’s certification exam\, which is required to purchase TracPipe. \n\n\n\nClick the button below to register. \n\n\n\n	\n	\n	\n	\n    \n\n	    \n    \n        Registration is closed for this event.
URL:https://aprresources.com/event/tracpipe-certification-training-easton-branch/
LOCATION:APR Supply Co – Easton\, 1200 Balata Street\, Easton\, PA\, 18042\, United States
CATEGORIES:Training
ATTACH;FMTTYPE=image/png:https://aprresources.com/wp-content/uploads/2021/06/TracPipe-Training.png
END:VEVENT
BEGIN:VEVENT
DTSTART;TZID=America/New_York:20221027T110000
DTEND;TZID=America/New_York:20221027T140000
DTSTAMP:20260424T032452
CREATED:20220920T204930Z
LAST-MODIFIED:20221012T150412Z
UID:10000309-1666868400-1666879200@aprresources.com
SUMMARY:Bradford White Brute Boiler Training and Milwaukee Counter Day - Easton Branch
DESCRIPTION:Get up to speed on the Bradford White Brute boiler. Gain insights on proper installation\, service\, troubleshooting\, and have a chance to ask any questions you may have and check out the latest products from Milwaukee. \n\n\n\nClick the button below to register. \n\n\n\n	\n	\n	\n	\n    \n\n	    \n    \n        Registration is closed for this event. \n        \n        	\n\n\n 
URL:https://aprresources.com/event/bradford-white-brute-boiler-training-and-milwaukee-counter-day-easton-branch/
LOCATION:APR Supply Co – Easton\, 1200 Balata Street\, Easton\, PA\, 18042\, United States
CATEGORIES:Training
ATTACH;FMTTYPE=image/png:https://aprresources.com/wp-content/uploads/2021/02/Bradford-White-Brute-FT.png
END:VEVENT
BEGIN:VEVENT
DTSTART;TZID=America/New_York:20221012T080000
DTEND;TZID=America/New_York:20221012T100000
DTSTAMP:20260424T032452
CREATED:20221004T193714Z
LAST-MODIFIED:20221010T155304Z
UID:10000336-1665561600-1665568800@aprresources.com
SUMMARY:New Tax Credits and Federal Regulations Training
DESCRIPTION:Join us for a review of the new regulatory and tax changes for 2023. \nTopics to be discussed: \nNew Federal HVAC Tax rebates for 2023 \nNew Federal HVAC efficiency regulations for 2023 and beyond \nClick the button below to register. \n\n	\n	\n	\n	\n    \n\n	    \n    \n        Registration is closed for this event. \n        \n        	\n\n \n \n 
URL:https://aprresources.com/event/new-tax-credits-and-federal-regulations-training/
LOCATION:APR Supply Co – Easton\, 1200 Balata Street\, Easton\, PA\, 18042\, United States
CATEGORIES:Training
ATTACH;FMTTYPE=image/jpeg:https://aprresources.com/wp-content/uploads/2020/01/APR-Supply-Co-Acquires-American-Air-Distributors.jpg
END:VEVENT
BEGIN:VEVENT
DTSTART;TZID=America/New_York:20210511T110000
DTEND;TZID=America/New_York:20210511T140000
DTSTAMP:20260424T032452
CREATED:20210423T142351Z
LAST-MODIFIED:20210423T144424Z
UID:10000103-1620730800-1620741600@aprresources.com
SUMMARY:Easton Branch Bradford White Trailer Day
DESCRIPTION:Join us at the Easton Branch to meet with technical experts\, ask them questions regarding equipment overview\, installation\, setup\, and troubleshooting\, and see the latest products from Bradford White.
URL:https://aprresources.com/event/easton-branch-bradford-white-trailer-day/
LOCATION:APR Supply Co – Easton\, 1200 Balata Street\, Easton\, PA\, 18042\, United States
CATEGORIES:Branch Event
ATTACH;FMTTYPE=image/png:https://aprresources.com/wp-content/uploads/2021/04/easton-bradford-white.png
END:VEVENT
END:VCALENDAR