BEGIN:VCALENDAR
VERSION:2.0
PRODID:-// - ECPv6.15.20//NONSGML v1.0//EN
CALSCALE:GREGORIAN
METHOD:PUBLISH
X-ORIGINAL-URL:https://aprresources.com
X-WR-CALDESC:Events for 
REFRESH-INTERVAL;VALUE=DURATION:PT1H
X-Robots-Tag:noindex
X-PUBLISHED-TTL:PT1H
BEGIN:VTIMEZONE
TZID:America/New_York
BEGIN:DAYLIGHT
TZOFFSETFROM:-0500
TZOFFSETTO:-0400
TZNAME:EDT
DTSTART:20240310T070000
END:DAYLIGHT
BEGIN:STANDARD
TZOFFSETFROM:-0400
TZOFFSETTO:-0500
TZNAME:EST
DTSTART:20241103T060000
END:STANDARD
BEGIN:DAYLIGHT
TZOFFSETFROM:-0500
TZOFFSETTO:-0400
TZNAME:EDT
DTSTART:20250309T070000
END:DAYLIGHT
BEGIN:STANDARD
TZOFFSETFROM:-0400
TZOFFSETTO:-0500
TZNAME:EST
DTSTART:20251102T060000
END:STANDARD
BEGIN:DAYLIGHT
TZOFFSETFROM:-0500
TZOFFSETTO:-0400
TZNAME:EDT
DTSTART:20260308T070000
END:DAYLIGHT
BEGIN:STANDARD
TZOFFSETFROM:-0400
TZOFFSETTO:-0500
TZNAME:EST
DTSTART:20261101T060000
END:STANDARD
BEGIN:DAYLIGHT
TZOFFSETFROM:-0500
TZOFFSETTO:-0400
TZNAME:EDT
DTSTART:20270314T070000
END:DAYLIGHT
BEGIN:STANDARD
TZOFFSETFROM:-0400
TZOFFSETTO:-0500
TZNAME:EST
DTSTART:20271107T060000
END:STANDARD
END:VTIMEZONE
BEGIN:VEVENT
DTSTART;TZID=America/New_York:20260422T080000
DTEND;TZID=America/New_York:20260422T160000
DTSTAMP:20260424T081751
CREATED:20260318T194234Z
LAST-MODIFIED:20260318T194234Z
UID:10001368-1776844800-1776873600@aprresources.com
SUMMARY:Fujitsu Next Tech Oregon Pike
DESCRIPTION:This entry-level class’s goal is to assist technicians and installers who work with mini-split systems to be more familiar with installation and application differences from traditional unitary systems\, without boring them to death with sales jargon and promotion. \nThis course provides a great technical overview of Fujitsu’s Halcyon products\, as well as the newest products released by Fujitsu including their new A2L compliant models. It provides a more technical perspective than the FAST class\, while complementing it with application ideas\, pictures\, installation hints\, tips and requirements. Troubleshooting sections offer excellent guidance for system and component troubleshooting. This full-day course helps ensure all participants receive the basics skills and knowledge to apply and support Fujitsu mini-split products. \n* includes light breakfast\, lunch and all class materials \n \n**Click here to view APR’s new registration and cancellation policies. \n 
URL:https://aprresources.com/event/fujitsu-next-tech-oregon-pike/
LOCATION:APR Oregon Pike Corporate Office\, 1810 Oregon Pike\, Lancaster\, PA\, 17601\, United States
CATEGORIES:Training
ATTACH;FMTTYPE=image/png:https://aprresources.com/wp-content/uploads/2024/01/Fujitsu-Featured-Pic-.png
ORGANIZER;CN="APR Marketing Department":MAILTO:marketing@aprsupply.com
END:VEVENT
BEGIN:VEVENT
DTSTART;TZID=America/New_York:20251125T080000
DTEND;TZID=America/New_York:20251125T160000
DTSTAMP:20260424T081751
CREATED:20250611T194043Z
LAST-MODIFIED:20250611T195019Z
UID:10001209-1764057600-1764086400@aprresources.com
SUMMARY:Airflow & System Performance Training—Lancaster
DESCRIPTION:Course Details:  \nJoin us for a course on basic airflow and system performance. \nTopics include:\n• Measuring airflow\n• What airflow is necessary\n• Calculating operating system BTU performance\n• Using static pressure to set system airflow\n• Calculating system delivered BTU vs. equipment BTU \nTrainer: Mark Elmer  \nPlease note: APR Supply Co. has implemented a payment and cancellation policy. Please click here to view these new stipulations.  \n*Includes light breakfast refreshments\, lunch\, and all class materials.  
URL:https://aprresources.com/event/airflow-system-performance-training-lancaster/
LOCATION:APR Oregon Pike Corporate Office\, 1810 Oregon Pike\, Lancaster\, PA\, 17601\, United States
CATEGORIES:Training
ATTACH;FMTTYPE=image/png:https://aprresources.com/wp-content/uploads/2024/01/Airflow-Featured-Image-.png
ORGANIZER;CN="APR Marketing Department":MAILTO:marketing@aprsupply.com
END:VEVENT
BEGIN:VEVENT
DTSTART;TZID=America/New_York:20251112T080000
DTEND;TZID=America/New_York:20251112T163000
DTSTAMP:20260424T081751
CREATED:20250722T150022Z
LAST-MODIFIED:20250804T162822Z
UID:10001313-1762934400-1762965000@aprresources.com
SUMMARY:Strategic Financial Mastery: Unleashing the Power of Planning for Success (QSC Training)
DESCRIPTION:Join us for an exciting session on “Strategic Financial Mastery: Unleashing the Power of Planning for Success.” Discover the secrets to strategic planning and financial prowess that will propel your business forward. Learn how to assess your current situation\, set goals\, develop winning strategies\, and make informed financial decisions. \nWho should attend? \nBusiness Owners\, Managers\, Key Stakeholders \nSample Agenda \nMorning (8 a.m. – 12:30 p.m.) \n\nSession One: Understanding Strategy and Adopting a Strategic Mindset\nSession Two: Examining Your Environment\nSession Three: Setting Your Direction\nSession Four: Defining & Measuring Success\nSession Five: Executing the Plan\n\nAfternoon (1:30 p.m. – 4:30 p.m.) \n\nSession One: Understanding Your Finances\nSession Two: Developing Financial Organization\nSession Three: Strategic Financial Management\n\nCost \n$450 per attendee. \n*Cost includes training\, training materials\, breakfast\, and lunch. (Class payment due upon registration. Co-op and Award Points eligible.) \n**Overnight accommodation not included in the price. \n \nNEED A ROOM?\nClass attendees can reserve a room at the Home2Suites Lancaster (717-823-6523) or Eden Resort & Suites (717-569-6444) on 11/11 at a previously negotiated rate. Reservations can be made by calling the\nrespective hotel and stating that you are with the APR Supply Co. group\, or by using the booking links below. \nHome2Suites Lancaster Booking Link (cut-off date of 10/12/26)
URL:https://aprresources.com/event/strategic-financial-mastery-unleashing-the-power-of-planning-for-success-qsc-training/
LOCATION:APR Oregon Pike Corporate Office\, 1810 Oregon Pike\, Lancaster\, PA\, 17601\, United States
CATEGORIES:Training
ATTACH;FMTTYPE=image/png:https://aprresources.com/wp-content/uploads/2024/02/QSC-Featured-Image.png
ORGANIZER;CN="APR Marketing Department":MAILTO:marketing@aprsupply.com
END:VEVENT
BEGIN:VEVENT
DTSTART;TZID=America/New_York:20251023T080000
DTEND;TZID=America/New_York:20251023T160000
DTSTAMP:20260424T081751
CREATED:20250611T203137Z
LAST-MODIFIED:20250611T204316Z
UID:10001211-1761206400-1761235200@aprresources.com
SUMMARY:Gas Furnace Installation & Troubleshooting—Lancaster
DESCRIPTION:This is an overview of gas furnace technology. The class includes proper gas pipe and vent sizing\, combustion air code issues\, furnace set up and start up. This introductory training also covers troubleshooting of individual parts and problems. \n*Includes light breakfast refreshments\, lunch & all class materials \nTrainer: Mark Elmer  \nPlease note: APR Supply Co. has implemented a new payment and cancellation policy. Please click here to view these new stipulations. 
URL:https://aprresources.com/event/gas-furnace-installation-troubleshooting-lancaster/
LOCATION:APR Oregon Pike Corporate Office\, 1810 Oregon Pike\, Lancaster\, PA\, 17601\, United States
CATEGORIES:Training
ATTACH;FMTTYPE=image/jpeg:https://aprresources.com/wp-content/uploads/2024/06/qtq80-PVk5mS.jpeg
ORGANIZER;CN="APR Marketing Department":MAILTO:marketing@aprsupply.com
END:VEVENT
BEGIN:VEVENT
DTSTART;TZID=America/New_York:20250930T080000
DTEND;TZID=America/New_York:20250930T160000
DTSTAMP:20260424T081751
CREATED:20250624T140044Z
LAST-MODIFIED:20250926T170435Z
UID:10001227-1759219200-1759248000@aprresources.com
SUMMARY:POSTPONED: Hydronics Troubleshooting and Service—Lititz
DESCRIPTION:Course Overview  \nThis comprehensive course provides students with the essential knowledge and hands-on skills needed to diagnose\, troubleshoot\, and service hydronic heating systems. Students will learn systematic approaches to identifying problems in boilers\, pumps\, piping networks\, and control systems while developing practical repair and maintenance techniques used in residential applications.  \nCourse Objectives  \nUpon successful completion of this course\, students will be able to:  \n\nAnalyze hydronic system components and understand their operational principles \n\n\nPerform systematic troubleshooting procedures using proper diagnostic tools and techniques \n\n\nIdentify and resolve common problems in boilers\, pumps\, expansion tanks\, and distribution systems \n\n\nInterpret system pressures\, temperatures\, and flow rates to diagnose performance issues \n\nCourse Content  \nModule 1: Hydronic System Fundamentals  \n\nHeat transfer principles and fluid dynamics \n\n\nSystem types: one-pipe\, two-pipe\, and primary-secondary systems \n\n\nBoiler types and operation (gas\, oil\, electric\, condensing) \n\n\nOverview of Pump selection and operation principles \n\n\nExpansion tanks and pressure relief systems \n\nModule 2: Diagnostic Tools and Techniques  \n\nDigital multimeters and combustion analyzers \n\n\nPressure gauges and manometers \n\nModule 3: Boiler Troubleshooting and Service  \n\nCombustion problems and efficiency issues \n\n\nBurner adjustment and flame analysis \n\n\nVenting system problems and solutions \n\n\nSafety control testing and replacement \n\nModule 5: Circulation System Diagnosis  \n\nPump performance evaluation and repair \n\n\nAir elimination and bleeding procedures \n\n\nPipe sizing and flow distribution problems \n\n\nZone control valve operation and service \n\nPrerequisites  \n\nBasic understanding of heating systems \n\n\nFundamental electrical knowledge \n\n\nAbility to use hand tools and measuring instruments \n\nAssessment Methods  \n\nPractical demonstrations of diagnostic techniques \n\n\nLaboratory exercises on actual hydronic equipment \n\nRequired Materials  \n\nBasic hand tools and electrical testing equipment \n\n\nSafety equipment (safety glasses\, gloves\, appropriate clothing) \n\nTrainer: Mark Elmer  \nPlease note: Beginning fall 2024\, APR Supply Co. will be implementing a new payment and cancellation policy. Please click here to view these new stipulations.  \n*Includes light breakfast refreshments\, lunch & all class materials \n 
URL:https://aprresources.com/event/hydronics-troubleshooting-and-service-lititz/
LOCATION:APR Oregon Pike Corporate Office\, 1810 Oregon Pike\, Lancaster\, PA\, 17601\, United States
CATEGORIES:Training
ATTACH;FMTTYPE=image/jpeg:https://aprresources.com/wp-content/uploads/2024/06/iStock-1599309789.jpg
ORGANIZER;CN="APR Marketing Department":MAILTO:marketing@aprsupply.com
END:VEVENT
END:VCALENDAR