BEGIN:VCALENDAR
VERSION:2.0
PRODID:-// - ECPv6.15.20//NONSGML v1.0//EN
CALSCALE:GREGORIAN
METHOD:PUBLISH
X-ORIGINAL-URL:https://aprresources.com
X-WR-CALDESC:Events for 
REFRESH-INTERVAL;VALUE=DURATION:PT1H
X-Robots-Tag:noindex
X-PUBLISHED-TTL:PT1H
BEGIN:VTIMEZONE
TZID:America/New_York
BEGIN:DAYLIGHT
TZOFFSETFROM:-0500
TZOFFSETTO:-0400
TZNAME:EDT
DTSTART:20230312T070000
END:DAYLIGHT
BEGIN:STANDARD
TZOFFSETFROM:-0400
TZOFFSETTO:-0500
TZNAME:EST
DTSTART:20231105T060000
END:STANDARD
BEGIN:DAYLIGHT
TZOFFSETFROM:-0500
TZOFFSETTO:-0400
TZNAME:EDT
DTSTART:20240310T070000
END:DAYLIGHT
BEGIN:STANDARD
TZOFFSETFROM:-0400
TZOFFSETTO:-0500
TZNAME:EST
DTSTART:20241103T060000
END:STANDARD
BEGIN:DAYLIGHT
TZOFFSETFROM:-0500
TZOFFSETTO:-0400
TZNAME:EDT
DTSTART:20250309T070000
END:DAYLIGHT
BEGIN:STANDARD
TZOFFSETFROM:-0400
TZOFFSETTO:-0500
TZNAME:EST
DTSTART:20251102T060000
END:STANDARD
END:VTIMEZONE
BEGIN:VEVENT
DTSTART;TZID=America/New_York:20240509T130000
DTEND;TZID=America/New_York:20240509T140000
DTSTAMP:20260424T130455
CREATED:20240315T201540Z
LAST-MODIFIED:20240315T201540Z
UID:10000798-1715259600-1715263200@aprresources.com
SUMMARY:Tempo Communications Troubleshooting 2-Wire Systems with a Milliamp Clamp Meter Webinar
DESCRIPTION:2-Wire systems simplify wiring into one “circuit\,” however that limits what we can know about the location of a fault.  There’s no way to figure out where a fault is located from controller alone if all connected devices are not allowed to operate.  Troubleshooting from various locations is required\, and the CMA-360B Milliamp Clamp Meter will allow Irrigation Technicians to narrow in on the fault without breaking messy and expensive single-use splices.
URL:https://aprresources.com/event/tempo-communications-troubleshooting-2-wire-systems-with-a-milliamp-clamp-meter-webinar/
CATEGORIES:Training
ATTACH;FMTTYPE=image/png:https://aprresources.com/wp-content/uploads/2024/03/Tempo-Comm-Featured-Pic.png
ORGANIZER;CN="Tempo Communications":MAILTO:Support@tempocom.com
END:VEVENT
BEGIN:VEVENT
DTSTART;TZID=America/New_York:20240425T130000
DTEND;TZID=America/New_York:20240425T140000
DTSTAMP:20260424T130455
CREATED:20240315T200303Z
LAST-MODIFIED:20240315T200303Z
UID:10000797-1714050000-1714053600@aprresources.com
SUMMARY:Tempo Communications Locating Irrigation System Wires\, Valves\, and Faults Webinar
DESCRIPTION:To do their jobs\, Irrigators need to know the location of wires\, valves\, and faults.  Locators are immense time-savers\, but they can be mysterious in how they react in various situations.  We’ll peel back the curtain on how Tempo locators work and how to take advantage of the principles of electromagnetism to understand what’s buried beneath your feet and lead you to exactly what you’re looking for.
URL:https://aprresources.com/event/tempo-communications-locating-irrigation-system-wires-valves-and-faults-webinar/
CATEGORIES:Training
ATTACH;FMTTYPE=image/png:https://aprresources.com/wp-content/uploads/2024/03/Tempo-Comm-Featured-Pic.png
ORGANIZER;CN="Tempo Communications":MAILTO:Support@tempocom.com
END:VEVENT
BEGIN:VEVENT
DTSTART;TZID=America/New_York:20240411T130000
DTEND;TZID=America/New_York:20240411T140000
DTSTAMP:20260424T130455
CREATED:20240315T195619Z
LAST-MODIFIED:20240315T201024Z
UID:10000796-1712840400-1712844000@aprresources.com
SUMMARY:Tempo Communcations Troubleshooting Multiwire Irrigation Systems Webinar
DESCRIPTION:Armed with knowledge of electrical principles and a multimeter\, Irrigation Professionals can efficiently diagnose wiring and electrical problems in any conventional multi-wire irrigation system.  Understanding the relationship between voltage\, current\, and resistance allows technicians to use measurements to recognize which circuits and components are healthy\, which are not—and why.
URL:https://aprresources.com/event/tempo-communcations-troubleshooting-multiwire-irrigation-systems/
CATEGORIES:Training
ATTACH;FMTTYPE=image/png:https://aprresources.com/wp-content/uploads/2024/03/Tempo-Comm-Featured-Pic.png
ORGANIZER;CN="Tempo Communications":MAILTO:Support@tempocom.com
END:VEVENT
END:VCALENDAR