BEGIN:VCALENDAR
VERSION:2.0
PRODID:-// - ECPv6.15.20//NONSGML v1.0//EN
CALSCALE:GREGORIAN
METHOD:PUBLISH
X-ORIGINAL-URL:https://aprresources.com
X-WR-CALDESC:Events for 
REFRESH-INTERVAL;VALUE=DURATION:PT1H
X-Robots-Tag:noindex
X-PUBLISHED-TTL:PT1H
BEGIN:VTIMEZONE
TZID:America/New_York
BEGIN:DAYLIGHT
TZOFFSETFROM:-0500
TZOFFSETTO:-0400
TZNAME:EDT
DTSTART:20220313T070000
END:DAYLIGHT
BEGIN:STANDARD
TZOFFSETFROM:-0400
TZOFFSETTO:-0500
TZNAME:EST
DTSTART:20221106T060000
END:STANDARD
BEGIN:DAYLIGHT
TZOFFSETFROM:-0500
TZOFFSETTO:-0400
TZNAME:EDT
DTSTART:20230312T070000
END:DAYLIGHT
BEGIN:STANDARD
TZOFFSETFROM:-0400
TZOFFSETTO:-0500
TZNAME:EST
DTSTART:20231105T060000
END:STANDARD
BEGIN:DAYLIGHT
TZOFFSETFROM:-0500
TZOFFSETTO:-0400
TZNAME:EDT
DTSTART:20240310T070000
END:DAYLIGHT
BEGIN:STANDARD
TZOFFSETFROM:-0400
TZOFFSETTO:-0500
TZNAME:EST
DTSTART:20241103T060000
END:STANDARD
BEGIN:DAYLIGHT
TZOFFSETFROM:-0500
TZOFFSETTO:-0400
TZNAME:EDT
DTSTART:20250309T070000
END:DAYLIGHT
BEGIN:STANDARD
TZOFFSETFROM:-0400
TZOFFSETTO:-0500
TZNAME:EST
DTSTART:20251102T060000
END:STANDARD
BEGIN:DAYLIGHT
TZOFFSETFROM:-0500
TZOFFSETTO:-0400
TZNAME:EDT
DTSTART:20260308T070000
END:DAYLIGHT
BEGIN:STANDARD
TZOFFSETFROM:-0400
TZOFFSETTO:-0500
TZNAME:EST
DTSTART:20261101T060000
END:STANDARD
END:VTIMEZONE
BEGIN:VEVENT
DTSTART;TZID=America/New_York:20250505T080000
DTEND;TZID=America/New_York:20250516T160000
DTSTAMP:20260424T132316
CREATED:20250107T201615Z
LAST-MODIFIED:20250107T205714Z
UID:10001056-1746432000-1747411200@aprresources.com
SUMMARY:PPATEC NORA Bronze—Two Week Basic Oil Heat Program
DESCRIPTION:After 10 days of concentrated fundamental classroom theory\, coupled with practical laboratory work\, including hands-on experience on a variety of live-fire equipment\, you will acquire a solid foundation of knowledge. This training\, along with field experience\, will help build careers as installation and service technicians that will become an asset to you and your customers. \nThe final day of training is a test day. The test takes place in the morning. Standard test times range from 30 minutes – 3 hours depending on the individual student. In nearly all cases\, students are completed prior to 12:00 PM. \nBronze Certificate of Training will be awarded to each student who completes the course and passes the examination. The test is based on the NORA Oil Heat Technician’s Manual\, which is used for Silver Certification. \nRequirements: There are some study assignments required to be done by the students in the evening during the course. Therefore\, students should consider this in fulfillment of the program. \n***Registration includes FREE bleeder wrench\, multimeter\, and coupler popper*** \nInstructor \nMike Elmer\, a PPATEC instructor\, has been in the HVAC and plumbing industry since 2002 and has worked for leading contractors in the South Central PA region. His background includes service HVAC\, plumbing\, and electric. \n\nHotel Accommodations \nPPATEC is pleased to partner with local hotels that are in close proximity to our primary training venues. Our hotel partners offer student discounted rates on overnight accommodations. Please see the link below to visit our hotel partners page. \nClick Here for Hotel Partners \n\n\n\n\n\n\n\n\n\n\n\n\n\nEvent Item Name\nExpires\nPricing\n\n\n\n\nMember Ticket – Discounted price is for PPA members\, PPATEC members\, or petroleum marketers who deliver fuel oil in the state of Pennsylvania.\nMay 02\, 2025\n\n\n$2\,200.00\n\n\n\nNon-Member Ticket – Full ticket price is for companies/individuals who are not currently PPA members\, PPATEC members\, or petroleum marketers who do not deliver fuel oil in the state of Pennsylvania.\nMay 02\, 2025\n\n\n$2\,750.00
URL:https://aprresources.com/event/ppatec-nora-bronze-two-week-basic-oil-heat-program-4/
LOCATION:PPATEC Tullytown\, 113 Main Street\, Tullytown\, 19007\, United States
CATEGORIES:Training
ATTACH;FMTTYPE=image/png:https://aprresources.com/wp-content/uploads/2024/01/PPATEC-Featured-Pic-2.png
END:VEVENT
BEGIN:VEVENT
DTSTART;TZID=America/New_York:20250421T080000
DTEND;TZID=America/New_York:20250424T160000
DTSTAMP:20260424T132316
CREATED:20250107T195425Z
LAST-MODIFIED:20250107T195425Z
UID:10001049-1745222400-1745510400@aprresources.com
SUMMARY:PPATEC CETP 4.1 - Installing Exterior Vapor Distribution Systems and Skills Assessment
DESCRIPTION:Primarily focuses on designing and installing the exterior portions of a vapor distribution system for both residential and small commercial markets. \nRegistration includes the following: \n• CETP 4.1 Installing Exterior Vapor Distribution Systems book \n• Exam \nCourse objectives include: \n• Properly determine an effective system load. \n• Identify factors affecting selection of a properly-sized container. \n• Select and install an appropriate container for a vapor distribution system. \n• Identify requirements for establishing a container location. \n• Identify how to properly select\, size\, and install pipe and tubing for a vapor distribution system. \n• Explain how to analyze and prevent corrosion. \n• Identify the steps to sizing\, selecting\, and installing regulators. \n• Describe how to properly select and install a vapor meter. \n• Discuss primary special installations that correspond with a vapor distribution system. \nRequirements for Certification include the following: \n• Prerequisite: 1.0 BP&P Certification completed within 12 months of passing the exam \n• Passing score on 4.1 Design & Install VDS exam \n• Completed 4.1 Design & Install VDS Skills Assessment returned to testing center within 12 months of passing the exam \nIndividuals will complete the skills assessment to complete the final action required in order to receive the certification. To learn more about the required skills assessment\, please click here \nSkills Assessment Topics Will Include: \n\nSection 1: Design Vapor Distribution Systems: Containers and Lines\nSection 2: Design Vapor Distribution Systems: Regulators and Meters\nSection 3: Prepare System Components for Transport\nSection 4: Install Containers\nSection 5: Install Lines\nSection 6: Install Regulators and Meters\nSection 7: Container to Container Transfers and Systems Tests\n\nClass will not be held on Saturday\, Sunday\, or Monday (Labor Day Holiday). \nOur Instructor: Eric Leskinen is veteran of the industry. Eric has over 30 years of experience with career progression from field operations to corporate direction. He has designed\, managed\, and executed safety training and compliance programs for multi-state companies with up to 1\,100 employees. As a true compliance and safety specialist\, his background and skill set is invaluable to propane marketers. \nHotel Accommodations \nPPATEC is pleased to partner with local hotels that are in close proximity to our primary training venues. Our hotel partners offer student discounted rates on overnight accommodations. Please see the link below to visit our hotel partners page. \nClick Here for Hotel Partners \n\n\n\n\n\n\n\n\n\n\n\n\nEvent Item Name\nExpires\nPricing\n\n\n\n\nMember Ticket – Discounted price is for PPA members and PPATEC members.\nApr 18\, 2025\n\n\n$880.00\n\n\n\nNon-Member Ticket – Full ticket price is for companies/individuals who are not currently PPA members or PPATEC members.\nApr 18\, 2025\n\n\n$1\,100.00
URL:https://aprresources.com/event/ppatec-cetp-4-1-installing-exterior-vapor-distribution-systems-and-skills-assessment/
LOCATION:PPA Technical Education Center\, 10107 Jonestown Road\, Grantville\, PA\, 17028\, United States
CATEGORIES:Training
ATTACH;FMTTYPE=image/png:https://aprresources.com/wp-content/uploads/2024/01/PPATEC-Featured-Pic-2.png
END:VEVENT
BEGIN:VEVENT
DTSTART;TZID=America/New_York:20250324T080000
DTEND;TZID=America/New_York:20250328T160000
DTSTAMP:20260424T132316
CREATED:20250106T164356Z
LAST-MODIFIED:20250106T164356Z
UID:10001038-1742803200-1743177600@aprresources.com
SUMMARY:PPATEC Basic Electric Theory for HVAC Components
DESCRIPTION:This 40 hour electrical HVAC training class was specifically developed for individuals with no or very limited field experience (less than 12 months). The program will include more time for hands-on training on live-fire equipment and electrical simulators. The class will cover Safety & Hazard Awareness\, What is Electricity\, Ohm’s Law\, Circuits & Components\, Conductors\, Transformers\, 24V Controls\, Thermostats\, Motors\, Motor side of compressors\, Motor ratings and name plate definitions\, Wiring diagrams\, Automated control systems for residential\, and Troubleshooting. \n  \nThis intensive program is comprised of hands-on training in our state-of-the-art lab\, electrical simulator equipment\, and classroom activities and discussion. Upon satisfactory completion of the course\, the registrant will have a working knowledge of basic electric theory for HVAC components and be able to apply that in a work environment. \n\n\n\nStudents who complete this course successfully will progressively be able to: \n• Demonstrate knowledge of the Basic Electric Theory for HVAC Components\, What is Electricity\, Ohm’s Law\, and other theory \n• Properly troubleshoot\, diagnose\, repair\, maintain\, and service popular brands of A/C units and heat pumps \n• Perform installation and maintenance on system components including:  Circuit & Components\, Conductors\,  Transformers\, Thermostats\, Motors\, Other electrical components with minimal supervision \n• Demonstrate grounding in the fundamentals of HVAC electrical components \n• Properly perform assigned duties demonstrating proper safety practices and procedures in the lab and the workplace\, while installing\, designing\, troubleshooting\, and servicing systems \n• Maintain a safe and OSHA compliant work environment \n• Multitask and prioritize all duties and responsibilities in order of importance.\n\n\n\n\nRegistration fees include: \n\nKlein Tools CL380 Electrical Tester & Digital Clamp Meter\nHeating & Cooling Essentials Book\n\nOur Instructor: \nMike Elmer\, a PPATEC instructor\, has been in the HVAC and plumbing industry since 2002 and has worked for leading contractors in the South Central PA region. His background includes service HVAC\, plumbing\, and electric. \n\nHotel Accommodations \nPPATEC is pleased to partner with local hotels that are in close proximity to our primary training venues. Our hotel partners offer student discounted rates on overnight accommodations. Please see the link below to visit our hotel partners page. \nClick Here for Hotel Partners \n\n\n\n\n\n\n\n\n\n\n\n\n\nEvent Item Name\nExpires\nPricing\n\n\n\n\nMember Price – Discounted price is for PPA and PPATEC members\nMar 21\, 2025\n\n\n$1\,100.00\n\n\n\nNon-Member Ticket – Full ticket price is for companies/individuals who are not currently PPA or PPATEC members.\nMar 21\, 2025\n\n\n$1\,375.00
URL:https://aprresources.com/event/ppatec-basic-electric-theory-for-hvac-components-2/
LOCATION:PPA Technical Education Center\, 10107 Jonestown Road\, Grantville\, PA\, 17028\, United States
CATEGORIES:Training
ATTACH;FMTTYPE=image/png:https://aprresources.com/wp-content/uploads/2024/01/PPATEC-Featured-Pic-2.png
END:VEVENT
BEGIN:VEVENT
DTSTART;TZID=America/New_York:20250314T090000
DTEND;TZID=America/New_York:20250314T160000
DTSTAMP:20260424T132316
CREATED:20250106T162828Z
LAST-MODIFIED:20250106T162849Z
UID:10001035-1741942800-1741968000@aprresources.com
SUMMARY:PPATEC Heat Pump Operation\, Testing\, and Troubleshooting
DESCRIPTION:This class is for technicians with a basic understanding of the refrigeration cycle. If you are looking to gain a basic understanding of the refrigeration cycle\, we recommend taking our “Basic A/C Operation\, Start Up & Servicing (1 Day Class)\,” “A/C Principles\, Theories\, Installation & Troubleshooting (10 Day Class)\,” or “Intro to Air Conditioning (4 Day Class).” \nThe Heat Pump Operation\, Testing\, and Troubleshooting class will help both installation and service technicians better understand the operation of heat pumps. Whether an installer isn’t sure what they should be seeing when starting up a heat pump\, or a service technician feels there is room to improve when diagnosing heat pumps\, this class has something to offer. \n\n\n\nHeat Pump Operation\, Testing\, and Troubleshooting: \n– Refrigeration cycle for heat pump\, what changes from air conditioning temperatures\, pressures\, and etc.? \n– Understanding the difference in low voltage wiring from standard A/C \n– Checking charge in heat mode and understanding what affects readings \n– Troubleshooting: what’s different from a standard A/C? \n– Dual fuel wiring and optimization \n-Understanding defrost cycle and troubleshooting defrost cycle\n\n\n\n\nOur Instructor: \nVito Rodaligo has been in the HVAC industry since 2007 and has worked for leading contractors in the Central PA region. His background includes residential and commercial HVAC service\, installation\, and design. Vito brings a unique instructor perspective by serving in roles of a service technician\, installation technician\, and as a service manager. \n\n\n\n\n\n\n\n\n\n\n\nEvent Item Name\nExpires\nPricing\n\n\n\n\nMember Price – Discounted price is for PPA members and PPATEC members.\nMar 13\, 2025\n\n\n$220.00\n\n\n\nNon-Member Ticket – Full ticket price is for non PPA or PPATEC members\nMar 13\, 2025\n\n\n$275.00
URL:https://aprresources.com/event/ppatec-heat-pump-operation-testing-and-troubleshooting-7/
LOCATION:PPA Technical Education Center\, 10107 Jonestown Road\, Grantville\, PA\, 17028\, United States
CATEGORIES:Training
ATTACH;FMTTYPE=image/png:https://aprresources.com/wp-content/uploads/2024/01/PPATEC-Featured-Pic-2.png
END:VEVENT
BEGIN:VEVENT
DTSTART;TZID=America/New_York:20240618T090000
DTEND;TZID=America/New_York:20240618T160000
DTSTAMP:20260424T132316
CREATED:20240607T135910Z
LAST-MODIFIED:20240607T140006Z
UID:10000840-1718701200-1718726400@aprresources.com
SUMMARY:PPATEC Creating a Problem Free Boiler Installation
DESCRIPTION:This course will cover choosing the proper boiler\, determine flow and pipe sizing\, choosing a circulator\, review heating systems such as Series Loop\, 1 Pipe\, 2 Pipe\, MonoFlo\, boiler components and application\, boiler venting and combustion air methods\, cast iron to high efficiency boiler retrofits\, general troubleshooting of HE boiler components. \n\n\n\n\n\n\n\n  \n  \n  \n  \nRegistration fees includes: Catered lunch \nOur Instructor: Ron Beck worked for Arnold Fuel Oil for 20 Years – 11 years as a service tech\, and 9 years as the service manager for the company.  In 1998\, Ron was hired by US Boiler to work in the new tech service department and answer phone calls from technicians and installers. He started as a service tech and soon became the service manager. He was later promoted to Training Manager\, where he developed and performed training programs in the US and Canada. He continued to take technical service department calls as needed when not traveling. \nRon retired after 43 years in the industry\, but was not ready to step away from the industry and the work that he loves. Ron offers training\, heat loss/gain calculations\, and limited consulting services. \n\n\n\n\n\n\n\n\n\n\n\n\nEvent Item Name\nExpires\nPricing\n\n\n\n\nMember Ticket – Discounted price is for PPA members\, PPATEC members\, or petroleum marketers who deliver fuel oil in the state of Pennsylvania.\nJun 17\, 2024\n\n\n$220.00\n\n\n\nNon-Member Ticket – Full ticket price is for companies/individuals who are not currently PPA members\, PPATEC members\, or petroleum marketers who do not deliver fuel oil in the state of Pennsylvania.\nJun 17\, 2024\n\n\n$275.00
URL:https://aprresources.com/event/ppatec-creating-a-problem-free-boiler-installation-3/
LOCATION:PPA Technical Education Center\, 10107 Jonestown Road\, Grantville\, PA\, 17028\, United States
CATEGORIES:Training
ATTACH;FMTTYPE=image/png:https://aprresources.com/wp-content/uploads/2024/01/PPATEC-Featured-Pic-2.png
END:VEVENT
BEGIN:VEVENT
DTSTART;VALUE=DATE:20230411
DTEND;VALUE=DATE:20230414
DTSTAMP:20260424T132316
CREATED:20230221T160336Z
LAST-MODIFIED:20230223T220149Z
UID:10000454-1681171200-1681430399@aprresources.com
SUMMARY:PPATEC: Practical HVAC Beyond the Box Diagnostics
DESCRIPTION:Description \nThis course provides a fundamental turning point for your Service Technicians\, Installers\, Sales Advisors\, Production Managers\, and Service Managers to transition to an improved and consistent performance level successfully. This training forces an enhanced and consistent performance level\, reducing liabilities\, increasing knowledge\, and ramping sales opportunities. Anyone can sell another box\, but this is for the team members ready for the next level. \nExpectations and Goals \nYou can expect results in the reduction of company liabilities and increased sales opportunities. Students will learn how to test and design ducting the correct way while dealing with real-world installations how we find them. Students will gain a core understanding of the fundamentals of heating and air conditioning. This practical problem-solving approach arms students with the very best practices to increase technician competence. ACCA’s technical training delivers proven best practices with industry-accepted techniques that reinforce the science in HVACR. \n24 NATE CEHs \nRegistration fees includes: Catered lunch \nInstructor: Matt Akins \n\n\n\n\nRegistration Type\nExpires\nPricing\n\n\n\n\nMember Ticket – Discounted price is for PPA or PPATEC members\nApr 10\, 2023\n\n\n$110.00\n\n\n\nNon-Member Ticket – Full ticket price is for non PPA or PPATEC members\nApr 10\, 2023\n\n\n$1375.00\n\n\n\n\nClick Here to Register.
URL:https://aprresources.com/event/ppatec-practical-hvac-beyond-the-box-diagnostics/
LOCATION:PPA Technical Education Center\, 10107 Jonestown Road\, Grantville\, PA\, 17028\, United States
CATEGORIES:Training
ATTACH;FMTTYPE=image/webp:https://aprresources.com/wp-content/uploads/2023/02/PPATEC-HVAC-Training.webp
END:VEVENT
BEGIN:VEVENT
DTSTART;TZID=America/New_York:20230310T080000
DTEND;TZID=America/New_York:20230310T163000
DTSTAMP:20260424T132316
CREATED:20230207T040016Z
LAST-MODIFIED:20230207T040035Z
UID:10000447-1678435200-1678465800@aprresources.com
SUMMARY:PPATEC: Customer Service & Technical Conversations
DESCRIPTION:In this class\, technicians (or office staff) will learn a basic understanding of technical components such as TXV’s\, compressors\, coils\, heat exchangers\, etc. so they can take this information and be able to demonstrate and explain to homeowners. Attendees will also learn the basic processes to respectfully and responsibly move through a customer’s house during a maintenance or service call. The class will include basic instruction\, real world examples\, and role-playing exercises. \nTopics include: \n\nWhere to park during a call & how to enter a customer’s home.\nAsking homeowner questions prior to starting work to find system issues or enhancements.\nMaking technical components easy for homeowners to understand\nExplaining findings to homeowners.\n\nRegistration fees include: Lunch will be provided \n  \nOur Instructor: Nathan Foster has been in the industry for over 10 years with his most recent experience serving as director of installation and sales at Vertex Mechanical. His background includes new construction and retrofit installations along with service and maintenance work. During his time as a service and maintenance technician he excelled in finding solutions for customers’ needs with utilizing air purification\, zoning controls\, humidity control\, as well as finding the right time for a customer to replace their system. He currently holds NATE certifications in A/C and Heat Pump installation and Service. \n\n\n\nRegistration Type\nExpires\nPricing\n\n\n\n\nMember Ticket – Discounted price is for PPA or PPATEC members\nMar 09\, 2023\n\n\n$160.00\n\n\n\nNon-Member Ticket – Full ticket price is for non PPA or PPATEC members\nMar 09\, 2023\n\n\n$220.00\n\n\n\n\n  \nClick Here to Register.
URL:https://aprresources.com/event/ppatec-customer-service-technical-conversations/
LOCATION:PPA Technical Education Center\, 10107 Jonestown Road\, Grantville\, PA\, 17028\, United States
CATEGORIES:Training
ATTACH;FMTTYPE=image/jpeg:https://aprresources.com/wp-content/uploads/2023/02/pro-meeting-customer-1.jpeg
END:VEVENT
END:VCALENDAR