BEGIN:VCALENDAR
VERSION:2.0
PRODID:-// - ECPv6.15.20//NONSGML v1.0//EN
CALSCALE:GREGORIAN
METHOD:PUBLISH
X-ORIGINAL-URL:https://aprresources.com
X-WR-CALDESC:Events for 
REFRESH-INTERVAL;VALUE=DURATION:PT1H
X-Robots-Tag:noindex
X-PUBLISHED-TTL:PT1H
BEGIN:VTIMEZONE
TZID:America/New_York
BEGIN:DAYLIGHT
TZOFFSETFROM:-0500
TZOFFSETTO:-0400
TZNAME:EDT
DTSTART:20230312T070000
END:DAYLIGHT
BEGIN:STANDARD
TZOFFSETFROM:-0400
TZOFFSETTO:-0500
TZNAME:EST
DTSTART:20231105T060000
END:STANDARD
BEGIN:DAYLIGHT
TZOFFSETFROM:-0500
TZOFFSETTO:-0400
TZNAME:EDT
DTSTART:20240310T070000
END:DAYLIGHT
BEGIN:STANDARD
TZOFFSETFROM:-0400
TZOFFSETTO:-0500
TZNAME:EST
DTSTART:20241103T060000
END:STANDARD
BEGIN:DAYLIGHT
TZOFFSETFROM:-0500
TZOFFSETTO:-0400
TZNAME:EDT
DTSTART:20250309T070000
END:DAYLIGHT
BEGIN:STANDARD
TZOFFSETFROM:-0400
TZOFFSETTO:-0500
TZNAME:EST
DTSTART:20251102T060000
END:STANDARD
END:VTIMEZONE
BEGIN:VEVENT
DTSTART;TZID=America/New_York:20240215T190000
DTEND;TZID=America/New_York:20240215T200000
DTSTAMP:20260424T131730
CREATED:20240213T151257Z
LAST-MODIFIED:20240213T152423Z
UID:10000777-1708023600-1708027200@aprresources.com
SUMMARY:NTI Boilers Thirsty Thursday Episode 64 - Hydronic Separation
DESCRIPTION:Most of us never want to talk about separating\, but this week Jason\, Ted & Steve from NTI Boilers will be! Hydronic separation that is. Or should we call it Hydraulic Separation? Join Jason\, Ted & Steve for the next episode of Thirsty Thursday when they take a deep dive into primary secondary piping and hydronic separation. Yes\, they will start from the beginning to the end of boiler room piping and all the options you could or should consider when doing hydronic separation. As usual they will start with a craft beer review\, hit on some tech topics and plow right on through the topic of the night. \nComments? e-mail skwieland@ntiboilers.com
URL:https://aprresources.com/event/nti-boilers-thirsty-thursday-episode-64-hydronic-separation/
CATEGORIES:Training
ATTACH;FMTTYPE=image/png:https://aprresources.com/wp-content/uploads/2024/02/NTI-Featured-Image.png
ORGANIZER;CN="NTI Boilers":MAILTO:skwieland@ntiboilers.com
END:VEVENT
END:VCALENDAR