BEGIN:VCALENDAR
VERSION:2.0
PRODID:-// - ECPv6.15.20//NONSGML v1.0//EN
CALSCALE:GREGORIAN
METHOD:PUBLISH
X-ORIGINAL-URL:https://aprresources.com
X-WR-CALDESC:Events for 
REFRESH-INTERVAL;VALUE=DURATION:PT1H
X-Robots-Tag:noindex
X-PUBLISHED-TTL:PT1H
BEGIN:VTIMEZONE
TZID:America/New_York
BEGIN:DAYLIGHT
TZOFFSETFROM:-0500
TZOFFSETTO:-0400
TZNAME:EDT
DTSTART:20220313T070000
END:DAYLIGHT
BEGIN:STANDARD
TZOFFSETFROM:-0400
TZOFFSETTO:-0500
TZNAME:EST
DTSTART:20221106T060000
END:STANDARD
BEGIN:DAYLIGHT
TZOFFSETFROM:-0500
TZOFFSETTO:-0400
TZNAME:EDT
DTSTART:20230312T070000
END:DAYLIGHT
BEGIN:STANDARD
TZOFFSETFROM:-0400
TZOFFSETTO:-0500
TZNAME:EST
DTSTART:20231105T060000
END:STANDARD
BEGIN:DAYLIGHT
TZOFFSETFROM:-0500
TZOFFSETTO:-0400
TZNAME:EDT
DTSTART:20240310T070000
END:DAYLIGHT
BEGIN:STANDARD
TZOFFSETFROM:-0400
TZOFFSETTO:-0500
TZNAME:EST
DTSTART:20241103T060000
END:STANDARD
BEGIN:DAYLIGHT
TZOFFSETFROM:-0500
TZOFFSETTO:-0400
TZNAME:EDT
DTSTART:20250309T070000
END:DAYLIGHT
BEGIN:STANDARD
TZOFFSETFROM:-0400
TZOFFSETTO:-0500
TZNAME:EST
DTSTART:20251102T060000
END:STANDARD
END:VTIMEZONE
BEGIN:VEVENT
DTSTART;TZID=America/New_York:20240523T150000
DTEND;TZID=America/New_York:20240523T190000
DTSTAMP:20260424T025306
CREATED:20240410T202029Z
LAST-MODIFIED:20240410T202029Z
UID:10000811-1716476400-1716490800@aprresources.com
SUMMARY:APR Showcase: Philadelphia
DESCRIPTION:Commercial Connection \nGrab a bite to eat and meet with your favorite commercial brand reps from our vendor partners. See their newest lineup of commercial products\, grab a refreshing Yards beverage and possibly win some fun prizes!
URL:https://aprresources.com/event/apr-showcase-philadelphia/
LOCATION:Yards Brewing Company\, 500 Spring Garden St.\, Philadelphia\, 19123\, United States
CATEGORIES:Branch Event
ORGANIZER;CN="Katelynne Reese":MAILTO:kreese@aprsupply.com
END:VEVENT
BEGIN:VEVENT
DTSTART;TZID=America/New_York:20240515T110000
DTEND;TZID=America/New_York:20240515T130000
DTSTAMP:20260424T025306
CREATED:20240401T155355Z
LAST-MODIFIED:20240401T155458Z
UID:10000805-1715770800-1715778000@aprresources.com
SUMMARY:APR Showcase: Gettysburg
DESCRIPTION:Grab a bite to eat and meet with your favorite brand reps from our vendor partners. See their newest lineup of products\, grab a refreshing beverage and possibly win some fun prizes!
URL:https://aprresources.com/event/apr-showcase-gettysburg/
LOCATION:APR Supply Co – Gettysburg\, 3025 Old Harrisburg Rd\, Gettysburg\, PA\, 17325\, United States
CATEGORIES:Branch Event
ORGANIZER;CN="Katelynne Reese":MAILTO:kreese@aprsupply.com
END:VEVENT
BEGIN:VEVENT
DTSTART;TZID=America/New_York:20240509T170000
DTEND;TZID=America/New_York:20240509T200000
DTSTAMP:20260424T025306
CREATED:20240329T201838Z
LAST-MODIFIED:20240410T195737Z
UID:10000804-1715274000-1715284800@aprresources.com
SUMMARY:Western Region Allied Air Network Night
DESCRIPTION:Join APR Supply Co. and Tim Wallace for a fun evening at Voodoo Brewery – Pittsburgh Pub. Sip on a tasty beer\, eat some yummy food\, hear about the latest Allied Air product line and some regulatory updates. Hope to see you there!
URL:https://aprresources.com/event/western-region-allied-air-network-night/
LOCATION:Voodoo Brewery – Pittsburgh Pub\, 337 N Shore Dr \, PA\, Pittsburgh\, PA\, 15212\, United States
CATEGORIES:Dealer Meeting
ORGANIZER;CN="Katelynne Reese":MAILTO:kreese@aprsupply.com
END:VEVENT
BEGIN:VEVENT
DTSTART;TZID=America/New_York:20240507T080000
DTEND;TZID=America/New_York:20240507T110000
DTSTAMP:20260424T025306
CREATED:20240329T192009Z
LAST-MODIFIED:20240410T195807Z
UID:10000803-1715068800-1715079600@aprresources.com
SUMMARY:Allied Air Dealer Meeting
DESCRIPTION:You are invited to join us for an exclusive dealer only event to learn about the latest Allied Air products from Mid-Atlantic Sales Manager Tim Wallace. Our very own Jeff Thompson will be on site to talk through the 2024 regulatory updates as well.
URL:https://aprresources.com/event/allied-air-dealer-meeting-3/
LOCATION:Blue Bell Country Club\, 1800 Tournament Dr.\, Blue Bell\, Pennsylvania\, 19422\, United States
CATEGORIES:Dealer Meeting
ORGANIZER;CN="Katelynne Reese":MAILTO:kreese@aprsupply.com
END:VEVENT
BEGIN:VEVENT
DTSTART;TZID=America/New_York:20240402T160000
DTEND;TZID=America/New_York:20240402T200000
DTSTAMP:20260424T025306
CREATED:20240229T195808Z
LAST-MODIFIED:20240401T124314Z
UID:10000788-1712073600-1712088000@aprresources.com
SUMMARY:APR Showcase: Cherry Hill
DESCRIPTION:Grab a bite to eat and meet with your favorite brand reps from our vendor partners. See their newest lineup of products\, grab a refreshing beverage and possibly win some fun prizes!
URL:https://aprresources.com/event/apr-showcase-cherry-hill/
LOCATION:DoubleTree by Hilton Cherry Hill Philadelphia\, 2349 Marlton Pike W\, Cherry Hill\, 08002\, United States
CATEGORIES:Branch Event
ORGANIZER;CN="Katelynne Reese":MAILTO:kreese@aprsupply.com
END:VEVENT
BEGIN:VEVENT
DTSTART;TZID=America/New_York:20231214T073000
DTEND;TZID=America/New_York:20231214T093000
DTSTAMP:20260424T025306
CREATED:20210909T192211Z
LAST-MODIFIED:20231211T150402Z
UID:10000005-1702539000-1702546200@aprresources.com
SUMMARY:Bradford White Brute Boilers Training
DESCRIPTION:Get up to speed on the Bradford White Brute boiler. Gain insights on proper installation\, troubleshooting\, and have a chance to ask any questions you may have.
URL:https://aprresources.com/event/bradford-white-brute-boilers-training/
LOCATION:APR Supply Co – West Chester\, 830 S. Bolmar Street\, West Chester\, 19382\, United States
CATEGORIES:Training
ATTACH;FMTTYPE=image/png:https://aprresources.com/wp-content/uploads/2021/02/Bradford-White-Brute-FT.png
ORGANIZER;CN="Katelynne Reese":MAILTO:kreese@aprsupply.com
END:VEVENT
BEGIN:VEVENT
DTSTART;TZID=America/New_York:20231122T100000
DTEND;TZID=America/New_York:20231122T140000
DTSTAMP:20260424T025306
CREATED:20231025T131433Z
LAST-MODIFIED:20231025T131530Z
UID:10000669-1700647200-1700661600@aprresources.com
SUMMARY:New Yorker Boiler Counter Day - Reading Branch
DESCRIPTION:Stop by for a quick bite to eat and visit with our New Yorker Boiler rep to talk about their latest products and the and ask any questions. $50 rebate with boiler purchase.
URL:https://aprresources.com/event/new-yorker-boiler-counter-day-reading-branch/
LOCATION:APR Supply Co – Reading\, 4220 Pottsville Pike\, Reading\, PA\, 19605\, United States
CATEGORIES:Counter Day
ATTACH;FMTTYPE=image/png:https://aprresources.com/wp-content/uploads/2020/07/New-Yorker-Product-Spotlight-1.png
ORGANIZER;CN="Katelynne Reese":MAILTO:kreese@aprsupply.com
END:VEVENT
BEGIN:VEVENT
DTSTART;TZID=America/New_York:20231115T100000
DTEND;TZID=America/New_York:20231115T140000
DTSTAMP:20260424T025306
CREATED:20231025T022038Z
LAST-MODIFIED:20231102T120826Z
UID:10000667-1700042400-1700056800@aprresources.com
SUMMARY:New Yorker Boiler Counter Day - Upper Darby Branch
DESCRIPTION:Stop by for a quick bite to eat and visit with our New Yorker Boiler rep to talk about their latest products and the and ask any questions. $50 rebate with boiler purchase.
URL:https://aprresources.com/event/new-yorker-boiler-counter-day-upper-darby-branch/
LOCATION:APR Supply Co – Upper Darby\, 510 S. Cedar Lane\, Upper Darby\, PA\, 19082\, United States
CATEGORIES:Counter Day
ATTACH;FMTTYPE=image/png:https://aprresources.com/wp-content/uploads/2020/07/New-Yorker-Product-Spotlight-1.png
ORGANIZER;CN="Katelynne Reese":MAILTO:kreese@aprsupply.com
END:VEVENT
BEGIN:VEVENT
DTSTART;TZID=America/New_York:20231114T080000
DTEND;TZID=America/New_York:20231114T110000
DTSTAMP:20260424T025306
CREATED:20231024T145534Z
LAST-MODIFIED:20231025T010625Z
UID:10000663-1699948800-1699959600@aprresources.com
SUMMARY:Honeywell Generator Counter Day - Bridgeton Branch
DESCRIPTION:Stop into our Bridgeton branch\, meet with the Honeywell Generator product expert\, and learn about the Honeywell Generator Product line!
URL:https://aprresources.com/event/honeywell-generator-counter-day-southampton-branch/
LOCATION:APR Supply Co. – Bridgeton\, 756 North Pearl Street\, Bridgeton\, NJ\, 08302\, United States
CATEGORIES:Counter Day
ATTACH;FMTTYPE=image/jpeg:https://aprresources.com/wp-content/uploads/2020/08/honeywell-genSPOTLIGHT-PHOTO.jpg
ORGANIZER;CN="Katelynne Reese":MAILTO:kreese@aprsupply.com
END:VEVENT
BEGIN:VEVENT
DTSTART;TZID=America/New_York:20231110T100000
DTEND;TZID=America/New_York:20231110T140000
DTSTAMP:20260424T025306
CREATED:20231025T021335Z
LAST-MODIFIED:20231025T021335Z
UID:10000666-1699610400-1699624800@aprresources.com
SUMMARY:New Yorker Boiler Counter Day - Pottstown Branch
DESCRIPTION:Stop by for a quick bite to eat and visit with our New Yorker Boiler rep to talk about their latest products and the and ask any questions. $50 rebate with boiler purchase.
URL:https://aprresources.com/event/new-yorker-boiler-counter-day-pottstown-branch/
LOCATION:APR Supply Co – Pottstown\, 280 River Road\, Pottstown\, PA\, 19465\, United States
CATEGORIES:Counter Day
ATTACH;FMTTYPE=image/png:https://aprresources.com/wp-content/uploads/2020/07/New-Yorker-Product-Spotlight-1.png
ORGANIZER;CN="Katelynne Reese":MAILTO:kreese@aprsupply.com
END:VEVENT
BEGIN:VEVENT
DTSTART;TZID=America/New_York:20231107T100000
DTEND;TZID=America/New_York:20231107T140000
DTSTAMP:20260424T025306
CREATED:20231025T020210Z
LAST-MODIFIED:20231025T020211Z
UID:10000665-1699351200-1699365600@aprresources.com
SUMMARY:New Yorker Boiler Counter Day - Southampton Branch
DESCRIPTION:Stop by for a quick bite to eat and visit with our New Yorker Boiler rep to talk about their latest products and the and ask any questions. $50 rebate with boiler purchase.
URL:https://aprresources.com/event/new-yorker-boiler-counter-day-southampton-branch/
LOCATION:APR Supply Co – Southampton\, 505 Keystone Road\, Southampton\, PA\, 18966\, United States
CATEGORIES:Counter Day
ATTACH;FMTTYPE=image/png:https://aprresources.com/wp-content/uploads/2020/07/New-Yorker-Product-Spotlight-1.png
ORGANIZER;CN="Katelynne Reese":MAILTO:kreese@aprsupply.com
END:VEVENT
BEGIN:VEVENT
DTSTART;TZID=America/New_York:20231017T100000
DTEND;TZID=America/New_York:20231017T140000
DTSTAMP:20260424T025306
CREATED:20231009T160858Z
LAST-MODIFIED:20231009T160913Z
UID:10000662-1697536800-1697551200@aprresources.com
SUMMARY:A. O. Smith Counter Day - Newark Branch
DESCRIPTION:Stop into our Bridgeton branch\, meet with the A.O. Smith product expert\, and learn about this A.O. Smith Product line!
URL:https://aprresources.com/event/a-o-smith-counter-day-newark-branch/
LOCATION:APR Supply Co – Newark\, 718 Stanton Christiana Road\, Newark\, DE\, 19713\, United States
CATEGORIES:Counter Day
ATTACH;FMTTYPE=image/png:https://aprresources.com/wp-content/uploads/2023/09/AO-Smith-Lineup.png
ORGANIZER;CN="Katelynne Reese":MAILTO:kreese@aprsupply.com
END:VEVENT
BEGIN:VEVENT
DTSTART;TZID=America/New_York:20231010T080000
DTEND;TZID=America/New_York:20231010T120000
DTSTAMP:20260424T025306
CREATED:20230918T204001Z
LAST-MODIFIED:20230920T202542Z
UID:10000640-1696924800-1696939200@aprresources.com
SUMMARY:A. O. Smith Counter Day - Bridgeton Branch
DESCRIPTION:Stop into our Bridgeton branch\, meet with the A.O. Smith product expert\, and learn about this A.O. Smith Product line!
URL:https://aprresources.com/event/18948/
LOCATION:APR Supply Co. – Bridgeton\, 756 North Pearl Street\, Bridgeton\, NJ\, 08302\, United States
CATEGORIES:Counter Day
ATTACH;FMTTYPE=image/png:https://aprresources.com/wp-content/uploads/2023/09/AO-Smith-Lineup.png
ORGANIZER;CN="Katelynne Reese":MAILTO:kreese@aprsupply.com
END:VEVENT
BEGIN:VEVENT
DTSTART;TZID=America/New_York:20230309T170000
DTEND;TZID=America/New_York:20230309T200000
DTSTAMP:20260424T025306
CREATED:20230202T211406Z
LAST-MODIFIED:20230203T135858Z
UID:10000434-1678381200-1678392000@aprresources.com
SUMMARY:APR Supply Co - Bridgeton HVAC Open House
DESCRIPTION:GRAB A BITE TO EAT AND VISIT WITH OUR EXCEPTIONAL BRIDGETON SALES TEAM. MEET WITH YOUR FAVORITE BRAND REPS FROM OUR TOP HVAC LINES. THEY WILL BE ON SITE TO ANSWER QUESTIONS\, SHOW OFF PRODUCT AND EXPLAIN THE ADVANTAGES OF BECOMING A DEALER. \n\n\n	\n	\n	\n	\n    \n\n	    \n    \n        Registration is closed for this event.
URL:https://aprresources.com/event/bridgeton_open_house/
LOCATION:APR Supply Co. – Bridgeton\, 756 North Pearl Street\, Bridgeton\, NJ\, 08302\, United States
CATEGORIES:Branch Event
ORGANIZER;CN="Katelynne Reese":MAILTO:kreese@aprsupply.com
END:VEVENT
END:VCALENDAR