BEGIN:VCALENDAR
VERSION:2.0
PRODID:-// - ECPv6.15.20//NONSGML v1.0//EN
CALSCALE:GREGORIAN
METHOD:PUBLISH
X-ORIGINAL-URL:https://aprresources.com
X-WR-CALDESC:Events for 
REFRESH-INTERVAL;VALUE=DURATION:PT1H
X-Robots-Tag:noindex
X-PUBLISHED-TTL:PT1H
BEGIN:VTIMEZONE
TZID:America/New_York
BEGIN:DAYLIGHT
TZOFFSETFROM:-0500
TZOFFSETTO:-0400
TZNAME:EDT
DTSTART:20250309T070000
END:DAYLIGHT
BEGIN:STANDARD
TZOFFSETFROM:-0400
TZOFFSETTO:-0500
TZNAME:EST
DTSTART:20251102T060000
END:STANDARD
BEGIN:DAYLIGHT
TZOFFSETFROM:-0500
TZOFFSETTO:-0400
TZNAME:EDT
DTSTART:20260308T070000
END:DAYLIGHT
BEGIN:STANDARD
TZOFFSETFROM:-0400
TZOFFSETTO:-0500
TZNAME:EST
DTSTART:20261101T060000
END:STANDARD
BEGIN:DAYLIGHT
TZOFFSETFROM:-0500
TZOFFSETTO:-0400
TZNAME:EDT
DTSTART:20270314T070000
END:DAYLIGHT
BEGIN:STANDARD
TZOFFSETFROM:-0400
TZOFFSETTO:-0500
TZNAME:EST
DTSTART:20271107T060000
END:STANDARD
END:VTIMEZONE
BEGIN:VEVENT
DTSTART;TZID=America/New_York:20260423T080000
DTEND;TZID=America/New_York:20260423T160000
DTSTAMP:20260424T054702
CREATED:20260319T115503Z
LAST-MODIFIED:20260319T140332Z
UID:10001369-1776931200-1776960000@aprresources.com
SUMMARY:Basic Refrigeration Cycle with Heat Pumps Hazelton
DESCRIPTION:Course Overview:  \nThis course includes an overview of the basic refrigeration cycle. Pressure temperature relationships are used to demonstrate the concepts of superheat and sub-cooling. The instructor will cover an explanation of temperatures and pressures of a normally operating system to build a base for troubleshooting. \nTrainer:  \nMark Elmer\, APR Supply Co. \nPlease note: APR Supply Co. has implemented a new payment and cancellation policy. Please click here to view these new stipulations.  \n*Includes light lunch and all class materials
URL:https://aprresources.com/event/basic-refrigeration-cycle-with-heat-pumps-hazelton/
LOCATION:APR Supply Hazelton\, 171 S Filmore Ct\, Hazelton\, PA\, 18201\, United States
CATEGORIES:Training
ATTACH;FMTTYPE=image/jpeg:https://aprresources.com/wp-content/uploads/2024/05/iStock-1511329752.jpg
ORGANIZER;CN="APR Marketing Department":MAILTO:marketing@aprsupply.com
END:VEVENT
END:VCALENDAR