BEGIN:VCALENDAR
VERSION:2.0
PRODID:-// - ECPv6.15.20//NONSGML v1.0//EN
CALSCALE:GREGORIAN
METHOD:PUBLISH
X-ORIGINAL-URL:https://aprresources.com
X-WR-CALDESC:Events for 
REFRESH-INTERVAL;VALUE=DURATION:PT1H
X-Robots-Tag:noindex
X-PUBLISHED-TTL:PT1H
BEGIN:VTIMEZONE
TZID:America/New_York
BEGIN:DAYLIGHT
TZOFFSETFROM:-0500
TZOFFSETTO:-0400
TZNAME:EDT
DTSTART:20240310T070000
END:DAYLIGHT
BEGIN:STANDARD
TZOFFSETFROM:-0400
TZOFFSETTO:-0500
TZNAME:EST
DTSTART:20241103T060000
END:STANDARD
BEGIN:DAYLIGHT
TZOFFSETFROM:-0500
TZOFFSETTO:-0400
TZNAME:EDT
DTSTART:20250309T070000
END:DAYLIGHT
BEGIN:STANDARD
TZOFFSETFROM:-0400
TZOFFSETTO:-0500
TZNAME:EST
DTSTART:20251102T060000
END:STANDARD
BEGIN:DAYLIGHT
TZOFFSETFROM:-0500
TZOFFSETTO:-0400
TZNAME:EDT
DTSTART:20260308T070000
END:DAYLIGHT
BEGIN:STANDARD
TZOFFSETFROM:-0400
TZOFFSETTO:-0500
TZNAME:EST
DTSTART:20261101T060000
END:STANDARD
END:VTIMEZONE
BEGIN:VEVENT
DTSTART;TZID=America/New_York:20251215T090000
DTEND;TZID=America/New_York:20251215T160000
DTSTAMP:20260424T124004
CREATED:20250718T145020Z
LAST-MODIFIED:20250718T145035Z
UID:10001243-1765789200-1765814400@aprresources.com
SUMMARY:PPA TEC Five-Day Heat Pump Installation\, Service\, and Troubleshooting Fundamentals
DESCRIPTION:This class is designed to teach the basics of heat pump operation\, including the refrigerant circuit\, duel fuel systems\, heat pump specific electrical and installation practices necessary for them. It will teach you basic skills in\, installation\, maintenance\, and diagnostics for standard heat pumps\, VFD heat pumps\, and mini split units. \n\n• Heat Pump Operation\n• Heat Pump Electrical\n• Duel Fuel Systems\n• Back Up Heat\n• Maintenance\n• Diagnostics\n• Installation\n• Mini Split Units\n\nWho Should Attend: This 40-hour Heat Pump class was specifically developed for individuals with no or very limited field experience (less than 12 months). \nRegistration fees includes: Catered lunch \nOur Instructors:  \nMike Elmer has been in the HVAC and plumbing industry since 2002 and has worked for leading contractors in the South Central PA region. His background includes service HVAC\, plumbing\, and electric. Mike currently works in the field as a lead troubleshooting service technician. \nDoug Zerbe has been in the HVAC industry since 2003.  On the contractor side of the industry\, he has worked as an installer and service technician before he moved into installation and service management.  Doug also had the opportunity to work in technical support for an HVAC distributor and in sales for an HVAC manufacturer. \nHotel Accommodations \n\nPPATEC is pleased to partner with local hotels that are in close proximity to our primary training venues. Our hotel partners offer student discounted rates on overnight accommodations. Please see the link below to visit our hotel partners page. \nClick Here for Hotel Partners \n\n\n  \n\n\n\n\n\n\n\n\n\n\n\n\n\nEvent Item Name\nExpires\nPricing\n\n\n\n\nMember Price – Discounted price is for PPA members and PPATEC members.\nDec 12\, 2025\n\n\n$1\,100.00\n\n\n\nNon-Member Ticket – Full ticket price is for non PPA or PPATEC members\nDec 12\, 2025\n\n\n$1\,375.00\n\n\n\n\n\n\n\n 
URL:https://aprresources.com/event/ppa-tec-five-day-heat-pump-installation-service-and-troubleshooting-fundamentals/
LOCATION:PPA Technical Education Center\, 10107 Jonestown Road\, Grantville\, PA\, 17028\, United States
CATEGORIES:Training
ATTACH;FMTTYPE=image/png:https://aprresources.com/wp-content/uploads/2024/01/PPATEC-Featured-Pic-2.png
ORGANIZER;CN="PPA TEC":MAILTO:training@papetroleum.org
END:VEVENT
END:VCALENDAR