BEGIN:VCALENDAR
VERSION:2.0
PRODID:-// - ECPv6.15.20//NONSGML v1.0//EN
CALSCALE:GREGORIAN
METHOD:PUBLISH
X-ORIGINAL-URL:https://aprresources.com
X-WR-CALDESC:Events for 
REFRESH-INTERVAL;VALUE=DURATION:PT1H
X-Robots-Tag:noindex
X-PUBLISHED-TTL:PT1H
BEGIN:VTIMEZONE
TZID:America/New_York
BEGIN:DAYLIGHT
TZOFFSETFROM:-0500
TZOFFSETTO:-0400
TZNAME:EDT
DTSTART:20240310T070000
END:DAYLIGHT
BEGIN:STANDARD
TZOFFSETFROM:-0400
TZOFFSETTO:-0500
TZNAME:EST
DTSTART:20241103T060000
END:STANDARD
BEGIN:DAYLIGHT
TZOFFSETFROM:-0500
TZOFFSETTO:-0400
TZNAME:EDT
DTSTART:20250309T070000
END:DAYLIGHT
BEGIN:STANDARD
TZOFFSETFROM:-0400
TZOFFSETTO:-0500
TZNAME:EST
DTSTART:20251102T060000
END:STANDARD
BEGIN:DAYLIGHT
TZOFFSETFROM:-0500
TZOFFSETTO:-0400
TZNAME:EDT
DTSTART:20260308T070000
END:DAYLIGHT
BEGIN:STANDARD
TZOFFSETFROM:-0400
TZOFFSETTO:-0500
TZNAME:EST
DTSTART:20261101T060000
END:STANDARD
END:VTIMEZONE
BEGIN:VEVENT
DTSTART;TZID=America/New_York:20251107T080000
DTEND;TZID=America/New_York:20251107T160000
DTSTAMP:20260424T122937
CREATED:20250925T165634Z
LAST-MODIFIED:20250925T171356Z
UID:10001340-1762502400-1762531200@aprresources.com
SUMMARY:Heating Troubleshooting Refresher—Williamsport
DESCRIPTION:Topics featured in this fall heating refresher course will cover a wide range of subjects\, including but not limited to the following: \n\nOil Burner Setup and Troubleshooting\nOil Pressure Testing and Adjustment\nOil Vacuum Testing\nSmoke Testing\nCombustion Analysis\n\nTrainer: Mark Elmer  \nPlease note: APR Supply Co. has implemented a payment and cancellation policy. Please click here to view these new stipulations.  \n***includes light breakfast\, lunch\, and all class materials
URL:https://aprresources.com/event/heating-troubleshooting-refresher-williamsport/
LOCATION:APR Supply Co – Williamsport\, 1309 Commerce Park Drive\, Williamsport\, PA\, 17701\, United States
CATEGORIES:Training
ATTACH;FMTTYPE=image/jpeg:https://aprresources.com/wp-content/uploads/2025/09/qtq80-iueI4c.jpeg
ORGANIZER;CN="APR Marketing Department":MAILTO:marketing@aprsupply.com
END:VEVENT
BEGIN:VEVENT
DTSTART;TZID=America/New_York:20251107T090000
DTEND;TZID=America/New_York:20251107T160000
DTSTAMP:20260424T122937
CREATED:20250718T154024Z
LAST-MODIFIED:20250718T154246Z
UID:10001259-1762506000-1762531200@aprresources.com
SUMMARY:PPA TEC Heat Pump Operation\, Testing\, and Troubleshooting
DESCRIPTION:This class is for technicians with a basic understanding of the refrigeration cycle. If you are looking to gain a basic understanding of the refrigeration cycle\, we recommend taking our “Basic A/C Operation\, Start Up & Servicing (1 Day Class)\,” “A/C Principles\, Theories\, Installation & Troubleshooting (10 Day Class)\,” or “Intro to Air Conditioning (4 Day Class).” \nThe Heat Pump Operation\, Testing\, and Troubleshooting class will help both installation and service technicians better understand the operation of heat pumps. Whether an installer isn’t sure what they should be seeing when starting up a heat pump\, or a service technician feels there is room to improve when diagnosing heat pumps\, this class has something to offer. \n\n\n\nHeat Pump Operation\, Testing\, and Troubleshooting: \n  \n\n– Refrigeration cycle for heat pump\, what changes from air conditioning temperatures\, pressures\, and etc.?\n– Understanding the difference in low voltage wiring from standard A/C\n– Checking charge in heat mode and understanding what affects readings\n– Troubleshooting: what’s different from a standard A/C?\n– Dual fuel wiring and optimization\n-Understanding defrost cycle and troubleshooting defrost cycle\n\n\n\n\n\n\nOur Instructors: \nMike Elmer has been in the HVAC and plumbing industry since 2002 and has worked for leading contractors in the South Central PA region. His background includes service HVAC\, plumbing\, and electric. Mike currently works in the field as a lead troubleshooting service technician. \nDoug Zerbe has been in the HVAC industry since 2003.  On the contractor side of the industry\, he has worked as an installer and service technician before he moved into installation and service management.  Doug also had the opportunity to work in technical support for an HVAC distributor and in sales for an HVAC manufacturer. \n\n\n\n\n\n\n\n\n\n\n\n\nEvent Item Name\nExpires\nPricing\n\n\n\n\nMember Price – Discounted price is for PPA members and PPATEC members.\nNov 06\, 2025\n\n\n$220.00\n\n\n\nNon-Member Ticket – Full ticket price is for non PPA or PPATEC members\nNov 06\, 2025\n\n\n$275.00\n\n\n\n\n\n\n\n  \n 
URL:https://aprresources.com/event/ppa-tec-heat-pump-operation-testing-and-troubleshooting/
LOCATION:PPA Technical Education Center\, 10107 Jonestown Road\, Grantville\, PA\, 17028\, United States
CATEGORIES:Training
ATTACH;FMTTYPE=image/png:https://aprresources.com/wp-content/uploads/2024/01/PPATEC-Featured-Pic-2.png
ORGANIZER;CN="PPA TEC":MAILTO:training@papetroleum.org
END:VEVENT
END:VCALENDAR