BEGIN:VCALENDAR
VERSION:2.0
PRODID:-// - ECPv6.15.20//NONSGML v1.0//EN
CALSCALE:GREGORIAN
METHOD:PUBLISH
X-ORIGINAL-URL:https://aprresources.com
X-WR-CALDESC:Events for 
REFRESH-INTERVAL;VALUE=DURATION:PT1H
X-Robots-Tag:noindex
X-PUBLISHED-TTL:PT1H
BEGIN:VTIMEZONE
TZID:America/New_York
BEGIN:DAYLIGHT
TZOFFSETFROM:-0500
TZOFFSETTO:-0400
TZNAME:EDT
DTSTART:20240310T070000
END:DAYLIGHT
BEGIN:STANDARD
TZOFFSETFROM:-0400
TZOFFSETTO:-0500
TZNAME:EST
DTSTART:20241103T060000
END:STANDARD
BEGIN:DAYLIGHT
TZOFFSETFROM:-0500
TZOFFSETTO:-0400
TZNAME:EDT
DTSTART:20250309T070000
END:DAYLIGHT
BEGIN:STANDARD
TZOFFSETFROM:-0400
TZOFFSETTO:-0500
TZNAME:EST
DTSTART:20251102T060000
END:STANDARD
BEGIN:DAYLIGHT
TZOFFSETFROM:-0500
TZOFFSETTO:-0400
TZNAME:EDT
DTSTART:20260308T070000
END:DAYLIGHT
BEGIN:STANDARD
TZOFFSETFROM:-0400
TZOFFSETTO:-0500
TZNAME:EST
DTSTART:20261101T060000
END:STANDARD
END:VTIMEZONE
BEGIN:VEVENT
DTSTART;TZID=America/New_York:20251205T090000
DTEND;TZID=America/New_York:20251205T160000
DTSTAMP:20260424T115105
CREATED:20250718T151026Z
LAST-MODIFIED:20250718T151026Z
UID:10001248-1764925200-1764950400@aprresources.com
SUMMARY:PPA TEC Troubleshooting Low Voltage Wiring
DESCRIPTION:This class provides attendees with the basics of understanding low voltage wiring. Wiring relays and controls will be covered during this class with a specific focus on troubleshooting low voltage wiring applications. \n\n\n\nTroubleshooting Low Voltage Wiring will cover: \n\nLow voltage schematics and wiring diagrams\nLow voltage relays and controls overview\nTroubleshooting low voltage wiring\n\n\n\n\n\n\n  \nOur Instructor: Jason Bowe has been in the HVAC industry since 2001 and has worked for leading contractors in the Central PA region. His background includes electric install\, retrofit installations\, residential and commercial service work. Jason brings previous HVAC instructor experience from teaching at Haller Enterprises as an Instructor and Branch Manager. \n\n\n\n\n\n\n\n\n\n\n\n\nEvent Item Name\nExpires\nPricing\n\n\n\n\nMember Price – Discounted price is for PPA members and PPATEC members.\nDec 04\, 2025\n\n\n$220.00\n\n\n\nNon-Member Ticket – Full ticket price is for non PPA or PPATEC members\nDec 04\, 2025\n\n\n$275.00
URL:https://aprresources.com/event/ppa-tec-troubleshooting-low-voltage-wiring-2/
LOCATION:PPA Technical Education Center\, 10107 Jonestown Road\, Grantville\, PA\, 17028\, United States
CATEGORIES:Training
ATTACH;FMTTYPE=image/png:https://aprresources.com/wp-content/uploads/2024/01/PPATEC-Featured-Pic-2.png
ORGANIZER;CN="PPA TEC":MAILTO:training@papetroleum.org
END:VEVENT
BEGIN:VEVENT
DTSTART;TZID=America/New_York:20251216T080000
DTEND;TZID=America/New_York:20251216T160000
DTSTAMP:20260424T115105
CREATED:20250616T194505Z
LAST-MODIFIED:20251214T234616Z
UID:10001215-1765872000-1765900800@aprresources.com
SUMMARY:Low Voltage Controls & Wiring—Pottstown
DESCRIPTION:This is electrical theory put to practical use. The class covers conventional 24V controls and wiring\, dual fuel controls\, and Wi-Fi and Internet connectivity. There will also be a section that covers communicating controls. \nTrainer: Mark Elmer  \nPlease note: APR Supply Co. has implemented a new payment and cancellation policy. Please click here to view these new stipulations.
URL:https://aprresources.com/event/low-voltage-controls-wiring-pottstown/
LOCATION:Keystone Sales & Associates\, 103 Commerce Court\, Pottstown\, PA\, 19464\, United States
CATEGORIES:Training
ATTACH;FMTTYPE=image/png:https://aprresources.com/wp-content/uploads/2024/06/Low-Voltage-Featured-Image.png
ORGANIZER;CN="APR Marketing Department":MAILTO:marketing@aprsupply.com
END:VEVENT
BEGIN:VEVENT
DTSTART;TZID=America/New_York:20251219T080000
DTEND;TZID=America/New_York:20251219T160000
DTSTAMP:20260424T115105
CREATED:20250616T191828Z
LAST-MODIFIED:20250919T190710Z
UID:10001214-1766131200-1766160000@aprresources.com
SUMMARY:Low Voltage Controls & Wiring—Altoona
DESCRIPTION:This is electrical theory put to practical use. The class covers conventional 24V controls and wiring\, dual fuel controls\, and Wi-Fi and Internet connectivity. There will also be a section that covers communicating controls. \nTrainer: Mark Elmer  \nPlease note: APR Supply Co. has implemented a new payment and cancellation policy. Please click here to view these new stipulations.
URL:https://aprresources.com/event/low-voltage-controls-wiring-altoona/
LOCATION:APR Supply Co – Altoona\, 4141 S. 6th Avenue\, Altoona\, PA\, 16603\, United States
CATEGORIES:Training
ATTACH;FMTTYPE=image/png:https://aprresources.com/wp-content/uploads/2024/06/Low-Voltage-Featured-Image.png
ORGANIZER;CN="APR Marketing Department":MAILTO:marketing@aprsupply.com
END:VEVENT
BEGIN:VEVENT
DTSTART;TZID=America/New_York:20251219T090000
DTEND;TZID=America/New_York:20251219T160000
DTSTAMP:20260424T115105
CREATED:20250718T144136Z
LAST-MODIFIED:20250718T144136Z
UID:10001239-1766134800-1766160000@aprresources.com
SUMMARY:PPA TEC Troubleshooting Low Voltage Wiring
DESCRIPTION:This class provides attendees with the basics of understanding low voltage wiring. Wiring relays and controls will be covered during this class with a specific focus on troubleshooting low voltage wiring applications. \n\n\n\nTroubleshooting Low Voltage Wiring will cover: \n\nLow voltage schematics and wiring diagrams\nLow voltage relays and controls overview\nTroubleshooting low voltage wiring\n\n\n\n\n\n\nOur Instructor: Jason Bowe has been in the HVAC industry since 2001 and has worked for leading contractors in the Central PA region. His background includes electric install\, retrofit installations\, residential and commercial service work. Jason brings previous HVAC instructor experience from teaching at Haller Enterprises as an Instructor and Branch Manager. \n\n\n\n\n\n\n\n\n\n\n\n\nEvent Item Name\nExpires\nPricing\n\n\n\n\nMember Price – Discounted price is for PPA members and PPATEC members.\nDec 18\, 2025\n\n\n$220.00\n\n\n\nNon-Member Ticket – Full ticket price is for non PPA or PPATEC members\nDec 18\, 2025\n\n\n$275.00
URL:https://aprresources.com/event/ppa-tec-troubleshooting-low-voltage-wiring/
LOCATION:PPA Technical Education Center\, 10107 Jonestown Road\, Grantville\, PA\, 17028\, United States
CATEGORIES:Training
ATTACH;FMTTYPE=image/png:https://aprresources.com/wp-content/uploads/2024/01/PPATEC-Featured-Pic-2.png
ORGANIZER;CN="PPA TEC":MAILTO:training@papetroleum.org
END:VEVENT
END:VCALENDAR