BEGIN:VCALENDAR
VERSION:2.0
PRODID:-// - ECPv6.15.20//NONSGML v1.0//EN
CALSCALE:GREGORIAN
METHOD:PUBLISH
X-ORIGINAL-URL:https://aprresources.com
X-WR-CALDESC:Events for 
REFRESH-INTERVAL;VALUE=DURATION:PT1H
X-Robots-Tag:noindex
X-PUBLISHED-TTL:PT1H
BEGIN:VTIMEZONE
TZID:America/New_York
BEGIN:DAYLIGHT
TZOFFSETFROM:-0500
TZOFFSETTO:-0400
TZNAME:EDT
DTSTART:20250309T070000
END:DAYLIGHT
BEGIN:STANDARD
TZOFFSETFROM:-0400
TZOFFSETTO:-0500
TZNAME:EST
DTSTART:20251102T060000
END:STANDARD
BEGIN:DAYLIGHT
TZOFFSETFROM:-0500
TZOFFSETTO:-0400
TZNAME:EDT
DTSTART:20260308T070000
END:DAYLIGHT
BEGIN:STANDARD
TZOFFSETFROM:-0400
TZOFFSETTO:-0500
TZNAME:EST
DTSTART:20261101T060000
END:STANDARD
BEGIN:DAYLIGHT
TZOFFSETFROM:-0500
TZOFFSETTO:-0400
TZNAME:EDT
DTSTART:20270314T070000
END:DAYLIGHT
BEGIN:STANDARD
TZOFFSETFROM:-0400
TZOFFSETTO:-0500
TZNAME:EST
DTSTART:20271107T060000
END:STANDARD
END:VTIMEZONE
BEGIN:VEVENT
DTSTART;TZID=America/New_York:20260514T100000
DTEND;TZID=America/New_York:20260514T130000
DTSTAMP:20260424T061209
CREATED:20260319T151646Z
LAST-MODIFIED:20260319T151805Z
UID:10001377-1778752800-1778763600@aprresources.com
SUMMARY:Milwaukee Counter Day Indiana
DESCRIPTION:Join us for a Milwaukee Tool Counter Day! Meet the rep\, \ncheck out the products\, and enjoy light refreshments as well \nas 10% off 5/14 only.
URL:https://aprresources.com/event/milwaukee-counter-day-indiana/
LOCATION:APR Supply Co. – Indiana\, 2060 Shelly Drive\, Indiana\, Pennsylvania
CATEGORIES:Counter Day
ATTACH;FMTTYPE=image/png:https://aprresources.com/wp-content/uploads/2025/03/Milwaukee-Featured-Pic.png
ORGANIZER;CN="APR Marketing Department":MAILTO:marketing@aprsupply.com
END:VEVENT
BEGIN:VEVENT
DTSTART;TZID=America/New_York:20260514T100000
DTEND;TZID=America/New_York:20260514T130000
DTSTAMP:20260424T061209
CREATED:20260413T173813Z
LAST-MODIFIED:20260413T174811Z
UID:10001378-1778752800-1778763600@aprresources.com
SUMMARY:Milwaukee Counter Day Indiana
DESCRIPTION:Join us for a Milwaukee Tool Counter Day!  \nMeet the rep\, check out the products\, and enjoy light refreshments as well as 10% off all Milwaukee orders on 5/14 only.
URL:https://aprresources.com/event/milwaukee-counter-day-indiana-2/
LOCATION:APR Supply Co. – Indiana\, 2060 Shelly Drive\, Indiana\, Pennsylvania
CATEGORIES:Counter Day
ATTACH;FMTTYPE=image/png:https://aprresources.com/wp-content/uploads/2024/03/Milwaukee-Tool-Featured-Pic-.png
ORGANIZER;CN="APR Marketing Department":MAILTO:marketing@aprsupply.com
END:VEVENT
END:VCALENDAR