BEGIN:VCALENDAR
VERSION:2.0
PRODID:-// - ECPv6.15.20//NONSGML v1.0//EN
CALSCALE:GREGORIAN
METHOD:PUBLISH
X-ORIGINAL-URL:https://aprresources.com
X-WR-CALDESC:Events for 
REFRESH-INTERVAL;VALUE=DURATION:PT1H
X-Robots-Tag:noindex
X-PUBLISHED-TTL:PT1H
BEGIN:VTIMEZONE
TZID:America/New_York
BEGIN:DAYLIGHT
TZOFFSETFROM:-0500
TZOFFSETTO:-0400
TZNAME:EDT
DTSTART:20250309T070000
END:DAYLIGHT
BEGIN:STANDARD
TZOFFSETFROM:-0400
TZOFFSETTO:-0500
TZNAME:EST
DTSTART:20251102T060000
END:STANDARD
BEGIN:DAYLIGHT
TZOFFSETFROM:-0500
TZOFFSETTO:-0400
TZNAME:EDT
DTSTART:20260308T070000
END:DAYLIGHT
BEGIN:STANDARD
TZOFFSETFROM:-0400
TZOFFSETTO:-0500
TZNAME:EST
DTSTART:20261101T060000
END:STANDARD
BEGIN:DAYLIGHT
TZOFFSETFROM:-0500
TZOFFSETTO:-0400
TZNAME:EDT
DTSTART:20270314T070000
END:DAYLIGHT
BEGIN:STANDARD
TZOFFSETFROM:-0400
TZOFFSETTO:-0500
TZNAME:EST
DTSTART:20271107T060000
END:STANDARD
END:VTIMEZONE
BEGIN:VEVENT
DTSTART;TZID=America/New_York:20260512T080000
DTEND;TZID=America/New_York:20260512T163000
DTSTAMP:20260424T045522
CREATED:20260319T145849Z
LAST-MODIFIED:20260319T150942Z
UID:10001375-1778572800-1778603400@aprresources.com
SUMMARY:Fujitsu ETSD Greensburg
DESCRIPTION:COURSE OVERVIEW: \nThis is a one-day regional class providing in-depth troubleshooting for Inverter systems. The class is an instructor-led\, hands-on course offering classroom style training on multi-meters\, DC controls and circuits with diagnosis and testing of Fujitsu outdoor unit circuit boards. \nContractor gift of Fine Point Test Leads included. (Valued at $30) \n \n 
URL:https://aprresources.com/event/fujitsu-etsd-greensburg/
LOCATION:APR Supply Co – Greensburg\, 219 Humphrey Road\, Greensburg\, PA\, 15601\, United States
CATEGORIES:Training
ATTACH;FMTTYPE=image/png:https://aprresources.com/wp-content/uploads/2021/02/Fujitsu-ETSD.png
ORGANIZER;CN="APR Marketing Department":MAILTO:marketing@aprsupply.com
END:VEVENT
BEGIN:VEVENT
DTSTART;TZID=America/New_York:20260513T080000
DTEND;TZID=America/New_York:20260513T163000
DTSTAMP:20260424T045522
CREATED:20260319T151211Z
LAST-MODIFIED:20260319T151211Z
UID:10001376-1778659200-1778689800@aprresources.com
SUMMARY:Fujitsu ETSD Altoona
DESCRIPTION:COURSE OVERVIEW: \nThis is a one-day regional class providing in-depth troubleshooting for Inverter systems. The class is an instructor-led\, hands-on course offering classroom style training on multi-meters\, DC controls and circuits with diagnosis and testing of Fujitsu outdoor unit circuit boards. \nContractor gift of Fine Point Test Leads included. (Valued at $30) \n \n 
URL:https://aprresources.com/event/fujitsu-etsd-altoona/
LOCATION:APR Supply Co. – Altoona\, 4141 6th Avenue\, Altoona\, Pennsylvania\, United States
CATEGORIES:Training
ATTACH;FMTTYPE=image/png:https://aprresources.com/wp-content/uploads/2021/02/Fujitsu-ETSD.png
ORGANIZER;CN="APR Marketing Department":MAILTO:marketing@aprsupply.com
END:VEVENT
BEGIN:VEVENT
DTSTART;TZID=America/New_York:20260520T080000
DTEND;TZID=America/New_York:20260520T163000
DTSTAMP:20260424T045522
CREATED:20260319T182859Z
LAST-MODIFIED:20260319T182859Z
UID:10001381-1779264000-1779294600@aprresources.com
SUMMARY:Fujitsu ETSD Oregon Pike
DESCRIPTION:COURSE OVERVIEW: \nThis is a one-day regional class providing in-depth troubleshooting for Inverter systems. The class is an instructor-led\, hands-on course offering classroom style training on multi-meters\, DC controls and circuits with diagnosis and testing of Fujitsu outdoor unit circuit boards. \nContractor gift of Fine Point Test Leads included. (Valued at $30) \n \n 
URL:https://aprresources.com/event/fujitsu-etsd-oregon-pike/
LOCATION:APR Oregon Pike Corporate Office\, 1810 Oregon Pike\, Lancaster\, PA\, 17601\, United States
CATEGORIES:Training
ATTACH;FMTTYPE=image/png:https://aprresources.com/wp-content/uploads/2021/02/Fujitsu-ETSD.png
ORGANIZER;CN="APR Marketing Department":MAILTO:marketing@aprsupply.com
END:VEVENT
BEGIN:VEVENT
DTSTART;TZID=America/New_York:20260527T080000
DTEND;TZID=America/New_York:20260527T163000
DTSTAMP:20260424T045522
CREATED:20260319T183749Z
LAST-MODIFIED:20260319T183815Z
UID:10001383-1779868800-1779899400@aprresources.com
SUMMARY:Fujitsu ETSD Bridgeton
DESCRIPTION:COURSE OVERVIEW: \nThis is a one-day regional class providing in-depth troubleshooting for Inverter systems. The class is an instructor-led\, hands-on course offering classroom style training on multi-meters\, DC controls and circuits with diagnosis and testing of Fujitsu outdoor unit circuit boards. \nContractor gift of Fine Point Test Leads included. (Valued at $30) \n \n 
URL:https://aprresources.com/event/fujitsu-etsd-bridgeton/
LOCATION:APR Supply Co. – Bridgeton\, 756 North Pearl Street\, Bridgeton\, NJ\, 08302\, United States
CATEGORIES:Training
ATTACH;FMTTYPE=image/png:https://aprresources.com/wp-content/uploads/2021/02/Fujitsu-ETSD.png
ORGANIZER;CN="APR Marketing Department":MAILTO:marketing@aprsupply.com
END:VEVENT
BEGIN:VEVENT
DTSTART;TZID=America/New_York:20260623T080000
DTEND;TZID=America/New_York:20260623T163000
DTSTAMP:20260424T045522
CREATED:20260319T182231Z
LAST-MODIFIED:20260319T182231Z
UID:10001380-1782201600-1782232200@aprresources.com
SUMMARY:Fujitsu ETSD New Oxford
DESCRIPTION:COURSE OVERVIEW: \nThis is a one-day regional class providing in-depth troubleshooting for Inverter systems. The class is an instructor-led\, hands-on course offering classroom style training on multi-meters\, DC controls and circuits with diagnosis and testing of Fujitsu outdoor unit circuit boards. \nContractor gift of Fine Point Test Leads included. (Valued at $30) \n \n 
URL:https://aprresources.com/event/fujitsu-etsd-new-oxford-3/
LOCATION:APR Supply Co – New Oxford\, 310 Lincoln Way East\, New Oxford\, PA\, 17350\, United States
CATEGORIES:Training
ATTACH;FMTTYPE=image/png:https://aprresources.com/wp-content/uploads/2021/02/Fujitsu-ETSD.png
ORGANIZER;CN="APR Marketing Department":MAILTO:marketing@aprsupply.com
END:VEVENT
END:VCALENDAR