BEGIN:VCALENDAR
VERSION:2.0
PRODID:-// - ECPv6.15.20//NONSGML v1.0//EN
CALSCALE:GREGORIAN
METHOD:PUBLISH
X-ORIGINAL-URL:https://aprresources.com
X-WR-CALDESC:Events for 
REFRESH-INTERVAL;VALUE=DURATION:PT1H
X-Robots-Tag:noindex
X-PUBLISHED-TTL:PT1H
BEGIN:VTIMEZONE
TZID:America/New_York
BEGIN:DAYLIGHT
TZOFFSETFROM:-0500
TZOFFSETTO:-0400
TZNAME:EDT
DTSTART:20250309T070000
END:DAYLIGHT
BEGIN:STANDARD
TZOFFSETFROM:-0400
TZOFFSETTO:-0500
TZNAME:EST
DTSTART:20251102T060000
END:STANDARD
BEGIN:DAYLIGHT
TZOFFSETFROM:-0500
TZOFFSETTO:-0400
TZNAME:EDT
DTSTART:20260308T070000
END:DAYLIGHT
BEGIN:STANDARD
TZOFFSETFROM:-0400
TZOFFSETTO:-0500
TZNAME:EST
DTSTART:20261101T060000
END:STANDARD
BEGIN:DAYLIGHT
TZOFFSETFROM:-0500
TZOFFSETTO:-0400
TZNAME:EDT
DTSTART:20270314T070000
END:DAYLIGHT
BEGIN:STANDARD
TZOFFSETFROM:-0400
TZOFFSETTO:-0500
TZNAME:EST
DTSTART:20271107T060000
END:STANDARD
END:VTIMEZONE
BEGIN:VEVENT
DTSTART;TZID=America/New_York:20260331T160000
DTEND;TZID=America/New_York:20260331T200000
DTSTAMP:20260424T073526
CREATED:20260311T142951Z
LAST-MODIFIED:20260311T143026Z
UID:10001359-1774972800-1774987200@aprresources.com
SUMMARY:2026 Allied Air Dealer Meeting East
DESCRIPTION:Join us for our exclusive Dealer-only event! \nLearn about 2026 updates\, explore growth opportunities\,\nand enjoy networking with industry experts.\nEvent Highlights:\n2026 Product Review with Equipment Onsite\nDealer Program & Marketing Updates\nNew Regulatory News with Jeff Thompson\nDinner & Drinks\nAnd More! \nClick Here to Reserve Your Space! \nRegistration Deadline: March 16\, 2026.
URL:https://aprresources.com/event/2026-allied-air-dealer-meeting_east/
LOCATION:Topgolf King of Prussia\, 588 N. Gulph Rd.\, King of Prussia\, PA\, 19406\, United States
CATEGORIES:Dealer Meeting
ATTACH;FMTTYPE=image/png:https://aprresources.com/wp-content/uploads/2025/02/Allied-Air-Dealer-Meeting-Header-Image.png
ORGANIZER;CN="APR Marketing Department":MAILTO:marketing@aprsupply.com
END:VEVENT
END:VCALENDAR