BEGIN:VCALENDAR
VERSION:2.0
PRODID:-// - ECPv6.15.20//NONSGML v1.0//EN
CALSCALE:GREGORIAN
METHOD:PUBLISH
X-ORIGINAL-URL:https://aprresources.com
X-WR-CALDESC:Events for 
REFRESH-INTERVAL;VALUE=DURATION:PT1H
X-Robots-Tag:noindex
X-PUBLISHED-TTL:PT1H
BEGIN:VTIMEZONE
TZID:America/New_York
BEGIN:DAYLIGHT
TZOFFSETFROM:-0500
TZOFFSETTO:-0400
TZNAME:EDT
DTSTART:20250309T070000
END:DAYLIGHT
BEGIN:STANDARD
TZOFFSETFROM:-0400
TZOFFSETTO:-0500
TZNAME:EST
DTSTART:20251102T060000
END:STANDARD
BEGIN:DAYLIGHT
TZOFFSETFROM:-0500
TZOFFSETTO:-0400
TZNAME:EDT
DTSTART:20260308T070000
END:DAYLIGHT
BEGIN:STANDARD
TZOFFSETFROM:-0400
TZOFFSETTO:-0500
TZNAME:EST
DTSTART:20261101T060000
END:STANDARD
BEGIN:DAYLIGHT
TZOFFSETFROM:-0500
TZOFFSETTO:-0400
TZNAME:EDT
DTSTART:20270314T070000
END:DAYLIGHT
BEGIN:STANDARD
TZOFFSETFROM:-0400
TZOFFSETTO:-0500
TZNAME:EST
DTSTART:20271107T060000
END:STANDARD
END:VTIMEZONE
BEGIN:VEVENT
DTSTART;TZID=America/New_York:20260528T080000
DTEND;TZID=America/New_York:20260528T120000
DTSTAMP:20260424T045523
CREATED:20260319T184558Z
LAST-MODIFIED:20260319T184558Z
UID:10001384-1779955200-1779969600@aprresources.com
SUMMARY:Bosch IDS Training Malvern
DESCRIPTION:Training Includes: \n– Review of IDS match-ups\n– Detail of differences between 15\, 18 & 20 SEER systems\n– Installation procedures\n– How to charge the system in cold weather months\n– How to perform sub-cooling and superheat tests\n– Thermostat compatibility and programming\n– Review of wiring diagrams\n– Info on Bosch Dealer Program and Bosch Home Comfort Pro \n*Lunch Provided \n**Click here to view APR’s new registration and cancellation policies.
URL:https://aprresources.com/event/bosch-ids-training-malvern-2/
LOCATION:APR Supply Co – Malvern\, 81 Lancaster Avenue\, Great Valley Center\, Malvern\, PA\, 19355\, United States
CATEGORIES:Training
ATTACH;FMTTYPE=image/png:https://aprresources.com/wp-content/uploads/2024/02/Bosch-Featured-Pic.png
ORGANIZER;CN="APR Marketing Department":MAILTO:marketing@aprsupply.com
END:VEVENT
END:VCALENDAR