BEGIN:VCALENDAR
VERSION:2.0
PRODID:-// - ECPv6.15.20//NONSGML v1.0//EN
CALSCALE:GREGORIAN
METHOD:PUBLISH
X-ORIGINAL-URL:https://aprresources.com
X-WR-CALDESC:Events for 
REFRESH-INTERVAL;VALUE=DURATION:PT1H
X-Robots-Tag:noindex
X-PUBLISHED-TTL:PT1H
BEGIN:VTIMEZONE
TZID:America/New_York
BEGIN:DAYLIGHT
TZOFFSETFROM:-0500
TZOFFSETTO:-0400
TZNAME:EDT
DTSTART:20250309T070000
END:DAYLIGHT
BEGIN:STANDARD
TZOFFSETFROM:-0400
TZOFFSETTO:-0500
TZNAME:EST
DTSTART:20251102T060000
END:STANDARD
BEGIN:DAYLIGHT
TZOFFSETFROM:-0500
TZOFFSETTO:-0400
TZNAME:EDT
DTSTART:20260308T070000
END:DAYLIGHT
BEGIN:STANDARD
TZOFFSETFROM:-0400
TZOFFSETTO:-0500
TZNAME:EST
DTSTART:20261101T060000
END:STANDARD
BEGIN:DAYLIGHT
TZOFFSETFROM:-0500
TZOFFSETTO:-0400
TZNAME:EDT
DTSTART:20270314T070000
END:DAYLIGHT
BEGIN:STANDARD
TZOFFSETFROM:-0400
TZOFFSETTO:-0500
TZNAME:EST
DTSTART:20271107T060000
END:STANDARD
END:VTIMEZONE
BEGIN:VEVENT
DTSTART;TZID=America/New_York:20260507T130000
DTEND;TZID=America/New_York:20260507T170000
DTSTAMP:20260424T043805
CREATED:20260319T144233Z
LAST-MODIFIED:20260319T144748Z
UID:10001374-1778158800-1778173200@aprresources.com
SUMMARY:Airflow & System Performance Training Southampton
DESCRIPTION:Course Details:  \nJoin us for a course on basic airflow and system performance. \nTopics include:\n• Measuring airflow\n• What airflow is necessary\n• Calculating operating system BTU performance\n• Using static pressure to set system airflow\n• Calculating system delivered BTU vs. equipment BTU \nTrainer: Mark Elmer  \nPlease note: APR Supply Co. has implemented a payment and cancellation policy. Please click here to view these new stipulations.  \n*Includes light breakfast refreshments\, lunch\, and all class materials.  
URL:https://aprresources.com/event/airflow-system-performance-training-southampton/
LOCATION:APR Supply Co – Southampton\, 505 Keystone Road\, Southampton\, PA\, 18966\, United States
CATEGORIES:Training
ATTACH;FMTTYPE=image/png:https://aprresources.com/wp-content/uploads/2024/01/Airflow-Featured-Image-.png
ORGANIZER;CN="APR Marketing Department":MAILTO:marketing@aprsupply.com
END:VEVENT
END:VCALENDAR