BEGIN:VCALENDAR
VERSION:2.0
PRODID:-// - ECPv6.15.20//NONSGML v1.0//EN
CALSCALE:GREGORIAN
METHOD:PUBLISH
X-ORIGINAL-URL:https://aprresources.com
X-WR-CALDESC:Events for 
REFRESH-INTERVAL;VALUE=DURATION:PT1H
X-Robots-Tag:noindex
X-PUBLISHED-TTL:PT1H
BEGIN:VTIMEZONE
TZID:America/New_York
BEGIN:DAYLIGHT
TZOFFSETFROM:-0500
TZOFFSETTO:-0400
TZNAME:EDT
DTSTART:20240310T070000
END:DAYLIGHT
BEGIN:STANDARD
TZOFFSETFROM:-0400
TZOFFSETTO:-0500
TZNAME:EST
DTSTART:20241103T060000
END:STANDARD
BEGIN:DAYLIGHT
TZOFFSETFROM:-0500
TZOFFSETTO:-0400
TZNAME:EDT
DTSTART:20250309T070000
END:DAYLIGHT
BEGIN:STANDARD
TZOFFSETFROM:-0400
TZOFFSETTO:-0500
TZNAME:EST
DTSTART:20251102T060000
END:STANDARD
BEGIN:DAYLIGHT
TZOFFSETFROM:-0500
TZOFFSETTO:-0400
TZNAME:EDT
DTSTART:20260308T070000
END:DAYLIGHT
BEGIN:STANDARD
TZOFFSETFROM:-0400
TZOFFSETTO:-0500
TZNAME:EST
DTSTART:20261101T060000
END:STANDARD
END:VTIMEZONE
BEGIN:VEVENT
DTSTART;TZID=America/New_York:20251106T080000
DTEND;TZID=America/New_York:20251106T120000
DTSTAMP:20260424T223220
CREATED:20250915T185647Z
LAST-MODIFIED:20251103T210046Z
UID:10001335-1762416000-1762430400@aprresources.com
SUMMARY:MagicPak A2L Changes in Installation Practices—Pittsburgh
DESCRIPTION:This class will cover the steps that MagicPak is implementing to meet the requirements of the EPA’s technology transition rule. It will cover MagicPak’s refrigerant detection systems\, and any specific items that will need to be installed to comply with the new rules. \n* includes light breakfast and all class materials \n**Click here to view APR’s new registration and cancellation policies.
URL:https://aprresources.com/event/magicpak-a2l-changes-in-installation-practices-pittsburgh/
LOCATION:APR Supply Co – Pittsburgh\, 311 Brushton Avenue\, Pittsburgh\, PA\, 15221\, United States
CATEGORIES:Training
ATTACH;FMTTYPE=image/png:https://aprresources.com/wp-content/uploads/2025/01/MagicPak-Featured-Pic-.png
ORGANIZER;CN="APR Marketing Department":MAILTO:marketing@aprsupply.com
END:VEVENT
BEGIN:VEVENT
DTSTART;TZID=America/New_York:20251119T080000
DTEND;TZID=America/New_York:20251119T120000
DTSTAMP:20260424T223220
CREATED:20250915T180149Z
LAST-MODIFIED:20251117T184444Z
UID:10001334-1763539200-1763553600@aprresources.com
SUMMARY:MagicPak A2L Changes in Installation Practices—Newark
DESCRIPTION:This class will cover the steps that MagicPak is implementing to meet the requirements of the EPA’s technology transition rule. It will cover MagicPak’s refrigerant detection systems\, and any specific items that will need to be installed to comply with the new rules. \n* includes light breakfast and all class materials \n**Click here to view APR’s new registration and cancellation policies.
URL:https://aprresources.com/event/magicpak-a2l-changes-in-installation-practices-newark/
LOCATION:APR Supply Co – Newark\, 718 Stanton Christiana Road\, Newark\, DE\, 19713\, United States
CATEGORIES:Training
ATTACH;FMTTYPE=image/png:https://aprresources.com/wp-content/uploads/2025/01/MagicPak-Featured-Pic-.png
ORGANIZER;CN="APR Marketing Department":MAILTO:marketing@aprsupply.com
END:VEVENT
BEGIN:VEVENT
DTSTART;TZID=America/New_York:20251121T090000
DTEND;TZID=America/New_York:20251121T160000
DTSTAMP:20260424T223220
CREATED:20250718T152233Z
LAST-MODIFIED:20250718T152233Z
UID:10001252-1763715600-1763740800@aprresources.com
SUMMARY:PPA TEC A2L Refrigerant Training and Certification
DESCRIPTION:The HVACR industry is transitioning away from equipment that uses R-410A in favor of new equipment with Low GWP Refrigerants such as R-32 and R-454B. Our trainers will teach you to properly handle\, store and transport Low GWP Refrigerants. Test results are mailed to ESCO Institute and graded solely by ESCO. \nDid you know? \n·These are classified as A2L refrigerants\, or mildly flammable by ASHRAE? \n·That most systems will have refrigerant detection systems on board that can shut a system down in the event of a leak? \n·How you store and transport refrigerant cylinders will change? \nCost Structure \n\nPPATEC Members – Normal Registration ($250): For PPATEC Members\nNon Members – Normal Registration ($400): For Non Members\n\nLunch is provided for attendees at no additional cost. \nOur Instructors: \nMike Elmer has been in the HVAC and plumbing industry since 2002 and has worked for leading contractors in the South Central PA region. His background includes service HVAC\, plumbing\, and electric. Mike currently works in the field as a lead troubleshooting service technician. \nDoug Zerbe has been in the HVAC industry since 2003.  On the contractor side of the industry\, he has worked as an installer and service technician before he moved into installation and service management.  Doug also had the opportunity to work in technical support for an HVAC distributor and in sales for an HVAC manufacturer. \nHotel Accommodations \n\nPPATEC is pleased to partner with local hotels that are in close proximity to our primary training venues. Our hotel partners offer student discounted rates on overnight accommodations. Please see the link below to visit our hotel partners page. \nClick Here for Hotel Partners \n\n\n  \n\n\n\n\n\n\n\n\n\n\n\n\n\nEvent Item Name\nExpires\nPricing\n\n\n\n\nMember Price – Discounted price is for PPA members and PPATEC members.\nNov 20\, 2025\n\n\n$250.00\n\n\n\nNon-Member Ticket – Full ticket price is for non PPA or PPATEC members\nNov 20\, 2025\n\n\n$400.00
URL:https://aprresources.com/event/ppa-tec-a2l-refrigerant-training-and-certification/
LOCATION:PPA Technical Education Center\, 10107 Jonestown Road\, Grantville\, PA\, 17028\, United States
CATEGORIES:Training
ATTACH;FMTTYPE=image/png:https://aprresources.com/wp-content/uploads/2024/01/PPATEC-Featured-Pic-2.png
ORGANIZER;CN="PPA TEC":MAILTO:training@papetroleum.org
END:VEVENT
END:VCALENDAR