BEGIN:VCALENDAR
VERSION:2.0
PRODID:-// - ECPv6.15.20//NONSGML v1.0//EN
CALSCALE:GREGORIAN
METHOD:PUBLISH
X-ORIGINAL-URL:https://aprresources.com
X-WR-CALDESC:Events for 
REFRESH-INTERVAL;VALUE=DURATION:PT1H
X-Robots-Tag:noindex
X-PUBLISHED-TTL:PT1H
BEGIN:VTIMEZONE
TZID:America/New_York
BEGIN:DAYLIGHT
TZOFFSETFROM:-0500
TZOFFSETTO:-0400
TZNAME:EDT
DTSTART:20200308T070000
END:DAYLIGHT
BEGIN:STANDARD
TZOFFSETFROM:-0400
TZOFFSETTO:-0500
TZNAME:EST
DTSTART:20201101T060000
END:STANDARD
BEGIN:DAYLIGHT
TZOFFSETFROM:-0500
TZOFFSETTO:-0400
TZNAME:EDT
DTSTART:20210314T070000
END:DAYLIGHT
BEGIN:STANDARD
TZOFFSETFROM:-0400
TZOFFSETTO:-0500
TZNAME:EST
DTSTART:20211107T060000
END:STANDARD
BEGIN:DAYLIGHT
TZOFFSETFROM:-0500
TZOFFSETTO:-0400
TZNAME:EDT
DTSTART:20220313T070000
END:DAYLIGHT
BEGIN:STANDARD
TZOFFSETFROM:-0400
TZOFFSETTO:-0500
TZNAME:EST
DTSTART:20221106T060000
END:STANDARD
BEGIN:DAYLIGHT
TZOFFSETFROM:-0500
TZOFFSETTO:-0400
TZNAME:EDT
DTSTART:20230312T070000
END:DAYLIGHT
BEGIN:STANDARD
TZOFFSETFROM:-0400
TZOFFSETTO:-0500
TZNAME:EST
DTSTART:20231105T060000
END:STANDARD
BEGIN:DAYLIGHT
TZOFFSETFROM:-0500
TZOFFSETTO:-0400
TZNAME:EDT
DTSTART:20240310T070000
END:DAYLIGHT
BEGIN:STANDARD
TZOFFSETFROM:-0400
TZOFFSETTO:-0500
TZNAME:EST
DTSTART:20241103T060000
END:STANDARD
BEGIN:DAYLIGHT
TZOFFSETFROM:-0500
TZOFFSETTO:-0400
TZNAME:EDT
DTSTART:20250309T070000
END:DAYLIGHT
BEGIN:STANDARD
TZOFFSETFROM:-0400
TZOFFSETTO:-0500
TZNAME:EST
DTSTART:20251102T060000
END:STANDARD
BEGIN:DAYLIGHT
TZOFFSETFROM:-0500
TZOFFSETTO:-0400
TZNAME:EDT
DTSTART:20260308T070000
END:DAYLIGHT
BEGIN:STANDARD
TZOFFSETFROM:-0400
TZOFFSETTO:-0500
TZNAME:EST
DTSTART:20261101T060000
END:STANDARD
END:VTIMEZONE
BEGIN:VEVENT
DTSTART;TZID=America/New_York:20250903T090000
DTEND;TZID=America/New_York:20250903T150000
DTSTAMP:20260424T075701
CREATED:20250610T203359Z
LAST-MODIFIED:20250610T204636Z
UID:10001203-1756890000-1756911600@aprresources.com
SUMMARY:A2L Refrigerant Training & Certification—Easton\, PA
DESCRIPTION:The HVACR industry is transitioning away from equipment that uses R-410A in favor of new equipment with Low GWP Refrigerants such as R-32 and R-454B. Our trainers will teach you to properly handle\, store and transport Low GWP Refrigerants.  Please note\, APR Supply Co. will provide the training\, course materials and test. Test results are mailed to ESCO Institute and graded solely by ESCO. ​ \nDid you know? \n·These are classified as A2L refrigerants\, or mildly flammable by ASHRAE? \n·That most systems will have refrigerant detection systems on board that can shut a system down in the event of a leak? \n·How you store and transport refrigerant cylinders will change? \nTrainer: Mark Elmer \nPlease note: APR Supply Co. has implemented a payment and cancellation policy. Please click here to view these stipulations.  \n*Includes light breakfast\, full lunch\, and all class materials
URL:https://aprresources.com/event/a2l-refrigerant-training-certification-easton-pa/
LOCATION:APR Supply Co – Easton\, 1200 Balata Street\, Easton\, PA\, 18042\, United States
CATEGORIES:Large Event,Training
ATTACH;FMTTYPE=image/png:https://aprresources.com/wp-content/uploads/2024/03/A2L-Featured-Pic-.png
ORGANIZER;CN="APR Marketing Department":MAILTO:marketing@aprsupply.com
END:VEVENT
BEGIN:VEVENT
DTSTART;TZID=America/New_York:20250521T160000
DTEND;TZID=America/New_York:20250521T200000
DTSTAMP:20260424T075701
CREATED:20250408T173214Z
LAST-MODIFIED:20250408T173214Z
UID:10001158-1747843200-1747857600@aprresources.com
SUMMARY:2025 Commercial Connection
DESCRIPTION:Join us for a one-of-a-kind evening built for the pros who power commercial\, mechanical\, and industrial projects. \n• Network with top-tier manufacturers\n• Talk shop with fellow contractors and industry experts\n• Discover the latest products\, innovations\, and solutions\n• Enjoy craft beer\, food\, and good conversation \nPlease RSVP by May 5th. \nClick here to register. \n 
URL:https://aprresources.com/event/2025-commercial-connection/
LOCATION:Troegs Independent Brewing\, 200 Hersheypark Drvie\, Hershey\, 17033\, United States
CATEGORIES:Large Event,Regional Event
ATTACH;FMTTYPE=image/png:https://aprresources.com/wp-content/uploads/2025/04/Commercial-Connection-Header.png
ORGANIZER;CN="APR Marketing Department":MAILTO:marketing@aprsupply.com
END:VEVENT
BEGIN:VEVENT
DTSTART;TZID=America/New_York:20240821T130000
DTEND;TZID=America/New_York:20240821T180000
DTSTAMP:20260424T075701
CREATED:20240701T144834Z
LAST-MODIFIED:20240701T144834Z
UID:10000903-1724245200-1724263200@aprresources.com
SUMMARY:22nd APR Buying Show - Monroeville\, PA
DESCRIPTION:We’re back again in 2024 with an amazing show at the Monroeville Convention Center! All of the traditional Buying Show elements that you know and love will still be included and be bigger and better than ever for our 22nd year! \n\n\n\n\n\n\n\n\n\n\n\nLive Vendor Interactions\nIndustry Networking\nNew Product Demonstrations\nSpecial Buying Promotions\nInstant Cash Opportunities\nGrand & Mega Prize Drawings\nMulti Chance Prizes\nBuffet Dinner\n\n\n\nTo learn more and register\, visit the Buying Show event page. \nwww. aprsupply.com/buyingshow \n 
URL:https://aprresources.com/event/22nd-apr-buying-show-monroeville-pa-2/
LOCATION:Monroeville Convention Center\, 209 Mall Plaza Blvd\, Monroeville\, 15146\, United States
CATEGORIES:Large Event
ATTACH;FMTTYPE=image/jpeg:https://aprresources.com/wp-content/uploads/2023/08/Aerial-View-of-Show-scaled.jpg
ORGANIZER;CN="APR Marketing Department":MAILTO:marketing@aprsupply.com
END:VEVENT
BEGIN:VEVENT
DTSTART;TZID=America/New_York:20240814T120000
DTEND;TZID=America/New_York:20240814T190000
DTSTAMP:20260424T075701
CREATED:20240701T144454Z
LAST-MODIFIED:20240701T144454Z
UID:10000901-1723636800-1723662000@aprresources.com
SUMMARY:22nd APR Buying Show - Hershey\, PA
DESCRIPTION:We’re back again in 2024 with an amazing show at the Hershey Lodge & Convention Center! All of the traditional Buying Show elements that you know and love will still be included and be bigger and better than ever for our 22nd year! \n\n\n\n\n\n\n\n\n\n\n\nLive Vendor Interactions\nIndustry Networking\nNew Product Demonstrations\nSpecial Buying Promotions\nInstant Cash Opportunities\nGrand & Mega Prize Drawings\nMulti Chance Prizes\nBuffet Dinner\n\n\n\nTo learn more and register\, visit the Buying Show event page. \nwww. aprsupply.com/buyingshow \n 
URL:https://aprresources.com/event/22nd-apr-buying-show-hershey-pa/
LOCATION:Hershey Lodge & Convention Center\, 325 University Drive\, Hershey\, PA\, 17033\, United States
CATEGORIES:Large Event
ATTACH;FMTTYPE=image/jpeg:https://aprresources.com/wp-content/uploads/2023/08/Aerial-View-of-Show-scaled.jpg
ORGANIZER;CN="APR Marketing Department":MAILTO:marketing@aprsupply.com
END:VEVENT
BEGIN:VEVENT
DTSTART;TZID=America/New_York:20220504T150000
DTEND;TZID=America/New_York:20220504T190000
DTSTAMP:20260424T075701
CREATED:20220415T132236Z
LAST-MODIFIED:20220426T160426Z
UID:10000251-1651676400-1651690800@aprresources.com
SUMMARY:Altoona Spring Vendor Fair
DESCRIPTION:Join us for a delicious dinner buffet and complimentary drinks. Find out about the latest products\, troubleshooting and more from our participating vendor partners. \n\n\n\nClick the button below to register. \n\n\n\n	\n	\n	\n	\n    \n\n	    \n    \n        Registration is closed for this event.
URL:https://aprresources.com/event/altoona-spring-vendor-fair/
LOCATION:Homer’s Gap Civic Association\, 135 Preston Ln\, Altoona\, Pennsylvania\, 16601\, United States
CATEGORIES:Large Event
ATTACH;FMTTYPE=image/png:https://aprresources.com/wp-content/uploads/2022/04/Altoona-Spring-Vendor-Fair.png
END:VEVENT
BEGIN:VEVENT
DTSTART;TZID=America/New_York:20210817T120000
DTEND;TZID=America/New_York:20210817T200000
DTSTAMP:20260424T075701
CREATED:20210713T133442Z
LAST-MODIFIED:20210713T133516Z
UID:10000163-1629201600-1629230400@aprresources.com
SUMMARY:19th Annual Buying Show - West
DESCRIPTION:Click Here to Register
URL:https://aprresources.com/event/19th-annual-buying-show-west/
LOCATION:PA
CATEGORIES:Large Event
ATTACH;FMTTYPE=image/png:https://aprresources.com/wp-content/uploads/2021/07/Buying-Show-Logo.png
END:VEVENT
BEGIN:VEVENT
DTSTART;TZID=America/New_York:20210811T120000
DTEND;TZID=America/New_York:20210811T200000
DTSTAMP:20260424T075701
CREATED:20210713T133151Z
LAST-MODIFIED:20210713T133502Z
UID:10000162-1628683200-1628712000@aprresources.com
SUMMARY:19th Annual Buying Show
DESCRIPTION:Click Here to Register
URL:https://aprresources.com/event/19th-annual-buying-show/
LOCATION:PA
CATEGORIES:Large Event
ATTACH;FMTTYPE=image/png:https://aprresources.com/wp-content/uploads/2021/07/Buying-Show-Logo.png
END:VEVENT
END:VCALENDAR