BEGIN:VCALENDAR
VERSION:2.0
PRODID:-// - ECPv6.15.20//NONSGML v1.0//EN
CALSCALE:GREGORIAN
METHOD:PUBLISH
X-ORIGINAL-URL:https://aprresources.com
X-WR-CALDESC:Events for 
REFRESH-INTERVAL;VALUE=DURATION:PT1H
X-Robots-Tag:noindex
X-PUBLISHED-TTL:PT1H
BEGIN:VTIMEZONE
TZID:America/New_York
BEGIN:DAYLIGHT
TZOFFSETFROM:-0500
TZOFFSETTO:-0400
TZNAME:EDT
DTSTART:20230312T070000
END:DAYLIGHT
BEGIN:STANDARD
TZOFFSETFROM:-0400
TZOFFSETTO:-0500
TZNAME:EST
DTSTART:20231105T060000
END:STANDARD
BEGIN:DAYLIGHT
TZOFFSETFROM:-0500
TZOFFSETTO:-0400
TZNAME:EDT
DTSTART:20240310T070000
END:DAYLIGHT
BEGIN:STANDARD
TZOFFSETFROM:-0400
TZOFFSETTO:-0500
TZNAME:EST
DTSTART:20241103T060000
END:STANDARD
BEGIN:DAYLIGHT
TZOFFSETFROM:-0500
TZOFFSETTO:-0400
TZNAME:EDT
DTSTART:20250309T070000
END:DAYLIGHT
BEGIN:STANDARD
TZOFFSETFROM:-0400
TZOFFSETTO:-0500
TZNAME:EST
DTSTART:20251102T060000
END:STANDARD
BEGIN:DAYLIGHT
TZOFFSETFROM:-0500
TZOFFSETTO:-0400
TZNAME:EDT
DTSTART:20260308T070000
END:DAYLIGHT
BEGIN:STANDARD
TZOFFSETFROM:-0400
TZOFFSETTO:-0500
TZNAME:EST
DTSTART:20261101T060000
END:STANDARD
BEGIN:DAYLIGHT
TZOFFSETFROM:-0500
TZOFFSETTO:-0400
TZNAME:EDT
DTSTART:20270314T070000
END:DAYLIGHT
BEGIN:STANDARD
TZOFFSETFROM:-0400
TZOFFSETTO:-0500
TZNAME:EST
DTSTART:20271107T060000
END:STANDARD
END:VTIMEZONE
BEGIN:VEVENT
DTSTART;TZID=America/New_York:20260331T160000
DTEND;TZID=America/New_York:20260331T200000
DTSTAMP:20260424T063330
CREATED:20260311T142951Z
LAST-MODIFIED:20260311T143026Z
UID:10001359-1774972800-1774987200@aprresources.com
SUMMARY:2026 Allied Air Dealer Meeting East
DESCRIPTION:Join us for our exclusive Dealer-only event! \nLearn about 2026 updates\, explore growth opportunities\,\nand enjoy networking with industry experts.\nEvent Highlights:\n2026 Product Review with Equipment Onsite\nDealer Program & Marketing Updates\nNew Regulatory News with Jeff Thompson\nDinner & Drinks\nAnd More! \nClick Here to Reserve Your Space! \nRegistration Deadline: March 16\, 2026.
URL:https://aprresources.com/event/2026-allied-air-dealer-meeting_east/
LOCATION:Topgolf King of Prussia\, 588 N. Gulph Rd.\, King of Prussia\, PA\, 19406\, United States
CATEGORIES:Dealer Meeting
ATTACH;FMTTYPE=image/png:https://aprresources.com/wp-content/uploads/2025/02/Allied-Air-Dealer-Meeting-Header-Image.png
ORGANIZER;CN="APR Marketing Department":MAILTO:marketing@aprsupply.com
END:VEVENT
BEGIN:VEVENT
DTSTART;TZID=America/New_York:20250410T160000
DTEND;TZID=America/New_York:20250410T200000
DTSTAMP:20260424T063330
CREATED:20250228T170029Z
LAST-MODIFIED:20250228T185702Z
UID:10001119-1744300800-1744315200@aprresources.com
SUMMARY:2025 Allied Air Dealer Meeting_East
DESCRIPTION:Join us for our exclusive Dealer-only event! \nLearn about 2025 updates\, explore growth opportunities\,\nand enjoy networking with industry experts.\nEvent Highlights:\n2025 Product Review with Equipment Onsite\nDealer Program & Marketing Updates\nNew Regulatory News with Jeff Thompson\nDinner & Drinks\nAnd More! \nClick Here to Reserve Your Space! \nRegistration Deadline: March 20\, 2025.
URL:https://aprresources.com/event/2025-allied-air-dealer-meeting/
LOCATION:Crowne Plaza – King of Prussia\, 206 Mall Blvd\, King of Prussia\, 19406\, United States
CATEGORIES:Dealer Meeting
ATTACH;FMTTYPE=image/png:https://aprresources.com/wp-content/uploads/2025/02/Allied-Air-Dealer-Meeting-Header-Image.png
ORGANIZER;CN="APR Marketing Department":MAILTO:marketing@aprsupply.com
END:VEVENT
BEGIN:VEVENT
DTSTART;TZID=America/New_York:20250403T160000
DTEND;TZID=America/New_York:20250403T200000
DTSTAMP:20260424T063330
CREATED:20250228T193404Z
LAST-MODIFIED:20250301T174507Z
UID:10001120-1743696000-1743710400@aprresources.com
SUMMARY:2025 Allied Air Dealer Meeting_West
DESCRIPTION:Join us for our exclusive Dealer-only event! \nLearn about 2025 updates\, explore growth opportunities\,\nand enjoy networking with industry experts.\nEvent Highlights:\n2025 Product Review with Equipment Onsite\nDealer Program & Marketing Updates\nNew Regulatory News with Jeff Thompson\nDinner & Drinks\nAnd More! \nClick Here to Reserve Your Space! \nRegistration Deadline: March 20\, 2025.
URL:https://aprresources.com/event/2025-allied-air-dealer-meeting_west/
LOCATION:Live! Casino Pittsburgh\, 5260 Route 30\, Greensburg\, PA\, 15601\, United States
CATEGORIES:Dealer Meeting
ATTACH;FMTTYPE=image/png:https://aprresources.com/wp-content/uploads/2025/02/Allied-Air-Dealer-Meeting-Header-Image.png
ORGANIZER;CN="APR Marketing Department":MAILTO:marketing@aprsupply.com
END:VEVENT
BEGIN:VEVENT
DTSTART;TZID=America/New_York:20240509T170000
DTEND;TZID=America/New_York:20240509T200000
DTSTAMP:20260424T063330
CREATED:20240329T201838Z
LAST-MODIFIED:20240410T195737Z
UID:10000804-1715274000-1715284800@aprresources.com
SUMMARY:Western Region Allied Air Network Night
DESCRIPTION:Join APR Supply Co. and Tim Wallace for a fun evening at Voodoo Brewery – Pittsburgh Pub. Sip on a tasty beer\, eat some yummy food\, hear about the latest Allied Air product line and some regulatory updates. Hope to see you there!
URL:https://aprresources.com/event/western-region-allied-air-network-night/
LOCATION:Voodoo Brewery – Pittsburgh Pub\, 337 N Shore Dr \, PA\, Pittsburgh\, PA\, 15212\, United States
CATEGORIES:Dealer Meeting
ORGANIZER;CN="Katelynne Reese":MAILTO:kreese@aprsupply.com
END:VEVENT
BEGIN:VEVENT
DTSTART;TZID=America/New_York:20240507T080000
DTEND;TZID=America/New_York:20240507T110000
DTSTAMP:20260424T063330
CREATED:20240329T192009Z
LAST-MODIFIED:20240410T195807Z
UID:10000803-1715068800-1715079600@aprresources.com
SUMMARY:Allied Air Dealer Meeting
DESCRIPTION:You are invited to join us for an exclusive dealer only event to learn about the latest Allied Air products from Mid-Atlantic Sales Manager Tim Wallace. Our very own Jeff Thompson will be on site to talk through the 2024 regulatory updates as well.
URL:https://aprresources.com/event/allied-air-dealer-meeting-3/
LOCATION:Blue Bell Country Club\, 1800 Tournament Dr.\, Blue Bell\, Pennsylvania\, 19422\, United States
CATEGORIES:Dealer Meeting
ORGANIZER;CN="Katelynne Reese":MAILTO:kreese@aprsupply.com
END:VEVENT
END:VCALENDAR