BEGIN:VCALENDAR
VERSION:2.0
PRODID:-// - ECPv6.15.20//NONSGML v1.0//EN
CALSCALE:GREGORIAN
METHOD:PUBLISH
X-ORIGINAL-URL:https://aprresources.com
X-WR-CALDESC:Events for 
REFRESH-INTERVAL;VALUE=DURATION:PT1H
X-Robots-Tag:noindex
X-PUBLISHED-TTL:PT1H
BEGIN:VTIMEZONE
TZID:America/New_York
BEGIN:DAYLIGHT
TZOFFSETFROM:-0500
TZOFFSETTO:-0400
TZNAME:EDT
DTSTART:20230312T070000
END:DAYLIGHT
BEGIN:STANDARD
TZOFFSETFROM:-0400
TZOFFSETTO:-0500
TZNAME:EST
DTSTART:20231105T060000
END:STANDARD
BEGIN:DAYLIGHT
TZOFFSETFROM:-0500
TZOFFSETTO:-0400
TZNAME:EDT
DTSTART:20240310T070000
END:DAYLIGHT
BEGIN:STANDARD
TZOFFSETFROM:-0400
TZOFFSETTO:-0500
TZNAME:EST
DTSTART:20241103T060000
END:STANDARD
BEGIN:DAYLIGHT
TZOFFSETFROM:-0500
TZOFFSETTO:-0400
TZNAME:EDT
DTSTART:20250309T070000
END:DAYLIGHT
BEGIN:STANDARD
TZOFFSETFROM:-0400
TZOFFSETTO:-0500
TZNAME:EST
DTSTART:20251102T060000
END:STANDARD
BEGIN:DAYLIGHT
TZOFFSETFROM:-0500
TZOFFSETTO:-0400
TZNAME:EDT
DTSTART:20260308T070000
END:DAYLIGHT
BEGIN:STANDARD
TZOFFSETFROM:-0400
TZOFFSETTO:-0500
TZNAME:EST
DTSTART:20261101T060000
END:STANDARD
END:VTIMEZONE
BEGIN:VEVENT
DTSTART;TZID=America/New_York:20250513T110000
DTEND;TZID=America/New_York:20250513T140000
DTSTAMP:20260424T121115
CREATED:20250424T172741Z
LAST-MODIFIED:20250424T172829Z
UID:10001168-1747134000-1747144800@aprresources.com
SUMMARY:Milwaukee Tool Counter Day—Reading
DESCRIPTION:Join us for a Milwaukee Tool Counter Day! Meet the rep\, check out the products\, enjoy light refreshments and 10% off purchases 5/13 only.
URL:https://aprresources.com/event/milwaukee-tool-counter-day-reading/
LOCATION:APR Supply Co – Reading\, 4220 Pottsville Pike\, Reading\, PA\, 19605\, United States
CATEGORIES:Counter Day
ATTACH;FMTTYPE=image/png:https://aprresources.com/wp-content/uploads/2025/03/Milwaukee-Featured-Pic.png
ORGANIZER;CN="APR Marketing Department":MAILTO:marketing@aprsupply.com
END:VEVENT
BEGIN:VEVENT
DTSTART;TZID=America/New_York:20250513T110000
DTEND;TZID=America/New_York:20250513T140000
DTSTAMP:20260424T121115
CREATED:20250414T173716Z
LAST-MODIFIED:20250414T184020Z
UID:10001160-1747134000-1747144800@aprresources.com
SUMMARY:Fieldpiece Counter Day—Lebanon
DESCRIPTION:Join us for a Fieldpiece Counter Day! Meet the rep\, check out the products\, enjoy light refreshments and more. \n 
URL:https://aprresources.com/event/fieldpiece-counter-day-lebanon/
LOCATION:APR Supply Co – Lebanon\, 305 N. 5th Street\, Lebanon\, PA\, 17046\, United States
CATEGORIES:Counter Day
ATTACH;FMTTYPE=image/png:https://aprresources.com/wp-content/uploads/2024/01/Fieldpiece-Logo.png
ORGANIZER;CN="APR Marketing Department":MAILTO:marketing@aprsupply.com
END:VEVENT
BEGIN:VEVENT
DTSTART;TZID=America/New_York:20250508T090000
DTEND;TZID=America/New_York:20250508T130000
DTSTAMP:20260424T121115
CREATED:20250120T163220Z
LAST-MODIFIED:20250120T163220Z
UID:10001072-1746694800-1746709200@aprresources.com
SUMMARY:Uponor/Milwaukee Tool Counter Day—South Hills
DESCRIPTION:Join us for an Uponor & Milwaukee Tool Counter Day! \nMeet the rep\, check out the products\, and enjoy light refreshments\, as well as 10% off Milwaukee Tool products!* \n*Enjoy 10% off Milwaukee Tools on this date only! (Note: Does not apply to drain cleaning tools\, inspection equipment\, and the new M18 roll groover.)
URL:https://aprresources.com/event/uponor-milwaukee-tool-counter-day-south-hills/
LOCATION:APR Supply Co – South Hills\, 1101 Rockwood Avenue\, Pittsburgh\, PA\, 15234\, United States
CATEGORIES:Counter Day
ATTACH;FMTTYPE=image/png:https://aprresources.com/wp-content/uploads/2024/11/Milwaukee-Uponor-Featured-Pic-.png
ORGANIZER;CN="APR Marketing Department":MAILTO:marketing@aprsupply.com
END:VEVENT
BEGIN:VEVENT
DTSTART;TZID=America/New_York:20250507T110000
DTEND;TZID=America/New_York:20250507T130000
DTSTAMP:20260424T121115
CREATED:20250328T142206Z
LAST-MODIFIED:20250328T142206Z
UID:10001155-1746615600-1746622800@aprresources.com
SUMMARY:Fieldpiece Counter Day—Easton
DESCRIPTION:Join us for a Fieldpiece Counter Day! Meet the rep\, check out the products\, enjoy light refreshments and more. \n 
URL:https://aprresources.com/event/fieldpiece-counter-day-easton/
LOCATION:APR Supply Co – Easton\, 1200 Balata Street\, Easton\, PA\, 18042\, United States
CATEGORIES:Counter Day
ATTACH;FMTTYPE=image/png:https://aprresources.com/wp-content/uploads/2024/01/Fieldpiece-Logo.png
ORGANIZER;CN="APR Marketing Department":MAILTO:marketing@aprsupply.com
END:VEVENT
BEGIN:VEVENT
DTSTART;TZID=America/New_York:20250507T110000
DTEND;TZID=America/New_York:20250507T130000
DTSTAMP:20260424T121115
CREATED:20250320T131133Z
LAST-MODIFIED:20250320T131141Z
UID:10001140-1746615600-1746622800@aprresources.com
SUMMARY:Pro Charge Counter Day—Malvern
DESCRIPTION:Join us for a Pro Charge Counter Day! Meet the rep\, check out the products\, and enjoy light refreshments. \n 
URL:https://aprresources.com/event/pro-charge-counter-day-malvern/
LOCATION:APR Supply Co – Malvern\, 81 Lancaster Avenue\, Great Valley Center\, Malvern\, PA\, 19355\, United States
CATEGORIES:Counter Day
ATTACH;FMTTYPE=image/png:https://aprresources.com/wp-content/uploads/2025/03/Pro-Charge.png
ORGANIZER;CN="APR Marketing Department":MAILTO:marketing@aprsupply.com
END:VEVENT
BEGIN:VEVENT
DTSTART;TZID=America/New_York:20250507T070000
DTEND;TZID=America/New_York:20250507T100000
DTSTAMP:20260424T121115
CREATED:20250325T150639Z
LAST-MODIFIED:20250325T150639Z
UID:10001147-1746601200-1746612000@aprresources.com
SUMMARY:Fieldpiece Counter Day—Bethlehem
DESCRIPTION:Join us for a Fieldpiece Counter Day! Meet the rep\, check out the products\, enjoy light refreshments and more. \n 
URL:https://aprresources.com/event/fieldpiece-counter-day-bethlehem/
LOCATION:APR Supply Co – Bethlehem\, 1302 W. Broad Street\, Bethlehem\, PA\, 18018\, United States
CATEGORIES:Counter Day
ATTACH;FMTTYPE=image/png:https://aprresources.com/wp-content/uploads/2024/01/Fieldpiece-Logo.png
ORGANIZER;CN="APR Marketing Department":MAILTO:marketing@aprsupply.com
END:VEVENT
BEGIN:VEVENT
DTSTART;TZID=America/New_York:20250506T110000
DTEND;TZID=America/New_York:20250506T130000
DTSTAMP:20260424T121115
CREATED:20250320T143145Z
LAST-MODIFIED:20250320T143145Z
UID:10001143-1746529200-1746536400@aprresources.com
SUMMARY:Pro Charge Counter Day—Reading
DESCRIPTION:Join us for a Pro Charge Counter Day! Meet the rep\, check out the products\, and enjoy light refreshments. \n 
URL:https://aprresources.com/event/pro-charge-counter-day-reading/
LOCATION:APR Supply Co – Reading\, 4220 Pottsville Pike\, Reading\, PA\, 19605\, United States
CATEGORIES:Counter Day
ATTACH;FMTTYPE=image/png:https://aprresources.com/wp-content/uploads/2025/03/Pro-Charge.png
ORGANIZER;CN="APR Marketing Department":MAILTO:marketing@aprsupply.com
END:VEVENT
BEGIN:VEVENT
DTSTART;TZID=America/New_York:20250501T130000
DTEND;TZID=America/New_York:20250501T150000
DTSTAMP:20260424T121115
CREATED:20250416T153534Z
LAST-MODIFIED:20250416T153553Z
UID:10001166-1746104400-1746111600@aprresources.com
SUMMARY:Zebra Counter Training—Williamsport
DESCRIPTION:Join us for a Zebra Instruments Counter Training! Join the rep and APR team to learn about the UZ1—Universal Zebra Tool and Zebra accessories. Zebra makes ECM testing and troubleshooting tools for the HVAC industry. Bonus! Their tools can also provide CFM and RPM data to make balancing and set-up of new equipment easier!
URL:https://aprresources.com/event/zebra-counter-training-williamsport/
LOCATION:APR Supply Co – Williamsport\, 1309 Commerce Park Drive\, Williamsport\, PA\, 17701\, United States
CATEGORIES:Counter Day,Training
ATTACH;FMTTYPE=image/png:https://aprresources.com/wp-content/uploads/2025/04/Zebra-Featured-Pic-.png
ORGANIZER;CN="APR Marketing Department":MAILTO:marketing@aprsupply.com
END:VEVENT
BEGIN:VEVENT
DTSTART;TZID=America/New_York:20250501T090000
DTEND;TZID=America/New_York:20250501T130000
DTSTAMP:20260424T121115
CREATED:20250120T161405Z
LAST-MODIFIED:20250120T161405Z
UID:10001071-1746090000-1746104400@aprresources.com
SUMMARY:Uponor/Milwaukee Tool Counter Day—North Hills
DESCRIPTION:Join us for an Uponor & Milwaukee Tool Counter Day! \nMeet the rep\, check out the products\, and enjoy light refreshments\, as well as 10% off Milwaukee Tool products!* \n*Enjoy 10% off Milwaukee Tools on this date only! (Note: Does not apply to drain cleaning tools\, inspection equipment\, and the new M18 roll groover.)
URL:https://aprresources.com/event/uponor-milwaukee-tool-counter-day-north-hills/
LOCATION:APR Supply Co – North Hills\, 2134 Babcock Blvd.\, Pittsburgh\, PA\, 15209\, United States
CATEGORIES:Counter Day
ATTACH;FMTTYPE=image/png:https://aprresources.com/wp-content/uploads/2024/11/Milwaukee-Uponor-Featured-Pic-.png
ORGANIZER;CN="APR Marketing Department":MAILTO:marketing@aprsupply.com
END:VEVENT
BEGIN:VEVENT
DTSTART;TZID=America/New_York:20250501T080000
DTEND;TZID=America/New_York:20250501T100000
DTSTAMP:20260424T121115
CREATED:20250416T153003Z
LAST-MODIFIED:20250416T153028Z
UID:10001165-1746086400-1746093600@aprresources.com
SUMMARY:Zebra Counter Training—Altoona
DESCRIPTION:Join us for a Zebra Instruments Counter Training! Join the rep and APR team to learn about the UZ1—Universal Zebra Tool and Zebra accessories. Zebra makes ECM testing and troubleshooting tools for the HVAC industry. Bonus! Their tools can also provide CFM and RPM data to make balancing and set-up of new equipment easier!
URL:https://aprresources.com/event/zebra-counter-training-altoona/
LOCATION:APR Supply Co – Altoona\, 4141 S. 6th Avenue\, Altoona\, PA\, 16603\, United States
CATEGORIES:Counter Day,Training
ATTACH;FMTTYPE=image/png:https://aprresources.com/wp-content/uploads/2025/04/Zebra-Featured-Pic-.png
ORGANIZER;CN="APR Marketing Department":MAILTO:marketing@aprsupply.com
END:VEVENT
BEGIN:VEVENT
DTSTART;TZID=America/New_York:20250430T130000
DTEND;TZID=America/New_York:20250430T150000
DTSTAMP:20260424T121115
CREATED:20250416T152849Z
LAST-MODIFIED:20250416T152849Z
UID:10001164-1746018000-1746025200@aprresources.com
SUMMARY:Zebra Counter Training—Pittsburgh
DESCRIPTION:Join us for a Zebra Instruments Counter Training! Join the rep and APR team to learn about the UZ1—Universal Zebra Tool and Zebra accessories. Zebra makes ECM testing and troubleshooting tools for the HVAC industry. Bonus! Their tools can also provide CFM and RPM data to make balancing and set-up of new equipment easier!
URL:https://aprresources.com/event/zebra-counter-training-pittsburgh/
LOCATION:APR Supply Co – Pittsburgh\, 311 Brushton Avenue\, Pittsburgh\, PA\, 15221\, United States
CATEGORIES:Counter Day,Training
ATTACH;FMTTYPE=image/png:https://aprresources.com/wp-content/uploads/2025/04/Zebra-Featured-Pic-.png
ORGANIZER;CN="APR Marketing Department":MAILTO:marketing@aprsupply.com
END:VEVENT
BEGIN:VEVENT
DTSTART;TZID=America/New_York:20250430T110000
DTEND;TZID=America/New_York:20250430T140000
DTSTAMP:20260424T121115
CREATED:20250304T150500Z
LAST-MODIFIED:20250304T150500Z
UID:10001125-1746010800-1746021600@aprresources.com
SUMMARY:Milwaukee Tool Counter Day—Ocean City
DESCRIPTION:Join us for a Milwaukee Tool Counter Day! Meet the rep\, check out the products\, enjoy light refreshments and 10% off purchases 4/30 only.
URL:https://aprresources.com/event/milwaukee-tool-counter-day-ocean-city/
LOCATION:APR Supply Co. – Ocean City\, 633 Haven Avenue\, Ocean City\, NJ\, 08226\, United States
CATEGORIES:Counter Day
ATTACH;FMTTYPE=image/png:https://aprresources.com/wp-content/uploads/2025/03/Milwaukee-Featured-Pic.png
ORGANIZER;CN="APR Marketing Department":MAILTO:marketing@aprsupply.com
END:VEVENT
BEGIN:VEVENT
DTSTART;TZID=America/New_York:20250430T100000
DTEND;TZID=America/New_York:20250430T140000
DTSTAMP:20260424T121115
CREATED:20250303T212746Z
LAST-MODIFIED:20250303T213508Z
UID:10001124-1746007200-1746021600@aprresources.com
SUMMARY:Milwaukee Counter Day—York
DESCRIPTION:Join us for a Milwaukee Tool Counter Day! Meet the rep\, check out the products\, enjoy light refreshments and 10% off purchases 4/30 only.
URL:https://aprresources.com/event/milwaukee-counter-day-york/
LOCATION:APR Supply Co – York\, 418 N. Pershing Avenue\, York\, PA\, 17404\, United States
CATEGORIES:Counter Day
ATTACH;FMTTYPE=image/png:https://aprresources.com/wp-content/uploads/2025/03/Milwaukee-Featured-Pic.png
ORGANIZER;CN="APR Marketing Department":MAILTO:marketing@aprsupply.com
END:VEVENT
BEGIN:VEVENT
DTSTART;TZID=America/New_York:20250430T090000
DTEND;TZID=America/New_York:20250430T110000
DTSTAMP:20260424T121115
CREATED:20250416T152648Z
LAST-MODIFIED:20250416T152648Z
UID:10001163-1746003600-1746010800@aprresources.com
SUMMARY:Zebra Counter Training—North Hills
DESCRIPTION:Join us for a Zebra Instruments Counter Training! Join the rep and APR team to learn about the UZ1—Universal Zebra Tool and Zebra accessories. Zebra makes ECM testing and troubleshooting tools for the HVAC industry. Bonus! Their tools can also provide CFM and RPM data to make balancing and set-up of new equipment easier!
URL:https://aprresources.com/event/zebra-counter-training-north-hills/
LOCATION:APR Supply Co – North Hills\, 2134 Babcock Blvd.\, Pittsburgh\, PA\, 15209\, United States
CATEGORIES:Counter Day,Training
ATTACH;FMTTYPE=image/png:https://aprresources.com/wp-content/uploads/2025/04/Zebra-Featured-Pic-.png
ORGANIZER;CN="APR Marketing Department":MAILTO:marketing@aprsupply.com
END:VEVENT
BEGIN:VEVENT
DTSTART;TZID=America/New_York:20250408T100000
DTEND;TZID=America/New_York:20250408T140000
DTSTAMP:20260424T121115
CREATED:20250401T144156Z
LAST-MODIFIED:20250401T144440Z
UID:10001156-1744106400-1744120800@aprresources.com
SUMMARY:Milwaukee Tool Counter Day—West Chester
DESCRIPTION:Join us for a Milwaukee Tool Counter Day! Meet the rep\, check out the products\, enjoy light refreshments and 10% off purchases 4/8 only.
URL:https://aprresources.com/event/milwaukee-tool-counter-day-west-chester/
LOCATION:APR Supply Co – West Chester\, 830 S. Bolmar Street\, West Chester\, 19382\, United States
CATEGORIES:Counter Day
ATTACH;FMTTYPE=image/png:https://aprresources.com/wp-content/uploads/2025/03/Milwaukee-Featured-Pic.png
ORGANIZER;CN="APR Marketing Department":MAILTO:marketing@aprsupply.com
END:VEVENT
BEGIN:VEVENT
DTSTART;TZID=America/New_York:20250403T090000
DTEND;TZID=America/New_York:20250403T130000
DTSTAMP:20260424T121115
CREATED:20250120T155103Z
LAST-MODIFIED:20250120T155421Z
UID:10001070-1743670800-1743685200@aprresources.com
SUMMARY:Uponor/Milwaukee Tool Counter Day—Pittsburgh
DESCRIPTION:Join us for an Uponor & Milwaukee Tool Counter Day! \nMeet the rep\, check out the products\, and enjoy light refreshments\, as well as 10% off Milwaukee Tool products!* \n*Enjoy 10% off Milwaukee Tools on this date only! (Note: Does not apply to drain cleaning tools\, inspection equipment\, and the new M18 roll groover.)
URL:https://aprresources.com/event/uponor-milwaukee-tool-counter-day-pittsburgh/
LOCATION:APR Supply Co – Pittsburgh\, 311 Brushton Avenue\, Pittsburgh\, PA\, 15221\, United States
CATEGORIES:Counter Day
ATTACH;FMTTYPE=image/png:https://aprresources.com/wp-content/uploads/2024/11/Milwaukee-Uponor-Featured-Pic-.png
ORGANIZER;CN="APR Marketing Department":MAILTO:marketing@aprsupply.com
END:VEVENT
BEGIN:VEVENT
DTSTART;TZID=America/New_York:20250327T090000
DTEND;TZID=America/New_York:20250327T130000
DTSTAMP:20260424T121115
CREATED:20250120T145650Z
LAST-MODIFIED:20250120T150616Z
UID:10001069-1743066000-1743080400@aprresources.com
SUMMARY:Uponor/Milwaukee Tool Counter Day—Altoona
DESCRIPTION:Join us for an Uponor & Milwaukee Tool Counter Day! \nMeet the rep\, check out the products\, and enjoy light refreshments\, as well as 10% off Milwaukee Tool products!* \n*Enjoy 10% off Milwaukee Tools on this date only! (Note: Does not apply to drain cleaning tools\, inspection equipment\, and the new M18 roll groover.)
URL:https://aprresources.com/event/uponor-milwaukee-tool-counter-day-altoona/
LOCATION:APR Supply Co – Altoona\, 4141 S. 6th Avenue\, Altoona\, PA\, 16603\, United States
CATEGORIES:Counter Day
ATTACH;FMTTYPE=image/png:https://aprresources.com/wp-content/uploads/2024/11/Milwaukee-Uponor-Featured-Pic-.png
ORGANIZER;CN="APR Marketing Department":MAILTO:marketing@aprsupply.com
END:VEVENT
BEGIN:VEVENT
DTSTART;TZID=America/New_York:20250205T110000
DTEND;TZID=America/New_York:20250205T130000
DTSTAMP:20260424T121115
CREATED:20250115T184223Z
LAST-MODIFIED:20250115T184223Z
UID:10001068-1738753200-1738760400@aprresources.com
SUMMARY:Mountain Plumbing Counter Day—Cherry Hill
DESCRIPTION:Join us for a Mountain Plumbing Counter Day! Meet the rep\, check out the products\, and enjoy light refreshments! \n 
URL:https://aprresources.com/event/mountain-plumbing-counter-day-cherry-hill/
LOCATION:APR Supply Co. – Cherry Hill\, 1260 Marlkress Rd\, Cherry Hill\, NJ\, 08034\, United States
CATEGORIES:Counter Day
ATTACH;FMTTYPE=image/png:https://aprresources.com/wp-content/uploads/2024/11/Mountain-Plumbing-Featured-Pic-.png
ORGANIZER;CN="APR Marketing Department":MAILTO:marketing@aprsupply.com
END:VEVENT
BEGIN:VEVENT
DTSTART;TZID=America/New_York:20250122T110000
DTEND;TZID=America/New_York:20250122T130000
DTSTAMP:20260424T121115
CREATED:20241203T154318Z
LAST-MODIFIED:20241203T154318Z
UID:10000997-1737543600-1737550800@aprresources.com
SUMMARY:Mountain Plumbing Counter Day—Newark
DESCRIPTION:Join us for a Mountain Plumbing Counter Day! Meet the rep\, check out the products\, and enjoy light refreshments! \n 
URL:https://aprresources.com/event/mountain-plumbing-counter-day-newark/
LOCATION:APR Supply Co – Newark\, 718 Stanton Christiana Road\, Newark\, DE\, 19713\, United States
CATEGORIES:Counter Day
ATTACH;FMTTYPE=image/png:https://aprresources.com/wp-content/uploads/2024/11/Mountain-Plumbing-Featured-Pic-.png
ORGANIZER;CN="APR Marketing Department":MAILTO:marketing@aprsupply.com
END:VEVENT
BEGIN:VEVENT
DTSTART;TZID=America/New_York:20250115T110000
DTEND;TZID=America/New_York:20250115T130000
DTSTAMP:20260424T121115
CREATED:20241120T170813Z
LAST-MODIFIED:20241120T170813Z
UID:10000979-1736938800-1736946000@aprresources.com
SUMMARY:Mountain Plumbing Counter Day—Bridgeton
DESCRIPTION:Join us for a Mountain Plumbing Counter Day! Meet the rep\, check out the products\, and enjoy light refreshments! \n 
URL:https://aprresources.com/event/mountain-plumbing-counter-day-bridgeton/
LOCATION:APR Supply Co. – Bridgeton\, 756 North Pearl Street\, Bridgeton\, NJ\, 08302\, United States
CATEGORIES:Counter Day
ATTACH;FMTTYPE=image/png:https://aprresources.com/wp-content/uploads/2024/11/Mountain-Plumbing-Featured-Pic-.png
ORGANIZER;CN="APR Marketing Department":MAILTO:marketing@aprsupply.com
END:VEVENT
BEGIN:VEVENT
DTSTART;TZID=America/New_York:20241218T090000
DTEND;TZID=America/New_York:20241218T110000
DTSTAMP:20260424T121115
CREATED:20241126T145225Z
LAST-MODIFIED:20241126T145225Z
UID:10000989-1734512400-1734519600@aprresources.com
SUMMARY:UEI Instruments Counter Day—Newark
DESCRIPTION:YOU’RE INVITED! \nJoin us for an UEI Test Instruments Counter Day! Meet the rep\, check out the products\, and enjoy light refreshments!
URL:https://aprresources.com/event/uei-instruments-counter-day-newark/
LOCATION:APR Supply Co – Newark\, 718 Stanton Christiana Road\, Newark\, DE\, 19713\, United States
CATEGORIES:Counter Day
ATTACH;FMTTYPE=image/jpeg:https://aprresources.com/wp-content/uploads/2024/11/UEI-Featured-Pic-.jpg
ORGANIZER;CN="APR Marketing Department":MAILTO:marketing@aprsupply.com
END:VEVENT
BEGIN:VEVENT
DTSTART;TZID=America/New_York:20241210T110000
DTEND;TZID=America/New_York:20241210T140000
DTSTAMP:20260424T121115
CREATED:20241111T215353Z
LAST-MODIFIED:20241209T153947Z
UID:10000972-1733828400-1733839200@aprresources.com
SUMMARY:Uponor/Milwaukee Tool Counter Day—West Chester
DESCRIPTION:Join us for an Uponor & Milwaukee Tool Counter Day! \nMeet the rep\, check out the products\, and enjoy light refreshments\, as well as 10% off Milwaukee Tool products!
URL:https://aprresources.com/event/uponor-milwaukee-tool-counter-day-west-chester/
LOCATION:APR Supply Co – West Chester\, 830 S. Bolmar Street\, West Chester\, 19382\, United States
CATEGORIES:Counter Day
ATTACH;FMTTYPE=image/png:https://aprresources.com/wp-content/uploads/2024/11/Milwaukee-Uponor-Featured-Pic-.png
ORGANIZER;CN="APR Marketing Department":MAILTO:marketing@aprsupply.com
END:VEVENT
BEGIN:VEVENT
DTSTART;TZID=America/New_York:20241210T070000
DTEND;TZID=America/New_York:20241210T100000
DTSTAMP:20260424T121115
CREATED:20241111T212655Z
LAST-MODIFIED:20241209T154006Z
UID:10000971-1733814000-1733824800@aprresources.com
SUMMARY:Uponor/Milwaukee Tool Counter Day—Malvern
DESCRIPTION:Join us for an Uponor & Milwaukee Tool Counter Day! \nMeet the rep\, check out the products\, and enjoy light refreshments\, as well as 10% off Milwaukee Tool products!
URL:https://aprresources.com/event/uponor-milwaukee-tool-counter-day-malvern/
LOCATION:APR Supply Co – Malvern\, 81 Lancaster Avenue\, Great Valley Center\, Malvern\, PA\, 19355\, United States
CATEGORIES:Counter Day
ATTACH;FMTTYPE=image/png:https://aprresources.com/wp-content/uploads/2024/11/Milwaukee-Uponor-Featured-Pic-.png
ORGANIZER;CN="APR Marketing Department":MAILTO:marketing@aprsupply.com
END:VEVENT
BEGIN:VEVENT
DTSTART;TZID=America/New_York:20241204T070000
DTEND;TZID=America/New_York:20241204T100000
DTSTAMP:20260424T121115
CREATED:20241022T185023Z
LAST-MODIFIED:20241022T185023Z
UID:10000962-1733295600-1733306400@aprresources.com
SUMMARY:PremierOne Counter Day—Malvern
DESCRIPTION:Join us for a PremierOne Counter Day! Meet the rep\, check out the products\, and enjoy light refreshments!
URL:https://aprresources.com/event/premierone-counter-day-malvern/
LOCATION:APR Supply Co – Malvern\, 81 Lancaster Avenue\, Great Valley Center\, Malvern\, PA\, 19355\, United States
CATEGORIES:Counter Day
ATTACH;FMTTYPE=image/png:https://aprresources.com/wp-content/uploads/2024/08/PremierOne-Featured-Pic-.png
ORGANIZER;CN="APR Marketing Department":MAILTO:marketing@aprsupply.com
END:VEVENT
BEGIN:VEVENT
DTSTART;TZID=America/New_York:20241203T100000
DTEND;TZID=America/New_York:20241203T130000
DTSTAMP:20260424T121115
CREATED:20241001T181528Z
LAST-MODIFIED:20241014T185850Z
UID:10000955-1733220000-1733230800@aprresources.com
SUMMARY:Milwaukee Tool Counter Day—Williamsport
DESCRIPTION:Join us for a Milwaukee Tool Counter Day! \nMeet the rep\, check out the products\, enjoy light refreshments and more. Also\, take advantage of 10% off Milwaukee products on 12/3 only. \n  \n 
URL:https://aprresources.com/event/milwaukee-tool-counter-day-williamsport/
LOCATION:APR Supply Co – Williamsport\, 1309 Commerce Park Drive\, Williamsport\, PA\, 17701\, United States
CATEGORIES:Counter Day
ATTACH;FMTTYPE=image/png:https://aprresources.com/wp-content/uploads/2024/03/Milwaukee-Tool-Featured-Pic-.png
ORGANIZER;CN="APR Marketing Department":MAILTO:marketing@aprsupply.com
END:VEVENT
BEGIN:VEVENT
DTSTART;TZID=America/New_York:20241120T110000
DTEND;TZID=America/New_York:20241120T140000
DTSTAMP:20260424T121115
CREATED:20241015T140937Z
LAST-MODIFIED:20241015T141026Z
UID:10000959-1732100400-1732111200@aprresources.com
SUMMARY:Milwaukee Counter Day—Ocean City
DESCRIPTION:Join us for a Milwaukee Tool Counter Day! Meet the rep\, check out the products\, enjoy light refreshments and more. \nAlso\, take advantage of 10% off Milwaukee Tool products on 11/20 only!  \n 
URL:https://aprresources.com/event/milwaukee-bradford-white-counter-day-ocean-city/
LOCATION:APR Supply Co. – Ocean City\, 633 Haven Avenue\, Ocean City\, NJ\, 08226\, United States
CATEGORIES:Counter Day
ATTACH;FMTTYPE=image/png:https://aprresources.com/wp-content/uploads/2024/03/Milwaukee-Tool-Featured-Pic-.png
ORGANIZER;CN="APR Marketing Department":MAILTO:marketing@aprsupply.com
END:VEVENT
BEGIN:VEVENT
DTSTART;TZID=America/New_York:20241113T110000
DTEND;TZID=America/New_York:20241113T140000
DTSTAMP:20260424T121115
CREATED:20241022T145436Z
LAST-MODIFIED:20241022T145436Z
UID:10000961-1731495600-1731506400@aprresources.com
SUMMARY:Friedrich & Rectorseal Counter Day—West Chester
DESCRIPTION:Join us for a Friedrich & Rectorseal Counter Day! Meet the rep\, check out the products\, and enjoy light refreshments!
URL:https://aprresources.com/event/friedrich-rectorseal-counter-day-west-chester/
LOCATION:APR Supply Co – West Chester\, 830 S. Bolmar Street\, West Chester\, 19382\, United States
CATEGORIES:Counter Day
ATTACH;FMTTYPE=image/png:https://aprresources.com/wp-content/uploads/2024/10/FriedrichRectorseal-Featured-Pic.png
ORGANIZER;CN="APR Marketing Department":MAILTO:marketing@aprsupply.com
END:VEVENT
BEGIN:VEVENT
DTSTART;TZID=America/New_York:20241113T110000
DTEND;TZID=America/New_York:20241113T140000
DTSTAMP:20260424T121115
CREATED:20241014T184745Z
LAST-MODIFIED:20241014T185134Z
UID:10000958-1731495600-1731506400@aprresources.com
SUMMARY:Carlin Combustion Counter Day—Upper Darby
DESCRIPTION:Join us for a Carlin Combustion Technology Counter Day! Meet the rep\, check out the products\, enjoy light refreshments\, and more. \nLunch is provided by Carlin Combustion Technology. \n 
URL:https://aprresources.com/event/carlin-combustion-counter-day-lebanon/
LOCATION:APR Supply Co – Upper Darby\, 510 S. Cedar Lane\, Upper Darby\, PA\, 19082\, United States
CATEGORIES:Counter Day
ATTACH;FMTTYPE=image/jpeg:https://aprresources.com/wp-content/uploads/2024/07/Carlin-Featured-Pic-.jpg
ORGANIZER;CN="APR Marketing Department":MAILTO:marketing@aprsupply.com
END:VEVENT
BEGIN:VEVENT
DTSTART;TZID=America/New_York:20241113T070000
DTEND;TZID=America/New_York:20241113T100000
DTSTAMP:20260424T121115
CREATED:20241018T160638Z
LAST-MODIFIED:20241018T160638Z
UID:10000960-1731481200-1731492000@aprresources.com
SUMMARY:Friedrich & Rectorseal Counter Day—Malvern
DESCRIPTION:Join us for a Friedrich & Rectorseal Counter Day! Meet the rep\, check out the products\, and enjoy light refreshments!
URL:https://aprresources.com/event/friedrich-rectorseal-counter-day-malvern/
LOCATION:APR Supply Co – Malvern\, 81 Lancaster Avenue\, Great Valley Center\, Malvern\, PA\, 19355\, United States
CATEGORIES:Counter Day
ATTACH;FMTTYPE=image/png:https://aprresources.com/wp-content/uploads/2024/10/FriedrichRectorseal-Featured-Pic.png
ORGANIZER;CN="APR Marketing Department":MAILTO:marketing@aprsupply.com
END:VEVENT
BEGIN:VEVENT
DTSTART;TZID=America/New_York:20241108T100000
DTEND;TZID=America/New_York:20241108T140000
DTSTAMP:20260424T121115
CREATED:20240905T155151Z
LAST-MODIFIED:20241015T140328Z
UID:10000940-1731060000-1731074400@aprresources.com
SUMMARY:Milwaukee/Bradford White Counter Day—Vineland
DESCRIPTION:Join us for a Milwaukee Tool/Bradford White Counter Day! Meet the rep\, check out the products and the Milwaukee and Bradford White trucks\, enjoy light refreshments and more. \nCome check out the newly renovated APR Vineland branch and enjoy 10% off Milwaukee Tool products!
URL:https://aprresources.com/event/milwaukee-bradford-white-counter-day-vineland/
LOCATION:APR Supply Co – Vineland\, 108 South West Boulevard\, Vineland\, NJ\, 08360\, United States
CATEGORIES:Counter Day
ATTACH;FMTTYPE=image/jpeg:https://aprresources.com/wp-content/uploads/2024/09/Untitled-design-1.jpg
ORGANIZER;CN="APR Marketing Department":MAILTO:marketing@aprsupply.com
END:VEVENT
END:VCALENDAR