BEGIN:VCALENDAR
VERSION:2.0
PRODID:-// - ECPv6.15.20//NONSGML v1.0//EN
CALSCALE:GREGORIAN
METHOD:PUBLISH
X-ORIGINAL-URL:https://aprresources.com
X-WR-CALDESC:Events for 
REFRESH-INTERVAL;VALUE=DURATION:PT1H
X-Robots-Tag:noindex
X-PUBLISHED-TTL:PT1H
BEGIN:VTIMEZONE
TZID:America/New_York
BEGIN:DAYLIGHT
TZOFFSETFROM:-0500
TZOFFSETTO:-0400
TZNAME:EDT
DTSTART:20240310T070000
END:DAYLIGHT
BEGIN:STANDARD
TZOFFSETFROM:-0400
TZOFFSETTO:-0500
TZNAME:EST
DTSTART:20241103T060000
END:STANDARD
BEGIN:DAYLIGHT
TZOFFSETFROM:-0500
TZOFFSETTO:-0400
TZNAME:EDT
DTSTART:20250309T070000
END:DAYLIGHT
BEGIN:STANDARD
TZOFFSETFROM:-0400
TZOFFSETTO:-0500
TZNAME:EST
DTSTART:20251102T060000
END:STANDARD
BEGIN:DAYLIGHT
TZOFFSETFROM:-0500
TZOFFSETTO:-0400
TZNAME:EDT
DTSTART:20260308T070000
END:DAYLIGHT
BEGIN:STANDARD
TZOFFSETFROM:-0400
TZOFFSETTO:-0500
TZNAME:EST
DTSTART:20261101T060000
END:STANDARD
END:VTIMEZONE
BEGIN:VEVENT
DTSTART;TZID=America/New_York:20250604T110000
DTEND;TZID=America/New_York:20250604T130000
DTSTAMP:20260424T075718
CREATED:20250319T172237Z
LAST-MODIFIED:20250319T173221Z
UID:10001136-1749034800-1749042000@aprresources.com
SUMMARY:Pro Charge Counter Day—Newark
DESCRIPTION:Join us for a Pro Charge Counter Day! Meet the rep\, check out the products\, and enjoy light refreshments. \n 
URL:https://aprresources.com/event/pro-charge-counter-day-newark/
LOCATION:APR Supply Co – Newark\, 718 Stanton Christiana Road\, Newark\, DE\, 19713\, United States
CATEGORIES:Counter Day
ATTACH;FMTTYPE=image/png:https://aprresources.com/wp-content/uploads/2025/03/Pro-Charge.png
ORGANIZER;CN="APR Marketing Department":MAILTO:marketing@aprsupply.com
END:VEVENT
BEGIN:VEVENT
DTSTART;TZID=America/New_York:20250604T090000
DTEND;TZID=America/New_York:20250604T110000
DTSTAMP:20260424T075718
CREATED:20250509T195011Z
LAST-MODIFIED:20250509T195011Z
UID:10001193-1749027600-1749034800@aprresources.com
SUMMARY:Mountain Plumbing Counter Day—Chambersburg
DESCRIPTION:Join us for a Mountain Plumbing Counter Day! Meet the rep\, check out the products\, and enjoy light refreshments! \n 
URL:https://aprresources.com/event/mountain-plumbing-counter-day-chambersburg/
LOCATION:APR Supply Co – Chambersburg\, 409 Grant Street\, Chambersburg\, PA\, 17201\, United States
CATEGORIES:Counter Day
ATTACH;FMTTYPE=image/png:https://aprresources.com/wp-content/uploads/2024/11/Mountain-Plumbing-Featured-Pic-.png
ORGANIZER;CN="APR Marketing Department":MAILTO:marketing@aprsupply.com
END:VEVENT
BEGIN:VEVENT
DTSTART;TZID=America/New_York:20250603T110000
DTEND;TZID=America/New_York:20250603T130000
DTSTAMP:20260424T075718
CREATED:20250319T171657Z
LAST-MODIFIED:20250319T172118Z
UID:10001135-1748948400-1748955600@aprresources.com
SUMMARY:Pro Charge Counter Day—Bridgeton
DESCRIPTION:Join us for a Pro Charge Counter Day! Meet the rep\, check out the products\, and enjoy light refreshments. \n 
URL:https://aprresources.com/event/pro-charge-counter-day-bridgeton/
LOCATION:APR Supply Co. – Bridgeton\, 756 North Pearl Street\, Bridgeton\, NJ\, 08302\, United States
CATEGORIES:Counter Day
ATTACH;FMTTYPE=image/png:https://aprresources.com/wp-content/uploads/2025/03/Pro-Charge.png
ORGANIZER;CN="APR Marketing Department":MAILTO:marketing@aprsupply.com
END:VEVENT
BEGIN:VEVENT
DTSTART;TZID=America/New_York:20250603T070000
DTEND;TZID=America/New_York:20250603T100000
DTSTAMP:20260424T075718
CREATED:20250325T151812Z
LAST-MODIFIED:20250325T151812Z
UID:10001151-1748934000-1748944800@aprresources.com
SUMMARY:Fieldpiece Counter Day—Pocono
DESCRIPTION:Join us for a Fieldpiece Counter Day! Meet the rep\, check out the products\, enjoy light refreshments and more. \n 
URL:https://aprresources.com/event/fieldpiece-counter-day-pocono/
LOCATION:APR Supply Co – Pocono\, 5817 Paradise Valley Road\, Cresco\, PA\, 18326\, United States
CATEGORIES:Counter Day
ATTACH;FMTTYPE=image/png:https://aprresources.com/wp-content/uploads/2024/01/Fieldpiece-Logo.png
ORGANIZER;CN="APR Marketing Department":MAILTO:marketing@aprsupply.com
END:VEVENT
BEGIN:VEVENT
DTSTART;TZID=America/New_York:20250529T110000
DTEND;TZID=America/New_York:20250529T130000
DTSTAMP:20260424T075718
CREATED:20250319T160311Z
LAST-MODIFIED:20250319T160324Z
UID:10001134-1748516400-1748523600@aprresources.com
SUMMARY:Pro Charge Counter Day—Lewistown
DESCRIPTION:Join us for a Pro Charge Counter Day! Meet the rep\, check out the products\, and enjoy light refreshments. \n 
URL:https://aprresources.com/event/pro-charge-counter-day-lewistown/
LOCATION:APR Supply Co – Lewistown\, 50 W. Charles Street\, Lewistown\, PA\, 17044\, United States
CATEGORIES:Counter Day
ATTACH;FMTTYPE=image/png:https://aprresources.com/wp-content/uploads/2025/03/Pro-Charge.png
ORGANIZER;CN="APR Marketing Department":MAILTO:marketing@aprsupply.com
END:VEVENT
BEGIN:VEVENT
DTSTART;TZID=America/New_York:20250529T070000
DTEND;TZID=America/New_York:20250529T100000
DTSTAMP:20260424T075718
CREATED:20250325T151457Z
LAST-MODIFIED:20250325T151536Z
UID:10001150-1748502000-1748512800@aprresources.com
SUMMARY:Fieldpiece Counter Day—West York
DESCRIPTION:Join us for a Fieldpiece Counter Day! Meet the rep\, check out the products\, enjoy light refreshments and more. \n 
URL:https://aprresources.com/event/fieldpiece-counter-day-west-york/
LOCATION:APR Supply Co – West York\, 120 S. Adams Street\, York\, PA\, 17404\, United States
CATEGORIES:Counter Day
ATTACH;FMTTYPE=image/png:https://aprresources.com/wp-content/uploads/2024/01/Fieldpiece-Logo.png
ORGANIZER;CN="APR Marketing Department":MAILTO:marketing@aprsupply.com
END:VEVENT
BEGIN:VEVENT
DTSTART;TZID=America/New_York:20250528T110000
DTEND;TZID=America/New_York:20250528T130000
DTSTAMP:20260424T075718
CREATED:20250319T155938Z
LAST-MODIFIED:20250319T155938Z
UID:10001133-1748430000-1748437200@aprresources.com
SUMMARY:Pro Charge Counter Day—New Oxford
DESCRIPTION:Join us for a Pro Charge Counter Day! Meet the rep\, check out the products\, and enjoy light refreshments. \n 
URL:https://aprresources.com/event/pro-charge-counter-day-newoxford/
LOCATION:APR Supply Co – New Oxford\, 310 Lincoln Way East\, New Oxford\, PA\, 17350\, United States
CATEGORIES:Counter Day
ATTACH;FMTTYPE=image/png:https://aprresources.com/wp-content/uploads/2025/03/Pro-Charge.png
ORGANIZER;CN="APR Marketing Department":MAILTO:marketing@aprsupply.com
END:VEVENT
BEGIN:VEVENT
DTSTART;TZID=America/New_York:20250527T110000
DTEND;TZID=America/New_York:20250527T140000
DTSTAMP:20260424T075718
CREATED:20250414T174930Z
LAST-MODIFIED:20250414T175407Z
UID:10001161-1748343600-1748354400@aprresources.com
SUMMARY:Milwaukee/Bradford White Counter Day—Lebanon
DESCRIPTION:Join us for a Milwaukee Tool/Bradford White Counter Day! Meet the rep\, check out the products\, enjoy light refreshments and more. \nAlso\, enjoy 10% off Milwaukee Tool products 5/27 only at the Lebanon branch!
URL:https://aprresources.com/event/milwaukee-bradford-white-counter-day-lebanon/
LOCATION:APR Supply Co. – Lebanon\, 305 N. 5th Street\, Lebanon\, Pennsylvania\, 17046\, United States
CATEGORIES:Counter Day
ATTACH;FMTTYPE=image/jpeg:https://aprresources.com/wp-content/uploads/2024/09/Untitled-design-1.jpg
ORGANIZER;CN="APR Marketing Department":MAILTO:marketing@aprsupply.com
END:VEVENT
BEGIN:VEVENT
DTSTART;TZID=America/New_York:20250522T110000
DTEND;TZID=America/New_York:20250522T130000
DTSTAMP:20260424T075718
CREATED:20250326T164116Z
LAST-MODIFIED:20250326T164116Z
UID:10001154-1747911600-1747918800@aprresources.com
SUMMARY:Fieldpiece Counter Day—Williamsport
DESCRIPTION:Join us for a Fieldpiece Counter Day! Meet the rep\, check out the products\, enjoy light refreshments and more. \n 
URL:https://aprresources.com/event/fieldpiece-counter-day-williamsport/
LOCATION:APR Supply Co – Williamsport\, 1309 Commerce Park Drive\, Williamsport\, PA\, 17701\, United States
CATEGORIES:Counter Day
ATTACH;FMTTYPE=image/png:https://aprresources.com/wp-content/uploads/2024/01/Fieldpiece-Logo.png
ORGANIZER;CN="APR Marketing Department":MAILTO:marketing@aprsupply.com
END:VEVENT
BEGIN:VEVENT
DTSTART;TZID=America/New_York:20250522T090000
DTEND;TZID=America/New_York:20250522T130000
DTSTAMP:20260424T075718
CREATED:20250120T170324Z
LAST-MODIFIED:20250120T170324Z
UID:10001074-1747904400-1747918800@aprresources.com
SUMMARY:Uponor/Milwaukee Tool Counter Day—Greensburg
DESCRIPTION:Join us for an Uponor & Milwaukee Tool Counter Day! \nMeet the rep\, check out the products\, and enjoy light refreshments\, as well as 10% off Milwaukee Tool products!* \n*Enjoy 10% off Milwaukee Tools on this date only! (Note: Does not apply to drain cleaning tools\, inspection equipment\, and the new M18 roll groover.)
URL:https://aprresources.com/event/uponor-milwaukee-tool-counter-day-greensburg/
LOCATION:APR Supply Co – Greensburg\, 219 Humphrey Road\, Greensburg\, PA\, 15601\, United States
CATEGORIES:Counter Day
ATTACH;FMTTYPE=image/png:https://aprresources.com/wp-content/uploads/2024/11/Milwaukee-Uponor-Featured-Pic-.png
ORGANIZER;CN="APR Marketing Department":MAILTO:marketing@aprsupply.com
END:VEVENT
BEGIN:VEVENT
DTSTART;TZID=America/New_York:20250521T110000
DTEND;TZID=America/New_York:20250521T130000
DTSTAMP:20260424T075718
CREATED:20250320T131448Z
LAST-MODIFIED:20250320T131911Z
UID:10001141-1747825200-1747832400@aprresources.com
SUMMARY:Pro Charge Counter Day—West York
DESCRIPTION:Join us for a Pro Charge Counter Day! Meet the rep\, check out the products\, and enjoy light refreshments. \n 
URL:https://aprresources.com/event/pro-charge-counter-day-west-york/
LOCATION:APR Supply Co – West York\, 120 S. Adams Street\, York\, PA\, 17404\, United States
CATEGORIES:Counter Day
ATTACH;FMTTYPE=image/png:https://aprresources.com/wp-content/uploads/2025/03/Pro-Charge.png
ORGANIZER;CN="APR Marketing Department":MAILTO:marketing@aprsupply.com
END:VEVENT
BEGIN:VEVENT
DTSTART;TZID=America/New_York:20250521T100000
DTEND;TZID=America/New_York:20250521T140000
DTSTAMP:20260424T075718
CREATED:20250305T163522Z
LAST-MODIFIED:20250305T163522Z
UID:10001126-1747821600-1747836000@aprresources.com
SUMMARY:Milwaukee Tool Counter Day—Wilkes-Barre
DESCRIPTION:Join us for a Milwaukee Tool Counter Day! Meet the rep\, check out the products\, enjoy light refreshments and 10% off purchases 5/21 only.
URL:https://aprresources.com/event/milwaukee-tool-counter-day-wilkes-barre/
LOCATION:APR Supply Co – Wilkes-Barre\, 800 Mercer Avenue\, Kingston\, PA\, 18704\, United States
CATEGORIES:Counter Day
ATTACH;FMTTYPE=image/png:https://aprresources.com/wp-content/uploads/2025/03/Milwaukee-Featured-Pic.png
ORGANIZER;CN="APR Marketing Department":MAILTO:marketing@aprsupply.com
END:VEVENT
BEGIN:VEVENT
DTSTART;TZID=America/New_York:20250521T070000
DTEND;TZID=America/New_York:20250521T100000
DTSTAMP:20260424T075718
CREATED:20250325T151213Z
LAST-MODIFIED:20250325T151213Z
UID:10001149-1747810800-1747821600@aprresources.com
SUMMARY:Fieldpiece Counter Day—Harrisburg
DESCRIPTION:Join us for a Fieldpiece Counter Day! Meet the rep\, check out the products\, enjoy light refreshments and more. \n 
URL:https://aprresources.com/event/fieldpiece-counter-day-harrisburg/
LOCATION:APR Supply Co – Harrisburg\, 3982 Paxton Street\, Harrisburg\, PA\, 17111\, United States
CATEGORIES:Counter Day
ATTACH;FMTTYPE=image/png:https://aprresources.com/wp-content/uploads/2024/01/Fieldpiece-Logo.png
ORGANIZER;CN="APR Marketing Department":MAILTO:marketing@aprsupply.com
END:VEVENT
BEGIN:VEVENT
DTSTART;TZID=America/New_York:20250520T110000
DTEND;TZID=America/New_York:20250520T140000
DTSTAMP:20260424T075718
CREATED:20250415T131426Z
LAST-MODIFIED:20250424T152802Z
UID:10001159-1747738800-1747749600@aprresources.com
SUMMARY:Milwaukee Tool Counter Day—Pottstown
DESCRIPTION:Join us for a Milwaukee Tool Counter Day! Meet the rep\, check out the products\, enjoy light refreshments and 10% off purchases 5/20 only.
URL:https://aprresources.com/event/milwaukee-tool-counter-day-pottstown/
LOCATION:APR Supply Co – Pottstown\, 280 River Road\, Pottstown\, PA\, 19465\, United States
CATEGORIES:Counter Day
ATTACH;FMTTYPE=image/png:https://aprresources.com/wp-content/uploads/2025/03/Milwaukee-Featured-Pic.png
ORGANIZER;CN="APR Marketing Department":MAILTO:marketing@aprsupply.com
END:VEVENT
BEGIN:VEVENT
DTSTART;TZID=America/New_York:20250520T110000
DTEND;TZID=America/New_York:20250520T130000
DTSTAMP:20260424T075718
CREATED:20250325T151034Z
LAST-MODIFIED:20250325T151034Z
UID:10001148-1747738800-1747746000@aprresources.com
SUMMARY:Fieldpiece Counter Day—Ephrata
DESCRIPTION:Join us for a Fieldpiece Counter Day! Meet the rep\, check out the products\, enjoy light refreshments and more. \n 
URL:https://aprresources.com/event/fieldpiece-counter-day-ephrata/
LOCATION:APR Supply Co – Ephrata\, 709 Center Avenue\, Ephrata\, PA\, 17522\, United States
CATEGORIES:Counter Day
ATTACH;FMTTYPE=image/png:https://aprresources.com/wp-content/uploads/2024/01/Fieldpiece-Logo.png
ORGANIZER;CN="APR Marketing Department":MAILTO:marketing@aprsupply.com
END:VEVENT
BEGIN:VEVENT
DTSTART;TZID=America/New_York:20250520T110000
DTEND;TZID=America/New_York:20250520T130000
DTSTAMP:20260424T075718
CREATED:20250319T155257Z
LAST-MODIFIED:20250319T155621Z
UID:10001132-1747738800-1747746000@aprresources.com
SUMMARY:Pro Charge Counter Day—York
DESCRIPTION:Join us for a Pro Charge Counter Day! Meet the rep\, check out the products\, and enjoy light refreshments. \n 
URL:https://aprresources.com/event/pro-charge-counter-day-york/
LOCATION:APR Supply Co – York\, 418 N. Pershing Avenue\, York\, PA\, 17404\, United States
CATEGORIES:Counter Day
ATTACH;FMTTYPE=image/png:https://aprresources.com/wp-content/uploads/2025/03/Pro-Charge.png
ORGANIZER;CN="APR Marketing Department":MAILTO:marketing@aprsupply.com
END:VEVENT
BEGIN:VEVENT
DTSTART;TZID=America/New_York:20250515T110000
DTEND;TZID=America/New_York:20250515T130000
DTSTAMP:20260424T075718
CREATED:20250319T154614Z
LAST-MODIFIED:20250319T155702Z
UID:10001131-1747306800-1747314000@aprresources.com
SUMMARY:Pro Charge Counter Day—Lancaster
DESCRIPTION:Join us for a Pro Charge Counter Day! Meet the rep\, check out the products\, and enjoy light refreshments. \n 
URL:https://aprresources.com/event/pro-charge-counter-day-lancaster/
LOCATION:APR Supply Co – Lancaster\, 1133 Manheim Pike\, Lancaster\, PA\, 17601\, United States
CATEGORIES:Counter Day
ATTACH;FMTTYPE=image/png:https://aprresources.com/wp-content/uploads/2025/03/Pro-Charge.png
ORGANIZER;CN="APR Marketing Department":MAILTO:marketing@aprsupply.com
END:VEVENT
BEGIN:VEVENT
DTSTART;TZID=America/New_York:20250515T100000
DTEND;TZID=America/New_York:20250515T140000
DTSTAMP:20260424T075718
CREATED:20250217T195418Z
LAST-MODIFIED:20250217T200023Z
UID:10001113-1747303200-1747317600@aprresources.com
SUMMARY:Milwaukee Counter Day—State College
DESCRIPTION:Join us for a Milwaukee Tool Counter Day! Meet the rep\, check out the products\, enjoy light refreshments and 10% off purchases 5/15 only.
URL:https://aprresources.com/event/milwaukee-counter-day-state-college/
LOCATION:APR Supply Co – State College\, 2553A Carolean Industrial Drive\, State College\, PA\, 16801\, United States
CATEGORIES:Counter Day
ATTACH;FMTTYPE=image/png:https://aprresources.com/wp-content/uploads/2020/07/Milwaukee-Product-Spotlight.png
ORGANIZER;CN="APR Marketing Department":MAILTO:marketing@aprsupply.com
END:VEVENT
BEGIN:VEVENT
DTSTART;TZID=America/New_York:20250515T090000
DTEND;TZID=America/New_York:20250515T130000
DTSTAMP:20260424T075718
CREATED:20250120T164848Z
LAST-MODIFIED:20250120T164848Z
UID:10001073-1747299600-1747314000@aprresources.com
SUMMARY:Uponor/Milwaukee Tool Counter Day—Plum
DESCRIPTION:Join us for an Uponor & Milwaukee Tool Counter Day! \nMeet the rep\, check out the products\, and enjoy light refreshments\, as well as 10% off Milwaukee Tool products!* \n*Enjoy 10% off Milwaukee Tools on this date only! (Note: Does not apply to drain cleaning tools\, inspection equipment\, and the new M18 roll groover.)
URL:https://aprresources.com/event/uponor-milwaukee-tool-counter-day-plum/
LOCATION:APR Supply Co – Plum\, 120 Sagamore Hill Road\, Pittsburgh\, PA\, 15239\, United States
CATEGORIES:Counter Day
ATTACH;FMTTYPE=image/png:https://aprresources.com/wp-content/uploads/2024/11/Milwaukee-Uponor-Featured-Pic-.png
ORGANIZER;CN="APR Marketing Department":MAILTO:marketing@aprsupply.com
END:VEVENT
BEGIN:VEVENT
DTSTART;TZID=America/New_York:20250514T110000
DTEND;TZID=America/New_York:20250514T130000
DTSTAMP:20260424T075718
CREATED:20250319T151457Z
LAST-MODIFIED:20250319T151543Z
UID:10001130-1747220400-1747227600@aprresources.com
SUMMARY:Pro Charge Counter Day—Lebanon
DESCRIPTION:Join us for a Pro Charge Counter Day! Meet the rep\, check out the products\, and enjoy light refreshments. \n 
URL:https://aprresources.com/event/pro-charge-counter-day-lebanon/
LOCATION:APR Supply Co – Lebanon\, 305 N. 5th Street\, Lebanon\, PA\, 17046\, United States
CATEGORIES:Counter Day
ATTACH;FMTTYPE=image/png:https://aprresources.com/wp-content/uploads/2025/03/Pro-Charge.png
ORGANIZER;CN="APR Marketing Department":MAILTO:marketing@aprsupply.com
END:VEVENT
BEGIN:VEVENT
DTSTART;TZID=America/New_York:20250513T110000
DTEND;TZID=America/New_York:20250513T140000
DTSTAMP:20260424T075718
CREATED:20250424T172741Z
LAST-MODIFIED:20250424T172829Z
UID:10001168-1747134000-1747144800@aprresources.com
SUMMARY:Milwaukee Tool Counter Day—Reading
DESCRIPTION:Join us for a Milwaukee Tool Counter Day! Meet the rep\, check out the products\, enjoy light refreshments and 10% off purchases 5/13 only.
URL:https://aprresources.com/event/milwaukee-tool-counter-day-reading/
LOCATION:APR Supply Co – Reading\, 4220 Pottsville Pike\, Reading\, PA\, 19605\, United States
CATEGORIES:Counter Day
ATTACH;FMTTYPE=image/png:https://aprresources.com/wp-content/uploads/2025/03/Milwaukee-Featured-Pic.png
ORGANIZER;CN="APR Marketing Department":MAILTO:marketing@aprsupply.com
END:VEVENT
BEGIN:VEVENT
DTSTART;TZID=America/New_York:20250513T110000
DTEND;TZID=America/New_York:20250513T140000
DTSTAMP:20260424T075718
CREATED:20250414T173716Z
LAST-MODIFIED:20250414T184020Z
UID:10001160-1747134000-1747144800@aprresources.com
SUMMARY:Fieldpiece Counter Day—Lebanon
DESCRIPTION:Join us for a Fieldpiece Counter Day! Meet the rep\, check out the products\, enjoy light refreshments and more. \n 
URL:https://aprresources.com/event/fieldpiece-counter-day-lebanon/
LOCATION:APR Supply Co – Lebanon\, 305 N. 5th Street\, Lebanon\, PA\, 17046\, United States
CATEGORIES:Counter Day
ATTACH;FMTTYPE=image/png:https://aprresources.com/wp-content/uploads/2024/01/Fieldpiece-Logo.png
ORGANIZER;CN="APR Marketing Department":MAILTO:marketing@aprsupply.com
END:VEVENT
BEGIN:VEVENT
DTSTART;TZID=America/New_York:20250508T090000
DTEND;TZID=America/New_York:20250508T130000
DTSTAMP:20260424T075718
CREATED:20250120T163220Z
LAST-MODIFIED:20250120T163220Z
UID:10001072-1746694800-1746709200@aprresources.com
SUMMARY:Uponor/Milwaukee Tool Counter Day—South Hills
DESCRIPTION:Join us for an Uponor & Milwaukee Tool Counter Day! \nMeet the rep\, check out the products\, and enjoy light refreshments\, as well as 10% off Milwaukee Tool products!* \n*Enjoy 10% off Milwaukee Tools on this date only! (Note: Does not apply to drain cleaning tools\, inspection equipment\, and the new M18 roll groover.)
URL:https://aprresources.com/event/uponor-milwaukee-tool-counter-day-south-hills/
LOCATION:APR Supply Co – South Hills\, 1101 Rockwood Avenue\, Pittsburgh\, PA\, 15234\, United States
CATEGORIES:Counter Day
ATTACH;FMTTYPE=image/png:https://aprresources.com/wp-content/uploads/2024/11/Milwaukee-Uponor-Featured-Pic-.png
ORGANIZER;CN="APR Marketing Department":MAILTO:marketing@aprsupply.com
END:VEVENT
BEGIN:VEVENT
DTSTART;TZID=America/New_York:20250507T110000
DTEND;TZID=America/New_York:20250507T130000
DTSTAMP:20260424T075718
CREATED:20250328T142206Z
LAST-MODIFIED:20250328T142206Z
UID:10001155-1746615600-1746622800@aprresources.com
SUMMARY:Fieldpiece Counter Day—Easton
DESCRIPTION:Join us for a Fieldpiece Counter Day! Meet the rep\, check out the products\, enjoy light refreshments and more. \n 
URL:https://aprresources.com/event/fieldpiece-counter-day-easton/
LOCATION:APR Supply Co – Easton\, 1200 Balata Street\, Easton\, PA\, 18042\, United States
CATEGORIES:Counter Day
ATTACH;FMTTYPE=image/png:https://aprresources.com/wp-content/uploads/2024/01/Fieldpiece-Logo.png
ORGANIZER;CN="APR Marketing Department":MAILTO:marketing@aprsupply.com
END:VEVENT
BEGIN:VEVENT
DTSTART;TZID=America/New_York:20250507T110000
DTEND;TZID=America/New_York:20250507T130000
DTSTAMP:20260424T075718
CREATED:20250320T131133Z
LAST-MODIFIED:20250320T131141Z
UID:10001140-1746615600-1746622800@aprresources.com
SUMMARY:Pro Charge Counter Day—Malvern
DESCRIPTION:Join us for a Pro Charge Counter Day! Meet the rep\, check out the products\, and enjoy light refreshments. \n 
URL:https://aprresources.com/event/pro-charge-counter-day-malvern/
LOCATION:APR Supply Co – Malvern\, 81 Lancaster Avenue\, Great Valley Center\, Malvern\, PA\, 19355\, United States
CATEGORIES:Counter Day
ATTACH;FMTTYPE=image/png:https://aprresources.com/wp-content/uploads/2025/03/Pro-Charge.png
ORGANIZER;CN="APR Marketing Department":MAILTO:marketing@aprsupply.com
END:VEVENT
BEGIN:VEVENT
DTSTART;TZID=America/New_York:20250507T070000
DTEND;TZID=America/New_York:20250507T100000
DTSTAMP:20260424T075718
CREATED:20250325T150639Z
LAST-MODIFIED:20250325T150639Z
UID:10001147-1746601200-1746612000@aprresources.com
SUMMARY:Fieldpiece Counter Day—Bethlehem
DESCRIPTION:Join us for a Fieldpiece Counter Day! Meet the rep\, check out the products\, enjoy light refreshments and more. \n 
URL:https://aprresources.com/event/fieldpiece-counter-day-bethlehem/
LOCATION:APR Supply Co – Bethlehem\, 1302 W. Broad Street\, Bethlehem\, PA\, 18018\, United States
CATEGORIES:Counter Day
ATTACH;FMTTYPE=image/png:https://aprresources.com/wp-content/uploads/2024/01/Fieldpiece-Logo.png
ORGANIZER;CN="APR Marketing Department":MAILTO:marketing@aprsupply.com
END:VEVENT
BEGIN:VEVENT
DTSTART;TZID=America/New_York:20250506T110000
DTEND;TZID=America/New_York:20250506T130000
DTSTAMP:20260424T075718
CREATED:20250320T143145Z
LAST-MODIFIED:20250320T143145Z
UID:10001143-1746529200-1746536400@aprresources.com
SUMMARY:Pro Charge Counter Day—Reading
DESCRIPTION:Join us for a Pro Charge Counter Day! Meet the rep\, check out the products\, and enjoy light refreshments. \n 
URL:https://aprresources.com/event/pro-charge-counter-day-reading/
LOCATION:APR Supply Co – Reading\, 4220 Pottsville Pike\, Reading\, PA\, 19605\, United States
CATEGORIES:Counter Day
ATTACH;FMTTYPE=image/png:https://aprresources.com/wp-content/uploads/2025/03/Pro-Charge.png
ORGANIZER;CN="APR Marketing Department":MAILTO:marketing@aprsupply.com
END:VEVENT
BEGIN:VEVENT
DTSTART;TZID=America/New_York:20250501T130000
DTEND;TZID=America/New_York:20250501T150000
DTSTAMP:20260424T075718
CREATED:20250416T153534Z
LAST-MODIFIED:20250416T153553Z
UID:10001166-1746104400-1746111600@aprresources.com
SUMMARY:Zebra Counter Training—Williamsport
DESCRIPTION:Join us for a Zebra Instruments Counter Training! Join the rep and APR team to learn about the UZ1—Universal Zebra Tool and Zebra accessories. Zebra makes ECM testing and troubleshooting tools for the HVAC industry. Bonus! Their tools can also provide CFM and RPM data to make balancing and set-up of new equipment easier!
URL:https://aprresources.com/event/zebra-counter-training-williamsport/
LOCATION:APR Supply Co – Williamsport\, 1309 Commerce Park Drive\, Williamsport\, PA\, 17701\, United States
CATEGORIES:Counter Day,Training
ATTACH;FMTTYPE=image/png:https://aprresources.com/wp-content/uploads/2025/04/Zebra-Featured-Pic-.png
ORGANIZER;CN="APR Marketing Department":MAILTO:marketing@aprsupply.com
END:VEVENT
BEGIN:VEVENT
DTSTART;TZID=America/New_York:20250501T090000
DTEND;TZID=America/New_York:20250501T130000
DTSTAMP:20260424T075718
CREATED:20250120T161405Z
LAST-MODIFIED:20250120T161405Z
UID:10001071-1746090000-1746104400@aprresources.com
SUMMARY:Uponor/Milwaukee Tool Counter Day—North Hills
DESCRIPTION:Join us for an Uponor & Milwaukee Tool Counter Day! \nMeet the rep\, check out the products\, and enjoy light refreshments\, as well as 10% off Milwaukee Tool products!* \n*Enjoy 10% off Milwaukee Tools on this date only! (Note: Does not apply to drain cleaning tools\, inspection equipment\, and the new M18 roll groover.)
URL:https://aprresources.com/event/uponor-milwaukee-tool-counter-day-north-hills/
LOCATION:APR Supply Co – North Hills\, 2134 Babcock Blvd.\, Pittsburgh\, PA\, 15209\, United States
CATEGORIES:Counter Day
ATTACH;FMTTYPE=image/png:https://aprresources.com/wp-content/uploads/2024/11/Milwaukee-Uponor-Featured-Pic-.png
ORGANIZER;CN="APR Marketing Department":MAILTO:marketing@aprsupply.com
END:VEVENT
BEGIN:VEVENT
DTSTART;TZID=America/New_York:20250501T080000
DTEND;TZID=America/New_York:20250501T100000
DTSTAMP:20260424T075718
CREATED:20250416T153003Z
LAST-MODIFIED:20250416T153028Z
UID:10001165-1746086400-1746093600@aprresources.com
SUMMARY:Zebra Counter Training—Altoona
DESCRIPTION:Join us for a Zebra Instruments Counter Training! Join the rep and APR team to learn about the UZ1—Universal Zebra Tool and Zebra accessories. Zebra makes ECM testing and troubleshooting tools for the HVAC industry. Bonus! Their tools can also provide CFM and RPM data to make balancing and set-up of new equipment easier!
URL:https://aprresources.com/event/zebra-counter-training-altoona/
LOCATION:APR Supply Co – Altoona\, 4141 S. 6th Avenue\, Altoona\, PA\, 16603\, United States
CATEGORIES:Counter Day,Training
ATTACH;FMTTYPE=image/png:https://aprresources.com/wp-content/uploads/2025/04/Zebra-Featured-Pic-.png
ORGANIZER;CN="APR Marketing Department":MAILTO:marketing@aprsupply.com
END:VEVENT
END:VCALENDAR