BEGIN:VCALENDAR
VERSION:2.0
PRODID:-// - ECPv6.15.20//NONSGML v1.0//EN
CALSCALE:GREGORIAN
METHOD:PUBLISH
X-ORIGINAL-URL:https://aprresources.com
X-WR-CALDESC:Events for 
REFRESH-INTERVAL;VALUE=DURATION:PT1H
X-Robots-Tag:noindex
X-PUBLISHED-TTL:PT1H
BEGIN:VTIMEZONE
TZID:America/New_York
BEGIN:DAYLIGHT
TZOFFSETFROM:-0500
TZOFFSETTO:-0400
TZNAME:EDT
DTSTART:20200308T070000
END:DAYLIGHT
BEGIN:STANDARD
TZOFFSETFROM:-0400
TZOFFSETTO:-0500
TZNAME:EST
DTSTART:20201101T060000
END:STANDARD
BEGIN:DAYLIGHT
TZOFFSETFROM:-0500
TZOFFSETTO:-0400
TZNAME:EDT
DTSTART:20210314T070000
END:DAYLIGHT
BEGIN:STANDARD
TZOFFSETFROM:-0400
TZOFFSETTO:-0500
TZNAME:EST
DTSTART:20211107T060000
END:STANDARD
BEGIN:DAYLIGHT
TZOFFSETFROM:-0500
TZOFFSETTO:-0400
TZNAME:EDT
DTSTART:20220313T070000
END:DAYLIGHT
BEGIN:STANDARD
TZOFFSETFROM:-0400
TZOFFSETTO:-0500
TZNAME:EST
DTSTART:20221106T060000
END:STANDARD
END:VTIMEZONE
BEGIN:VEVENT
DTSTART;TZID=America/New_York:20210908T110000
DTEND;TZID=America/New_York:20210908T130000
DTSTAMP:20260424T092319
CREATED:20210824T192535Z
LAST-MODIFIED:20210824T194414Z
UID:10000028-1631098800-1631106000@aprresources.com
SUMMARY:Greensburg Branch Open House
DESCRIPTION:Join us for a few hours of vendors\, products\, and prizes at our Open House. Stop by to talk to your favorite vendors\, sign up for prize giveaways\, and grab some delicious food from our friends at Poulich Pit BBQ.
URL:https://aprresources.com/event/greensburg-branch-open-house/
LOCATION:APR Supply Co – Greensburg\, 219 Humphrey Road\, Greensburg\, PA\, 15601\, United States
CATEGORIES:Branch Event
ATTACH;FMTTYPE=image/png:https://aprresources.com/wp-content/uploads/2021/08/open-house.png
END:VEVENT
BEGIN:VEVENT
DTSTART;TZID=America/New_York:20210623T110000
DTEND;TZID=America/New_York:20210623T130000
DTSTAMP:20260424T092319
CREATED:20210603T144837Z
LAST-MODIFIED:20210603T145140Z
UID:10000004-1624446000-1624453200@aprresources.com
SUMMARY:Lancaster Branch Summer Open House & "BBQ 2 Go"
DESCRIPTION:Join us for a few hours of vendors\, products\, and prizes at our Spring Open House. Stop by to talk to your favorite vendors\, sign up for prize giveaways\, and grab some BBQ2Go from our friends at Boneyard Barbeque. \n\n\n\n\n\nClick the button below to register. \n\n\n\n	\n	\n	\n	\n    \n\n	    \n    \n        Registration is closed for this event.
URL:https://aprresources.com/event/lancaster-branch-summer-open-house-bbq-2-go/
LOCATION:APR Supply Co – Lancaster\, 1133 Manheim Pike\, Lancaster\, PA\, 17601\, United States
CATEGORIES:Branch Event
ATTACH;FMTTYPE=image/png:https://aprresources.com/wp-content/uploads/2021/06/Lancaster-Open-House.png
END:VEVENT
BEGIN:VEVENT
DTSTART;TZID=America/New_York:20210511T110000
DTEND;TZID=America/New_York:20210511T140000
DTSTAMP:20260424T092319
CREATED:20210423T142351Z
LAST-MODIFIED:20210423T144424Z
UID:10000103-1620730800-1620741600@aprresources.com
SUMMARY:Easton Branch Bradford White Trailer Day
DESCRIPTION:Join us at the Easton Branch to meet with technical experts\, ask them questions regarding equipment overview\, installation\, setup\, and troubleshooting\, and see the latest products from Bradford White.
URL:https://aprresources.com/event/easton-branch-bradford-white-trailer-day/
LOCATION:APR Supply Co – Easton\, 1200 Balata Street\, Easton\, PA\, 18042\, United States
CATEGORIES:Branch Event
ATTACH;FMTTYPE=image/png:https://aprresources.com/wp-content/uploads/2021/04/easton-bradford-white.png
END:VEVENT
END:VCALENDAR