BEGIN:VCALENDAR
VERSION:2.0
PRODID:-// - ECPv6.15.20//NONSGML v1.0//EN
CALSCALE:GREGORIAN
METHOD:PUBLISH
X-ORIGINAL-URL:https://aprresources.com
X-WR-CALDESC:Events for 
REFRESH-INTERVAL;VALUE=DURATION:PT1H
X-Robots-Tag:noindex
X-PUBLISHED-TTL:PT1H
BEGIN:VTIMEZONE
TZID:America/New_York
BEGIN:DAYLIGHT
TZOFFSETFROM:-0500
TZOFFSETTO:-0400
TZNAME:EDT
DTSTART:20250309T070000
END:DAYLIGHT
BEGIN:STANDARD
TZOFFSETFROM:-0400
TZOFFSETTO:-0500
TZNAME:EST
DTSTART:20251102T060000
END:STANDARD
BEGIN:DAYLIGHT
TZOFFSETFROM:-0500
TZOFFSETTO:-0400
TZNAME:EDT
DTSTART:20260308T070000
END:DAYLIGHT
BEGIN:STANDARD
TZOFFSETFROM:-0400
TZOFFSETTO:-0500
TZNAME:EST
DTSTART:20261101T060000
END:STANDARD
BEGIN:DAYLIGHT
TZOFFSETFROM:-0500
TZOFFSETTO:-0400
TZNAME:EDT
DTSTART:20270314T070000
END:DAYLIGHT
BEGIN:STANDARD
TZOFFSETFROM:-0400
TZOFFSETTO:-0500
TZNAME:EST
DTSTART:20271107T060000
END:STANDARD
END:VTIMEZONE
BEGIN:VEVENT
DTSTART;TZID=America/New_York:20260414T080000
DTEND;TZID=America/New_York:20260417T170000
DTSTAMP:20260424T103253
CREATED:20250929T142724Z
LAST-MODIFIED:20250929T143508Z
UID:10001344-1776153600-1776445200@aprresources.com
SUMMARY:Kruger Training Academy Backflow Class—Cherry Hill
DESCRIPTION:Join us for a Backflow Prevention Tester Course in Cherry Hill\, NJ. This 32-hour certification course will run Monday through Thursday and includes all applicable exams for New Jersey. Renewals are also available on the first day of class. \nCourse will be held at APR Supply\, 1260 Marlkress Road\, Cherry Hill\, NJ 08034 from 8:00am to 5:00pm on each day. All handouts and equipment will be provided for the course\, textbooks will be collected at the end\, we utilize the UF/TREEO Second Edition for the basis of our course\, along with supplemental materials from ASSE\, USC\, AWWA\, and others. \nCosts: \n$900 per student for the 32-hour Certification Course \n$350 per student for the 8-hour NJ Renewal Course \nCheck out the New Jersey Page for more information on course approvals\, pricing\, etc. \nFollow the link below to Finalize Your Registration \n\n\n\n\n\n\n\n\n\n\n\n\n\n\n\nRegister for a course / make final payment
URL:https://aprresources.com/event/kruger-training-academy-backflow-class-cherry-hill-2/
LOCATION:APR Supply Co. – Cherry Hill\, 1260 Marlkress Rd\, Cherry Hill\, NJ\, 08034\, United States
CATEGORIES:Training
ATTACH;FMTTYPE=image/webp:https://aprresources.com/wp-content/uploads/2024/04/Kruger-Image-2.webp
END:VEVENT
BEGIN:VEVENT
DTSTART;TZID=America/New_York:20260415T080000
DTEND;TZID=America/New_York:20260415T160000
DTSTAMP:20260424T103253
CREATED:20260318T175303Z
LAST-MODIFIED:20260318T190253Z
UID:10001365-1776240000-1776268800@aprresources.com
SUMMARY:Fujitsu Next Tech Greensburg
DESCRIPTION:This entry-level class’s goal is to assist technicians and installers who work with mini-split systems to be more familiar with installation and application differences from traditional unitary systems\, without boring them to death with sales jargon and promotion. \nThis course provides a great technical overview of Fujitsu’s Halcyon products\, as well as the newest products released by Fujitsu including their new A2L compliant models. It provides a more technical perspective than the FAST class\, while complementing it with application ideas\, pictures\, installation hints\, tips and requirements. Troubleshooting sections offer excellent guidance for system and component troubleshooting. This full-day course helps ensure all participants receive the basics skills and knowledge to apply and support Fujitsu mini-split products. \n* includes light breakfast\, lunch and all class materials \n \n**Click here to view APR’s new registration and cancellation policies. \n 
URL:https://aprresources.com/event/fujitsu-next-tech-greensburg-2/
LOCATION:APR Supply Co – Greensburg\, 219 Humphrey Road\, Greensburg\, PA\, 15601\, United States
CATEGORIES:Training
ATTACH;FMTTYPE=image/png:https://aprresources.com/wp-content/uploads/2024/01/Fujitsu-Featured-Pic-.png
ORGANIZER;CN="APR Marketing Department":MAILTO:marketing@aprsupply.com
END:VEVENT
END:VCALENDAR